Workbook

Sheet Пояснения
A1: Пояснения к заполнению заявки на регистрацию и формирование положения фестиваля
A3: Данная форма позволяет автоматизировать вышеуказанные процессы.
A4: Поля для внесения информации делятся на три типа:
B5: 1. Поля требующие внесения определенной информации по шаблону: в самих полях серым курсивом показан формат или пример заполнения. Все эти поля обязательны к заполнению, за исключением данных о членах Руководства жюри — если членов руководства меньше, чем в форме, то лишние поля можно не заполнять
B6: 2. Поля, в которых внесена типовая информация, которая при необходимости может быть дополнена.
B7: 3. Поля, в которых требуется лишь проставить знак «+»: Эти поля используются для варианта «выбрано-не выбрано». ВНИМАНИЕ!!! В связи с использованием платформы EXCEL, для подтверждения выбора в данном поле внесенный знак «+» следует подтвердить нажатием клавиши «Enter»
A9: Для упрощения и ускорения процесса все листы защищены от непреднамеренного внесения данных, поэтому для перемещения от поля к полю лучше использовать кнопку «TAB» или «стрелки перемещения»
A11: 1. Начинаем с заполнения листа «Общие данные», где вносятся все основные данные по фестивалю
A13: 2. Затем заполняются листы, в которых выбираются категории, которые включены в фестиваль. Заполняем только листы, соответствующие Вашему мероприятию
B14: Листы для заполнения по порядку слева-направо:
B15: КРТ — заполняются данные только по форме КРТ
B16: Рейтинги пары — рейтинговые номинации пар
B17: Rising Stars — «Восходящие звезды» только для пар
B18: Уровни пары — данные по уровневым категориям пар
B19: Рейтинги соло — заполняются данные только по номинациям солистов в рейтинговой форме
B20: Rising Stars соло — соревнования Rising Stars среди солистов
B21: Уровни соло — данные по классификационным соревнованиям солистов
B22: Главные Фестивали — заполняется только в случае когда в рамках фестиваля проводятся Главные Фестивали по отдельным категориям (кроме команд)
B23: ПРОФЕССИОНАЛЫ — заполняется для любых категорий Профессионалы в рамках фестиваля
B24: American Smooth — заполняется для соответствующих категорий. (Примечание: В столбце возрастная категория необходимо внести название категории)
B25: ШБТ, Кубки танцев — заполняется при включении регистрации школы танца в общую регистрацию, также используется для регистрации кубков по отдельным танцам для всех категорий участников

Sheet Общие данные
B1: Заявка на формирование положения фестиваля и регистрации
C3: начало | E3: конец Для 2-х дневного | M3: Версия от 10.10.2026
B4: Дата проведения | C4: 00.00.0000 | I4: Организация осуществляющая общее руководство, | J4: Например: НТС, ОФСТ, РО Орловской области
I5: и сайт данной организации:
C6: Отметить «+» один вариант
B7: Статус | C7: Региональное мероприятие | L7: Категория фестиваля
C8: Межрегиональный Этап Рейтинга НТС | L8: (оставить одну)
C9: Всероссийский Этап Рейтинга НТС | L9: A
C10: Международный Этап Рейтинга НТС | L10: B
C11: Отметить «+» если на фестивале проводятся категории соответствующего ранга | L11: C
B12: Ранг | C12: Главный Уровневый Фестиваль РО/региональной организации
C13: Главный Рейтинговый Фестиваль РО/региональной организации
E15: Название фестиваля без кавычек | F15: Название фестиваля без кавычек
B18: Место проведения фестиваля
B20: Страна | C20: Россия | F20: Регион | G20: Регион | K20: Город | L20: Город
B22: Адрес | C22: Адрес | K22: Место | L22: Место
B24: Проезд | C24: Проезд
B29: Непосредственный организатор фестиваля | J29: Региональное отделение/организация | K29: например: РО города Севастополя
B31: Клуб | C31: например: ТК «Вдохновение» | J31: Ответственное лицо | K31: Фамилия Имя
B33: Контактные данные | C33: электронная почта: mail@mail.ru, телефон: +7 (000) 000-00-00
B36: Руководство жюри фестиваля (указывается Фамилия Имя)
C38: Председатель жюри | E38: Фамилия Имя | H38: =IF(ISNA(Рабочий!J1),"Проверьте, пожалуйста, правильность написания 'Фамилии Имени'. Если все верно, то о эксперт не может быть председателем жюри Этапов Рейтинга. Для региональных фестивалей внесите, пожалуйста, в данное поле должность и категорию эксперта",Рабочий!K1)
C41: Председатель жюри | E41: Фамилия Имя | H41: =IF(ISNA(Рабочий!J4),"Проверьте, пожалуйста, правильность написания 'Фамилии Имени'. Если все верно, то о эксперт не может быть председателем жюри Этапов Рейтинга. Для региональных фестивалей внесите, пожалуйста, в данное поле должность и категорию эксперта",Рабочий!K4)
C44: Заместитель председателя жюри | E44: Фамилия Имя | H44: =IF(ISNA(Рабочий!J7),"Проверьте, пожалуйста, правильность написания 'Фамилии Имени'. Если все верно, то об эксперте отсутствуют данные о статусе (должность, категория), внесите, пожалуйста их в данное поле",Рабочий!K7)
C47: Заместитель председателя жюри | E47: Фамилия Имя | H47: =IF(ISNA(Рабочий!J10),"Проверьте, пожалуйста, правильность написания 'Фамилии Имени'. Если все верно, то об эксперте отсутствуют данные о статусе (должность, категория), внесите, пожалуйста их в данное поле",Рабочий!K10)
B50: Заместитель председателя жюри на правах организатора | E50: Фамилия Имя | H50: =IF(ISNA(Рабочий!J13),"Проверьте, пожалуйста, правильность написания 'Фамилии Имени'. Если все верно, то о судье отсутствуют данные о статусе (должность, судейская категория), внесите, пожалуйста их в данное поле",Рабочий!K13)
C53: Главный секретарь | E53: Фамилия Имя | H53: =IF(ISNA(Рабочий!J16),"Проверьте, пожалуйста, правильность написания 'Фамилии Имени'. Если все верно, то об эксперте отсутствуют данные о статусе (должность, категория), внесите, пожалуйста их в данное поле",Рабочий!K16)
C56: Главный секретарь | E56: Фамилия Имя | H56: =IF(ISNA(Рабочий!J19),"Проверьте, пожалуйста, правильность написания 'Фамилии Имени'. Если все верно, то об эксперте отсутствуют данные о статусе (должность, категория), внесите, пожалуйста их в данное поле",Рабочий!K19)
B60: Жюри фестиваля
D62: Порядок формирования | E62: Жюри формируется по усмотрению организатора фестиваля при согласовании с Председателем Коллегии жюри, прежде всего, из членов коллегии, имеющих право работы на межрегиональных, всероссийских и международных фестивалей Номинация на фестиваль: Руководители региональных отделений , чьи пары участвуют в данном фестивале, могут номинировать членов жюри при согласовании с организатором фестиваля. Командировочные расходы по проезду и проживанию иногородних членов жюри номинированных от регионального отделения, региональной организации не более двух в один день фестиваля за счёт организатора фестиваля, при условии не менее пяти пар на одного члена жюри от организации. В ином случае командировочные расходы за счёт командирующих организаций или по согласованию с организатором фестиваля.
D64: Порядок согласования жюри | E64: Согласование формирования жюри фестиваля с организатором проходит до (дата) по e-mail: (адрес почты) или телефону (номер телефона)
D66: Дата заезда | E66: 00.00.0000 | J66: Дата отъезда | K66: 00.00.0000
D69: Председатель счетной комиссии | E69: Фамилия Имя | H69: =Рабочий!P1
B72: Заезд, проживание, предварительная регистрация участников
D74: Дата заезда | E74: 00.00.0000
D76: Дата отъезда | E76: 00.00.0000
B78: Информация по размещению и бронированию гостиницы | E78: Информация по размещению и бронированию гостиницы
B80: Заключительный день Предварительной регистрации | E80: 00.00.0000 | G80: =IF(E80<>"00.00.0000",CONCATENATE(" ",TEXT(E80,"DDDD")," до 23:59:59")," до 23:59:59") -> до 23:59:59 | J80: Начало регистрации В день мероприятия за | K80: 0.0625 | L80: окончание за | M80: 0.020833333
B83: Прочие условия | I83: Сайт фестиваля | J83: https://sait.ru
D85: Финансовые условия | E85: стоимость участия, билеты сопровождающих
B87: Распределение по залам
E88: Название основного зала | I88: Название дополнительного зала
D89: + | E89: Основной зал | I89: Дополнительный зал
B91: =IF(H89<>"",CONCATENATE(I89,". Руководство жюри фестиваля"),"")
C93: =IF(H89<>"","Председатель жюри","") | E93: Фамилия Имя | H93: =IF(ISNA(Рабочий!$J37),"Проверьте, пожалуйста, правильность написания 'Фамилии Имени'. Если все верно, то о судье отсутствуют данные о статусе (должность, судейская категория), внесите, пожалуйста их в данное поле",Рабочий!$K37)
C96: =IF(H89<>"","Заместитель председателя жюри","") | E96: Фамилия Имя | H96: =IF(ISNA(Рабочий!$J40),"Проверьте, пожалуйста, правильность написания 'Фамилии Имени'. Если все верно, то о судье отсутствуют данные о статусе (должность, судейская категория), внесите, пожалуйста их в данное поле",Рабочий!$K40)
C99: =IF(H89<>"","Заместитель председателя жюри","") | E99: Фамилия Имя | H99: =IF(ISNA(Рабочий!$J43),"Проверьте, пожалуйста, правильность написания 'Фамилии Имени'. Если все верно, то о судье отсутствуют данные о статусе (должность, судейская категория), внесите, пожалуйста их в данное поле",Рабочий!$K43)
C102: =IF(H89<>"","Главный секретарь","") | E102: Фамилия Имя | H102: =IF(ISNA(Рабочий!$J46),"Проверьте, пожалуйста, правильность написания 'Фамилии Имени'. Если все верно, то о судье отсутствуют данные о статусе (должность, судейская категория), внесите, пожалуйста их в данное поле",Рабочий!$K46)

Sheet Реквизиты
D2: Форма проведения | E2: Реквизиты платной регистрации | G2: Поставить «+» если форма используется
B5: Страница заполняется только при проведении предварительной регистрации с оплатой по QR-коду
E8: Юридическое название организатора
E9: ИНН организатора | L9: «N+E», «D»
E10: КПП организатора (для юр.лиц — организаций) | L10: «N+E», «D», «C»
E11: Юридический адрес организатора | L11: «N+E», «D», «C», «B»
E12: Название банка | L12: «N+E», «D», «C», «B», «A»
E13: БИК банка | L13: «N+E», «D», «C», «B», «A+S+I»
E14: Расчетный счет | L14: «N+E», «D», «C», «B», «A+S+I»
E15: Корр. Счет | L15: «N+E», «D», «C», «B», «A+S+I»

Sheet КРТ
D2: Форма проведения | E2: КРТ (пары) | K2: Поставить «+» если форма используется
B5: Заполните, пожалуйста, необходимые поля. Заполняться могут только поля с белым фоном!!! Для платной регистрации вместо «+» проставляется стоимость участия х2 — за пару
C7: Возрастные категории | E7: Уточнение по статусу, рангу для категории | F7: ST | G7: День | H7: LA | I7: День | J7: 10 танцев | K7: Допуск
E8: (поле необязательно для заполнения) | F8: (+ если есть) | G8: (1 или 2) | H8: (+ если есть) | I8: (1 или 2) | J8: (+ если есть) | K8: по возрасту
B9: =CONCATENATE(IF(F9<>"",G9,0),IF(H9<>"",I9,0),0) -> 110 | C9: Ювеналы-1 | F9: + | G9: 1 | H9: + | I9: 1 | J9: + | P9: «N+E», «D»
B10: =CONCATENATE(IF(F10<>"",G10,0),IF(H10<>"",I10,0),0) -> 110 | C10: Ювеналы-2 | F10: + | G10: 1 | H10: + | I10: 1 | J10: + | K10: +Юв-1 | P10: «N+E», «D», «C»
B11: =CONCATENATE(IF(F11<>"",G11,0),IF(H11<>"",I11,0),0) -> 110 | C11: Юниоры-1 | F11: + | G11: 1 | H11: + | I11: 1 | J11: + | K11: +Юв-2 | P11: «N+E», «D», «C», «B»
B12: =CONCATENATE(IF(F12<>"",G12,0),IF(H12<>"",I12,0),0) -> 110 | C12: Юниоры-2 | F12: + | G12: 1 | H12: + | I12: 1 | J12: + | K12: +Юн-1 | P12: «N+E», «D», «C», «B», «A»
B13: =CONCATENATE(IF(F13<>"",G13,0),IF(H13<>"",I13,0),0) -> 110 | C13: Молодежь-1 | F13: + | G13: 1 | H13: + | I13: 1 | J13: + | K13: +Юн-2 | P13: «N+E», «D», «C», «B», «A+S+I»
B14: =CONCATENATE(IF(F14<>"",G14,0),IF(H14<>"",I14,0),0) -> 110 | C14: Молодежь-2 | F14: + | G14: 1 | H14: + | I14: 1 | J14: + | K14: +Мол-1 | P14: «N+E», «D», «C», «B», «A+S+I»
B15: =CONCATENATE(IF(F15<>"",G15,0),IF(H15<>"",I15,0),0) -> 110 | C15: Взрослые | F15: + | G15: 1 | H15: + | I15: 1 | J15: + | K15: +Мол-2 | P15: «N+E», «D», «C», «B», «A+S+I»
F16: =COUNTBLANK(F9:F15) -> 0 | H16: =COUNTBLANK(H9:H15) -> 0 | J16: =COUNTBLANK(J9:J15) -> 0
C17: Способ проведения
D18: С одним финалом | G18: + | H18: С финалом в каждом танце начиная с ¼ финала
C23: Условия зачета и награждение
C24: Ранжирование производится в каждом заявленном виде танцев в каждой возрастной группе. Лучшие 6-8 пар в каждом уровне программы сложности каждой возрастной группе в стандарте и латине награждаются дипломами. 1-3 места в возрастной группе во всех заявленных видах награждаются медалями, кубками, все финалисты награждаются дипломами.

Sheet Рейтинги пары
D2: Форма проведения | E2: Рейтинговая (пары) | K2: Поставить «+» если форма используется
B5: Заполните, пожалуйста, необходимые поля. Заполняться могут только поля с белым фоном!!! Для платной регистрации вместо «+» проставляется стоимость участия х2 — за пару
C7: Возрастные категории | E7: Уточнение по статусу, рангу для категории | F7: ST | G7: День | H7: LA | I7: День | J7: 10 танцев | K7: День | L7: Допуск
E8: (поле необязательно для заполнения) | F8: (+ если есть) | G8: (1 или 2) | H8: (+ если есть) | I8: (1 или 2) | J8: (+ если есть) | K8: (1 или 2) | L8: по возрасту
B9: =CONCATENATE(IF(F9<>"",G9,0),IF(H9<>"",I9,0),IF(J9<>"",K9,0)) -> 110 | C9: Ювеналы-1 | F9: + | G9: 1 | H9: + | I9: 1
B10: =CONCATENATE(IF(F10<>"",G10,0),IF(H10<>"",I10,0),IF(J10<>"",K10,0)) -> 110 | C10: Ювеналы-2 | F10: + | G10: 1 | H10: + | I10: 1 | L10: +Юв-1
B11: =CONCATENATE(IF(F11<>"",G11,0),IF(H11<>"",I11,0),IF(J11<>"",K11,0)) -> 110 | C11: Юниоры-1 | F11: + | G11: 1 | H11: + | I11: 1 | L11: +Юв-2
B12: =CONCATENATE(IF(F12<>"",G12,0),IF(H12<>"",I12,0),IF(J12<>"",K12,0)) -> 110 | C12: Юниоры-2 | F12: + | G12: 1 | H12: + | I12: 1 | L12: +Юн-1
B13: =CONCATENATE(IF(F13<>"",G13,0),IF(H13<>"",I13,0),IF(J13<>"",K13,0)) -> 110 | C13: Молодежь-1 | F13: + | G13: 1 | H13: + | I13: 1 | L13: +Юн-2
B14: =CONCATENATE(IF(F14<>"",G14,0),IF(H14<>"",I14,0),IF(J14<>"",K14,0)) -> 110 | C14: Молодежь-2 | F14: + | G14: 1 | H14: + | I14: 1 | L14: +Мол-1
B15: =CONCATENATE(IF(F15<>"",G15,0),IF(H15<>"",I15,0),IF(J15<>"",K15,0)) -> 110 | C15: Взрослые | F15: + | G15: 1 | H15: + | I15: 1 | L15: +Мол-2
B16: =CONCATENATE(IF(F16<>"",G16,0),IF(H16<>"",I16,0),IF(J16<>"",K16,0)) -> 110 | C16: Сеньоры | F16: + | G16: 1 | H16: + | I16: 1
C18: Способ проведения
C19: + | D19: С одним финалом | H19: С финалом в каждом танце начиная с ¼ финала
C24: Условия зачета и награждения
C25: Ранжирование производится в каждом виде и в каждой возрастной группе: Финалисты награждаются дипломами. 1-3 места в возрастной группе в каждом виде танцев награждаются кубками, медалями.

Sheet Rising Stars
D2: Форма проведения | E2: Рейтинговая, Rising Stars (пары) | K2: Поставить «+» если форма используется
B5: Заполните, пожалуйста, необходимые поля. Заполняться могут только поля с белым фоном!!! Для платной регистрации вместо «+» проставляется стоимость участия х2 — за пару
C7: Возрастные категории | E7: Уточнение по статусу, рангу для категории | F7: ST | G7: День | H7: LA | I7: День | J7: Допуск
E8: (поле необязательно для заполнения) | F8: (+ если есть) | G8: (1 или 2) | H8: (+ если есть) | I8: (1 или 2) | J8: по возрасту
B9: =CONCATENATE(IF(F9<>"",G9,0),IF(H9<>"",I9,0),0) -> 110 | C9: Ювеналы-2 RS | F9: + | G9: 1 | H9: + | I9: 1 | J9: +Юв-1
B10: =CONCATENATE(IF(F10<>"",G10,0),IF(H10<>"",I10,0),0) -> 110 | C10: Юниоры-1 RS | F10: + | G10: 1 | H10: + | I10: 1 | J10: +Юв-2
B11: =CONCATENATE(IF(F11<>"",G11,0),IF(H11<>"",I11,0),0) -> 110 | C11: Юниоры-2 RS | F11: + | G11: 1 | H11: + | I11: 1 | J11: +Юн-1
B12: =CONCATENATE(IF(F12<>"",G12,0),IF(H12<>"",I12,0),0) -> 110 | C12: Молодежь-1 RS | F12: + | G12: 1 | H12: + | I12: 1 | J12: +Юн-2
B13: =CONCATENATE(IF(F13<>"",G13,0),IF(H13<>"",I13,0),0) -> 110 | C13: Молодежь-2 RS | F13: + | G13: 1 | H13: + | I13: 1 | J13: +Мол-1
B14: =CONCATENATE(IF(F14<>"",G14,0),IF(H14<>"",I14,0),0) -> 110 | C14: Взрослые RS | F14: + | G14: 1 | H14: + | I14: 1 | J14: +Мол-2
C19: Условия зачета и награждения
C20: Ранжирование производится в стандарте, латине в каждой возрастной группе: Финалисты награждаются дипломами. 1-3 места в возрастной группе в каждом виде танцев награждаются кубками, медалями.

Sheet Уровни пары
G2: Форма проведения | J2: Уровневая | Y2: Поставить «+» если форма используется
E5: Пояснение к таблице: | F5: - Только категории, отображенные зеленым цветом войдут в программу фестиваля. Чтобы убрать/добавить категорию из программы необходимо убрать/поставить символ "+" в клетку перед ее названием (для платной регистрации — стоимость участия x2 — за пару)
F6: - При добавлении смежных категорий необходимо помнить, что в таблице к основному возрасту всегда добавляется возраст старше, к основному уровню добавляется уровень старше
F7: - Разрешены для правки только клетки с белым(!!!) фоном.
F8: - Темно-серый фон в клетках, где категория противоречит правилам
F9: - Выбор программы: в столбце программы ставится день, в который проходит данная программа, если данной программы нет на турнире — ячейка должна быть пустой | X9: День проведения одновременно для всех категорий | AB9: 1
C10: Программа сложности N
C11: Возраст | E11: N | F11: Категории (только N) | G11: День | K11: Смеж возр | L11: Категории со смежными возрастами | M11: День | Q11: Смеж ур | R11: Категории со смежными уровнями | S11: День | W11: Смеж ур+возр | X11: Категории со смежными уровнями и возрастами | Y11: День
G12: ST | H12: LA | I12: 10 | M12: ST | N12: LA | O12: 10 | S12: ST | T12: LA | U12: 10 | Y12: ST | Z12: LA | AA12: 10
C13: N 7 и моложе | F13: N 7 и моложе | G13: =$AB$9 -> 1 | H13: =$AB$9 -> 1 | K13: X | Q13: X | W13: X
C14: Ювеналы-1 | F14: Ювеналы-1 N | G14: =$AB$9 -> 1 | H14: =$AB$9 -> 1 | L14: Ювеналы-1+2 N | M14: =$AB$9 -> 1 | N14: =$AB$9 -> 1 | R14: Ювеналы-1 N+E | S14: =$AB$9 -> 1 | T14: =$AB$9 -> 1 | X14: Ювеналы-1+2 N+E | Y14: =$AB$9 -> 1 | Z14: =$AB$9 -> 1
C15: Ювеналы-2 | F15: Ювеналы-2 N | G15: =$AB$9 -> 1 | H15: =$AB$9 -> 1 | L15: Ювеналы-2+Юниоры-1 N | M15: =$AB$9 -> 1 | N15: =$AB$9 -> 1 | R15: Ювеналы-2 N+E | S15: =$AB$9 -> 1 | T15: =$AB$9 -> 1 | X15: Ювеналы-2+Юниоры-1 N+E | Y15: =$AB$9 -> 1 | Z15: =$AB$9 -> 1
C16: Юниоры-1 | F16: Юниоры-1 N | G16: =$AB$9 -> 1 | H16: =$AB$9 -> 1 | L16: Юниоры-1+2 N | M16: =$AB$9 -> 1 | N16: =$AB$9 -> 1 | R16: Юниоры-1 N+E | S16: =$AB$9 -> 1 | T16: =$AB$9 -> 1 | X16: Юниоры-1+2 N+E | Y16: =$AB$9 -> 1 | Z16: =$AB$9 -> 1
C17: Юниоры-2 | F17: Юниоры-2 N | G17: =$AB$9 -> 1 | H17: =$AB$9 -> 1 | L17: Юниоры-2+Молодежь N | M17: =$AB$9 -> 1 | N17: =$AB$9 -> 1 | R17: Юниоры-2 N+E | S17: =$AB$9 -> 1 | T17: =$AB$9 -> 1 | X17: Юниоры-2+Молодежь N+E | Y17: =$AB$9 -> 1 | Z17: =$AB$9 -> 1
C18: Молодежь | F18: Молодежь N | G18: =$AB$9 -> 1 | H18: =$AB$9 -> 1 | L18: Молодежь+Взрослые N | M18: =$AB$9 -> 1 | N18: =$AB$9 -> 1 | R18: Молодежь N+E | S18: =$AB$9 -> 1 | T18: =$AB$9 -> 1 | X18: Молодежь+Взрослые N+E | Y18: =$AB$9 -> 1 | Z18: =$AB$9 -> 1
C19: Взрослые | F19: Взрослые N | G19: =$AB$9 -> 1 | H19: =$AB$9 -> 1 | K19: X | R19: Взрослые N+E | S19: =$AB$9 -> 1 | T19: =$AB$9 -> 1 | W19: X
C21: Программа сложности E
C22: Возраст | E22: E | F22: Категории (только E) | G22: День | K22: Смеж возр | L22: Категории со смежными возрастами | M22: День | Q22: Смеж ур | R22: Категории со смежными уровнями | S22: День | W22: Смеж ур+возр | X22: Категории со смежными уровнями и возрастами | Y22: День
G23: ST | H23: LA | I23: 10 | M23: ST | N23: LA | O23: 10 | S23: ST | T23: LA | U23: 10 | Y23: ST | Z23: LA | AA23: 10
C24: Ювеналы-1 | F24: Ювеналы-1 E | G24: =$AB$9 -> 1 | H24: =$AB$9 -> 1 | L24: Ювеналы-1+2 E | M24: =$AB$9 -> 1 | N24: =$AB$9 -> 1 | R24: Ювеналы-1 E+D | S24: =$AB$9 -> 1 | T24: =$AB$9 -> 1 | X24: Ювеналы-1+2 E+D | Y24: =$AB$9 -> 1 | Z24: =$AB$9 -> 1
C25: Ювеналы-2 | F25: Ювеналы-2 E | G25: =$AB$9 -> 1 | H25: =$AB$9 -> 1 | L25: Ювеналы-2+Юниоры-1 E | M25: =$AB$9 -> 1 | N25: =$AB$9 -> 1 | R25: Ювеналы-2 E+D | S25: =$AB$9 -> 1 | T25: =$AB$9 -> 1 | X25: Ювеналы-2+Юниоры-1 E+D | Y25: =$AB$9 -> 1 | Z25: =$AB$9 -> 1
C26: Юниоры-1 | F26: Юниоры-1 E | G26: =$AB$9 -> 1 | H26: =$AB$9 -> 1 | L26: Юниоры-1+2 E | M26: =$AB$9 -> 1 | N26: =$AB$9 -> 1 | R26: Юниоры-1 E+D | S26: =$AB$9 -> 1 | T26: =$AB$9 -> 1 | X26: Юниоры-1+2 E+D | Y26: =$AB$9 -> 1 | Z26: =$AB$9 -> 1
C27: Юниоры-2 | F27: Юниоры-2 E | G27: =$AB$9 -> 1 | H27: =$AB$9 -> 1 | L27: Юниоры-2+Молодежь E | M27: =$AB$9 -> 1 | N27: =$AB$9 -> 1 | R27: Юниоры-2 E+D | S27: =$AB$9 -> 1 | T27: =$AB$9 -> 1 | X27: Юниоры-2+Молодежь E+D | Y27: =$AB$9 -> 1 | Z27: =$AB$9 -> 1
C28: Молодежь | F28: Молодежь E | G28: =$AB$9 -> 1 | H28: =$AB$9 -> 1 | L28: Молодежь+Взрослые E | M28: =$AB$9 -> 1 | N28: =$AB$9 -> 1 | R28: Молодежь E+D | S28: =$AB$9 -> 1 | T28: =$AB$9 -> 1 | X28: Молодежь+Взрослые E+D | Y28: =$AB$9 -> 1 | Z28: =$AB$9 -> 1
C29: Взрослые | F29: Взрослые E | G29: =$AB$9 -> 1 | H29: =$AB$9 -> 1 | K29: X | R29: Взрослые E+D | S29: =$AB$9 -> 1 | T29: =$AB$9 -> 1 | W29: X
C31: Программа сложности D
C32: Возраст | E32: D | F32: Категории (только D) | G32: День | K32: Смеж возр | L32: Категории со смежными возрастами | M32: День | Q32: Смеж ур | R32: Категории со смежными уровнями | S32: День | W32: Смеж ур+возр | X32: Категории со смежными уровнями и возрастами | Y32: День
G33: ST | H33: LA | I33: 10 | M33: ST | N33: LA | O33: 10 | S33: ST | T33: LA | U33: 10 | Y33: ST | Z33: LA | AA33: 10
C34: Ювеналы-1 | F34: Ювеналы-1 D | G34: =$AB$9 -> 1 | H34: =$AB$9 -> 1 | L34: Ювеналы-1+2 D | M34: =$AB$9 -> 1 | N34: =$AB$9 -> 1 | Q34: X | X34: Ювеналы-1+2 D+C | Y34: =$AB$9 -> 1 | Z34: =$AB$9 -> 1
C35: Ювеналы-2 | F35: Ювеналы-2 D | G35: =$AB$9 -> 1 | H35: =$AB$9 -> 1 | L35: Ювеналы-2+Юниоры-1 D | M35: =$AB$9 -> 1 | N35: =$AB$9 -> 1 | R35: Ювеналы-2 D+C | S35: =$AB$9 -> 1 | T35: =$AB$9 -> 1 | X35: Ювеналы-2+Юниоры-1 D+C | Y35: =$AB$9 -> 1 | Z35: =$AB$9 -> 1
C36: Юниоры-1 | F36: Юниоры-1 D | G36: =$AB$9 -> 1 | H36: =$AB$9 -> 1 | L36: Юниоры-1+2 D | M36: =$AB$9 -> 1 | N36: =$AB$9 -> 1 | R36: Юниоры-1 D+C | S36: =$AB$9 -> 1 | T36: =$AB$9 -> 1 | X36: Юниоры-1+2 D+C | Y36: =$AB$9 -> 1 | Z36: =$AB$9 -> 1
C37: Юниоры-2 | F37: Юниоры-2 D | G37: =$AB$9 -> 1 | H37: =$AB$9 -> 1 | L37: Юниоры-2+Молодежь D | M37: =$AB$9 -> 1 | N37: =$AB$9 -> 1 | R37: Юниоры-2 D+C | S37: =$AB$9 -> 1 | T37: =$AB$9 -> 1 | X37: Юниоры-2+Молодежь D+C | Y37: =$AB$9 -> 1 | Z37: =$AB$9 -> 1
C38: Молодежь | F38: Молодежь D | G38: =$AB$9 -> 1 | H38: =$AB$9 -> 1 | L38: Молодежь+Взрослые D | M38: =$AB$9 -> 1 | N38: =$AB$9 -> 1 | R38: Молодежь D+C | S38: =$AB$9 -> 1 | T38: =$AB$9 -> 1 | X38: Молодежь+Взрослые D+C | Y38: =$AB$9 -> 1 | Z38: =$AB$9 -> 1
C39: Взрослые | F39: Взрослые D | G39: =$AB$9 -> 1 | H39: =$AB$9 -> 1 | K39: X | R39: Взрослые D+C | S39: =$AB$9 -> 1 | T39: =$AB$9 -> 1 | W39: X
C41: Программа сложности C
C42: Возраст | E42: C | F42: Категории (только C) | G42: День | K42: Смеж возр | L42: Категории со смежными возрастами | M42: День | Q42: Смеж ур | R42: Категории со смежными уровнями | S42: День | W42: Смеж ур+возр | X42: Категории со смежными уровнями и возрастами | Y42: День
G43: ST | H43: LA | I43: 10 | M43: ST | N43: LA | O43: 10 | S43: ST | T43: LA | U43: 10 | Y43: ST | Z43: LA | AA43: 10
C44: Ювеналы-1 | E44: X | K44: X | Q44: X | W44: X
C45: Ювеналы-2 | F45: Ювеналы-2 C | G45: =$AB$9 -> 1 | H45: =$AB$9 -> 1 | L45: Ювеналы-2+Юниоры-1 C | M45: =$AB$9 -> 1 | N45: =$AB$9 -> 1 | Q45: X | X45: Ювеналы-2+Юниоры-1 C+B | Y45: =$AB$9 -> 1 | Z45: =$AB$9 -> 1
C46: Юниоры-1 | F46: Юниоры-1 C | G46: =$AB$9 -> 1 | H46: =$AB$9 -> 1 | L46: Юниоры-1+2 C | M46: =$AB$9 -> 1 | N46: =$AB$9 -> 1 | R46: Юниоры-1 C+B | S46: =$AB$9 -> 1 | T46: =$AB$9 -> 1 | X46: Юниоры-1+2 C+B | Y46: =$AB$9 -> 1 | Z46: =$AB$9 -> 1
C47: Юниоры-2 | F47: Юниоры-2 C | G47: =$AB$9 -> 1 | H47: =$AB$9 -> 1 | L47: Юниоры-2+Молодежь C | M47: =$AB$9 -> 1 | N47: =$AB$9 -> 1 | R47: Юниоры-2 C+B | S47: =$AB$9 -> 1 | T47: =$AB$9 -> 1 | X47: Юниоры-2+Молодежь C+B | Y47: =$AB$9 -> 1 | Z47: =$AB$9 -> 1
C48: Молодежь | F48: Молодежь C | G48: =$AB$9 -> 1 | H48: =$AB$9 -> 1 | L48: Молодежь+Взрослые C | M48: =$AB$9 -> 1 | N48: =$AB$9 -> 1 | R48: Молодежь C+B | S48: =$AB$9 -> 1 | T48: =$AB$9 -> 1 | X48: Молодежь+Взрослые C+B | Y48: =$AB$9 -> 1 | Z48: =$AB$9 -> 1
C49: Взрослые | F49: Взрослые C | G49: =$AB$9 -> 1 | H49: =$AB$9 -> 1 | K49: X | R49: Взрослые C+B | S49: =$AB$9 -> 1 | T49: =$AB$9 -> 1 | W49: X
C51: Программа сложности B
C52: Возраст | E52: B | F52: Категории (только B) | G52: День | K52: Смеж возр | L52: Категории со смежными возрастами | M52: День | Q52: Смеж ур | R52: Категории со смежными уровнями | S52: День | W52: Смеж ур+возр | X52: Категории со смежными уровнями и возрастами | Y52: День
G53: ST | H53: LA | I53: 10 | M53: ST | N53: LA | O53: 10 | S53: ST | T53: LA | U53: 10 | Y53: ST | Z53: LA | AA53: 10
C54: Ювеналы-1 | E54: X | K54: X | Q54: X | W54: X
C55: Ювеналы-2 | E55: X | K55: X | Q55: X | W55: X
C56: Юниоры-1 | F56: Юниоры-1 B | G56: =$AB$9 -> 1 | H56: =$AB$9 -> 1 | L56: Юниоры-1+2 B | M56: =$AB$9 -> 1 | N56: =$AB$9 -> 1 | Q56: X | X56: Юниоры-1+2 B+A | Y56: =$AB$9 -> 1 | Z56: =$AB$9 -> 1
C57: Юниоры-2 | F57: Юниоры-2 B | G57: =$AB$9 -> 1 | H57: =$AB$9 -> 1 | L57: Юниоры-2+Молодежь B | M57: =$AB$9 -> 1 | N57: =$AB$9 -> 1 | R57: Юниоры-2 B+A | S57: =$AB$9 -> 1 | T57: =$AB$9 -> 1 | X57: Юниоры-2+Молодежь B+A | Y57: =$AB$9 -> 1 | Z57: =$AB$9 -> 1
C58: Молодежь | F58: Молодежь B | G58: =$AB$9 -> 1 | H58: =$AB$9 -> 1 | L58: Молодежь+Взрослые B | M58: =$AB$9 -> 1 | N58: =$AB$9 -> 1 | R58: Молодежь B+A | S58: =$AB$9 -> 1 | T58: =$AB$9 -> 1 | X58: Молодежь+Взрослые B+A | Y58: =$AB$9 -> 1 | Z58: =$AB$9 -> 1
C59: Взрослые | F59: Взрослые B | G59: =$AB$9 -> 1 | H59: =$AB$9 -> 1 | R59: Взрослые B+A | S59: =$AB$9 -> 1 | T59: =$AB$9 -> 1 | W59: X
C61: Программа сложности A
C62: Возраст | E62: A | F62: Категории (только A) | G62: День | K62: Смеж возр | L62: Категории со смежными возрастами | M62: День | Q62: Смеж ур | R62: Категории со смежными уровнями | S62: День | W62: Смеж ур+возр | X62: Категории со смежными уровнями и возрастами | Y62: День
G63: ST | H63: LA | I63: 10 | M63: ST | N63: LA | O63: 10 | S63: ST | T63: LA | U63: 10 | Y63: ST | Z63: LA | AA63: 10
C64: Ювеналы-1 | E64: X | K64: X | Q64: X | W64: X
C65: Ювеналы-2 | E65: X | K65: X | Q65: X | W65: X
C66: Юниоры-1 | E66: X | K66: X | Q66: X | W66: X
C67: Юниоры-2 | F67: Юниоры-2 A | G67: =$AB$9 -> 1 | H67: =$AB$9 -> 1 | L67: Юниоры-2+Молодежь A | M67: =$AB$9 -> 1 | N67: =$AB$9 -> 1 | Q67: X | X67: Юниоры-2+Молодежь A+S | Y67: =$AB$9 -> 1 | Z67: =$AB$9 -> 1
C68: Молодежь | F68: Молодежь A | G68: =$AB$9 -> 1 | H68: =$AB$9 -> 1 | L68: Молодежь+Взрослые A | M68: =$AB$9 -> 1 | N68: =$AB$9 -> 1 | R68: Молодежь A+S | S68: =$AB$9 -> 1 | T68: =$AB$9 -> 1 | X68: Молодежь+Взрослые A+S | Y68: =$AB$9 -> 1 | Z68: =$AB$9 -> 1
C69: Взрослые | F69: Взрослые A | G69: =$AB$9 -> 1 | H69: =$AB$9 -> 1 | K69: X | R69: Взрослые A+S | S69: =$AB$9 -> 1 | T69: =$AB$9 -> 1 | W69: X
C71: Способ проведения
C72: с одним финалом
C74: Допуск по возрастам
C75: В группах танцоры обязаны принимать участие в своей возрастной категории определяемой по полному количеству лет у старшего в паре на день фестиваля, за исключением случаев, когда старший в паре переходит в следующую возрастную категорию до окончания сезона (до 30 июня): в этом случае танцоры имеют право принимать участие в своей возрастной категории и/или на возраст старше
C77: Условия зачета и награждение
C78: Ранжирование производится в стандарте и латине в каждом уровне программы сложности. Финалисты в каждом уровне программы сложности, в стандарте и латине награждаются дипломами, 1-3 места в награждаются кубками, медалями.

Sheet Рейтинги соло
D2: Форма проведения | E2: Рейтинговая (соло Ж) | K2: Поставить «+» если форма используется
B5: Заполните, пожалуйста, необходимые поля. Заполняться могут только поля с белым фоном!!! Если категория указывается в статусе региональной, то EADC необходимо убрать, статус EADC возможен только на этапах Рейтинга НТС Для платной регистрации вместо «+» проставляется стоимость участия — за солиста
C7: Возрастные категории | E7: Уточнение по статусу, рангу для категории | F7: ST | G7: День | H7: LA | I7: День | J7: 10 танцев | K7: День | L7: Допуск
E8: (поле необязательно для заполнения) | F8: (+ если есть) | G8: (1 или 2) | H8: (+ если есть) | I8: (1 или 2) | J8: (+ если есть) | K8: (1 или 2) | L8: по возрасту
B9: =CONCATENATE(IF(F9<>"",G9,0),IF(H9<>"",I9,0),IF(J9<>"",K9,0)) -> 110 | C9: Ювеналы-1 соло Ж | E9: EADC | F9: + | G9: 1 | H9: + | I9: 1
B10: =CONCATENATE(IF(F10<>"",G10,0),IF(H10<>"",I10,0),IF(J10<>"",K10,0)) -> 110 | C10: Ювеналы-2 соло Ж | E10: EADC | F10: + | G10: 1 | H10: + | I10: 1 | L10: +Юв-1
B11: =CONCATENATE(IF(F11<>"",G11,0),IF(H11<>"",I11,0),IF(J11<>"",K11,0)) -> 110 | C11: Юниоры-1 соло Ж | E11: EADC | F11: + | G11: 1 | H11: + | I11: 1 | L11: +Юв-2
B12: =CONCATENATE(IF(F12<>"",G12,0),IF(H12<>"",I12,0),IF(J12<>"",K12,0)) -> 110 | C12: Юниоры-2 соло Ж | E12: EADC | F12: + | G12: 1 | H12: + | I12: 1 | L12: +Юн-1
B13: =CONCATENATE(IF(F13<>"",G13,0),IF(H13<>"",I13,0),IF(J13<>"",K13,0)) -> 110 | C13: Молодежь-1 соло Ж | E13: EADC | F13: + | G13: 1 | H13: + | I13: 1 | L13: +Юн-2
B14: =CONCATENATE(IF(F14<>"",G14,0),IF(H14<>"",I14,0),IF(J14<>"",K14,0)) -> 110 | C14: Молодежь-2 соло Ж | E14: EADC | F14: + | G14: 1 | H14: + | I14: 1 | L14: +Мол-1
B15: =CONCATENATE(IF(F15<>"",G15,0),IF(H15<>"",I15,0),IF(J15<>"",K15,0)) -> 110 | C15: Взрослые соло Ж | E15: EADC | F15: + | G15: 1 | H15: + | I15: 1 | L15: +Мол-2
B16: =CONCATENATE(IF(F16<>"",G16,0),IF(H16<>"",I16,0),IF(J16<>"",K16,0)) -> 110 | C16: Сеньоры соло Ж | E16: EADC | F16: + | G16: 1 | H16: + | I16: 1
C18: Способ проведения
D19: С одним финалом | G19: + | H19: С финалом в каждом танце начиная с полуфинала
C24: Условия зачета и награждения
C25: Ранжирование производится в стандарте, латине в каждой возрастной группе: Финалисты награждаются дипломами. 1-3 места в возрастной группе в каждом виде танцев награждаются кубками, медалями.

Sheet Rising Stars соло
D2: Форма проведения | E2: Рейтинговая, Rising Stars (соло) | K2: Поставить «+» если форма используется
B5: Заполните, пожалуйста, необходимые поля. Заполняться могут только поля с белым фоном!!! Если категория указывается в статусе региональной, то EADC необходимо убрать, статус EADC возможен только на этапах Рейтинга НТС Для платной регистрации вместо «+» проставляется стоимость участия — за солиста
C7: Возрастные категории | E7: Уточнение по статусу, рангу для категории | F7: ST | G7: День | H7: LA | I7: День | J7: Допуск
E8: (поле необязательно для заполнения) | F8: (+ если есть) | G8: (1 или 2) | H8: (+ если есть) | I8: (1 или 2) | J8: по возрасту
B9: =CONCATENATE(IF(F9<>"",G9,0),IF(H9<>"",I9,0),0) -> 110 | C9: Ювеналы-2 соло Ж RS | E9: EADC | F9: + | G9: 1 | H9: + | I9: 1 | J9: +Юв-1
B10: =CONCATENATE(IF(F10<>"",G10,0),IF(H10<>"",I10,0),0) -> 110 | C10: Юниоры-1 соло Ж RS | E10: EADC | F10: + | G10: 1 | H10: + | I10: 1 | J10: +Юв-2
B11: =CONCATENATE(IF(F11<>"",G11,0),IF(H11<>"",I11,0),0) -> 110 | C11: Юниоры-2 соло Ж RS | E11: EADC | F11: + | G11: 1 | H11: + | I11: 1 | J11: +Юн-1
B12: =CONCATENATE(IF(F12<>"",G12,0),IF(H12<>"",I12,0),0) -> 110 | C12: Молодежь-1 соло Ж RS | E12: EADC | F12: + | G12: 1 | H12: + | I12: 1 | J12: +Юн-2
B13: =CONCATENATE(IF(F13<>"",G13,0),IF(H13<>"",I13,0),0) -> 110 | C13: Молодежь-2 соло Ж RS | E13: EADC | F13: + | G13: 1 | H13: + | I13: 1 | J13: +Мол-1
B14: =CONCATENATE(IF(F14<>"",G14,0),IF(H14<>"",I14,0),0) -> 110 | C14: Взрослые соло Ж RS | E14: EADC | F14: + | G14: 1 | H14: + | I14: 1 | J14: +Мол-2
C18: Способ проведения соревнований
C19: + | D19: С одним финалом | H19: С финалом в каждом танце начиная с первого тура
C24: Условия зачета и награждения
C25: Ранжирование производится в стандарте, латине в каждой возрастной группе: Финалисты награждаются дипломами. 1-3 места в возрастной группе в каждом виде танцев награждаются кубками, медалями.

Sheet Уровни соло
G2: Форма проведения | J2: Уровневая (соло Ж) | Y2: Поставить «+» если форма используется
E5: Пояснение к таблице: | F5: - Только категории, отображенные зеленым цветом войдут в программу фестиваля. Чтобы убрать/добавить категорию из программы необходимо убрать/поставить символ "+" в клетку перед с ее названием. (для платной регистрации — стоимость участия за солиста)
F6: - При добавлении смежных категорий необходимо помнить, что в таблице к основному возрасту всегда добавляется возраст старше, к основному уровню добавляется уровень старше
F7: - Разрешены для правки только клетки с белым(!!!) фоном.
F8: - Темно-серый фон в клетках, где категория противоречит правилам
F9: - Выбор программы: в столбце программы ставится день, в который проходит данная программа, если данной программы нет на турнире — ячейка должна быть пустой | X9: День проведения одновременно для всех сольных категорий | AB9: 1
C10: Программа сложности N
C11: Возраст | E11: N | F11: Категории (только N) | G11: День | K11: Смеж возр | L11: Категории со смежными возрастами | M11: День | Q11: Смеж Ур | R11: Категории со смежными уровнями | S11: День | W11: Смеж ур+возр | X11: Категория со смежными уровнями и возрастами | Y11: День
G12: ST | H12: LA | I12: 10 | M12: ST | N12: LA | O12: 10 | S12: ST | T12: LA | U12: 10 | Y12: ST | Z12: LA | AA12: 10
C13: N 7 и моложе | F13: N 7 и моложе соло Ж | G13: =$AB$9 -> 1 | H13: =$AB$9 -> 1 | K13: X | Q13: X | W13: X
C14: Ювеналы-1 | F14: Ювеналы-1 N соло Ж | G14: =$AB$9 -> 1 | H14: =$AB$9 -> 1 | L14: Ювеналы-1+2 N соло Ж | M14: =$AB$9 -> 1 | N14: =$AB$9 -> 1 | R14: Ювеналы-1 N+E соло Ж | S14: =$AB$9 -> 1 | T14: =$AB$9 -> 1 | X14: Ювеналы-1+2 N+E соло Ж | Y14: =$AB$9 -> 1 | Z14: =$AB$9 -> 1
C15: Ювеналы-2 | F15: Ювеналы-2 N соло Ж | G15: =$AB$9 -> 1 | H15: =$AB$9 -> 1 | L15: Ювеналы-2+Юниоры-1 N соло Ж | M15: =$AB$9 -> 1 | N15: =$AB$9 -> 1 | R15: Ювеналы-2 N+E соло Ж | S15: =$AB$9 -> 1 | T15: =$AB$9 -> 1 | X15: Ювеналы-2+Юниоры-1 N+E соло Ж | Y15: =$AB$9 -> 1 | Z15: =$AB$9 -> 1
C16: Юниоры-1 | F16: Юниоры-1 N соло Ж | G16: =$AB$9 -> 1 | H16: =$AB$9 -> 1 | L16: Юниоры-1+2 N соло Ж | M16: =$AB$9 -> 1 | N16: =$AB$9 -> 1 | R16: Юниоры-1 N+E соло Ж | S16: =$AB$9 -> 1 | T16: =$AB$9 -> 1 | X16: Юниоры-1+2 N+E соло Ж | Y16: =$AB$9 -> 1 | Z16: =$AB$9 -> 1
C17: Юниоры-2 | F17: Юниоры-2 N соло Ж | G17: =$AB$9 -> 1 | H17: =$AB$9 -> 1 | L17: Юниоры-2+Молодежь N соло Ж | M17: =$AB$9 -> 1 | N17: =$AB$9 -> 1 | R17: Юниоры-2 N+E соло Ж | S17: =$AB$9 -> 1 | T17: =$AB$9 -> 1 | X17: Юниоры-2+Молодежь N+E соло Ж | Y17: =$AB$9 -> 1 | Z17: =$AB$9 -> 1
C18: Молодежь | F18: Молодежь N соло Ж | G18: =$AB$9 -> 1 | H18: =$AB$9 -> 1 | L18: Молодежь+Взрослые N соло Ж | M18: =$AB$9 -> 1 | N18: =$AB$9 -> 1 | R18: Молодежь N+E соло Ж | S18: =$AB$9 -> 1 | T18: =$AB$9 -> 1 | X18: Молодежь+Взрослые N+E соло Ж | Y18: =$AB$9 -> 1 | Z18: =$AB$9 -> 1
C19: Взрослые | F19: Взрослые N соло Ж | G19: =$AB$9 -> 1 | H19: =$AB$9 -> 1 | K19: X | R19: Взрослые N+E соло Ж | S19: =$AB$9 -> 1 | T19: =$AB$9 -> 1 | W19: X
C21: Программа сложности E
C22: Возраст | E22: E | F22: Категории (только E класс) | G22: День | K22: Смеж возр | L22: Категории со смежными возрастами | M22: День | Q22: Смеж Ур | R22: Категории со смежными уровнями | S22: День | W22: Смеж ур+возр | X22: Категория со смежными уровнями и возрастами | Y22: День
G23: ST | H23: LA | I23: 10 | M23: ST | N23: LA | O23: 10 | S23: ST | T23: LA | U23: 10 | Y23: ST | Z23: LA | AA23: 10
C24: Ювеналы-1 | F24: Ювеналы-1 E соло Ж | G24: =$AB$9 -> 1 | H24: =$AB$9 -> 1 | L24: Ювеналы-1+2 E соло Ж | M24: =$AB$9 -> 1 | N24: =$AB$9 -> 1 | R24: Ювеналы-1 E+D соло Ж | S24: =$AB$9 -> 1 | T24: =$AB$9 -> 1 | X24: Ювеналы-1+2 E+D соло Ж | Y24: =$AB$9 -> 1 | Z24: =$AB$9 -> 1
C25: Ювеналы-2 | F25: Ювеналы-2 E соло Ж | G25: =$AB$9 -> 1 | H25: =$AB$9 -> 1 | L25: Ювеналы-2+Юниоры-1 E соло Ж | M25: =$AB$9 -> 1 | N25: =$AB$9 -> 1 | R25: Ювеналы-2 E+D соло Ж | S25: =$AB$9 -> 1 | T25: =$AB$9 -> 1 | X25: Ювеналы-2+Юниоры-1 E+D соло Ж | Y25: =$AB$9 -> 1 | Z25: =$AB$9 -> 1
C26: Юниоры-1 | F26: Юниоры-1 E соло Ж | G26: =$AB$9 -> 1 | H26: =$AB$9 -> 1 | L26: Юниоры-1+2 E соло Ж | M26: =$AB$9 -> 1 | N26: =$AB$9 -> 1 | R26: Юниоры-1 E+D соло Ж | S26: =$AB$9 -> 1 | T26: =$AB$9 -> 1 | X26: Юниоры-1+2 E+D соло Ж | Y26: =$AB$9 -> 1 | Z26: =$AB$9 -> 1
C27: Юниоры-2 | F27: Юниоры-2 E соло Ж | G27: =$AB$9 -> 1 | H27: =$AB$9 -> 1 | L27: Юниоры-2+Молодежь E соло Ж | M27: =$AB$9 -> 1 | N27: =$AB$9 -> 1 | R27: Юниоры-2 E+D соло Ж | S27: =$AB$9 -> 1 | T27: =$AB$9 -> 1 | X27: Юниоры-2+Молодежь E+D соло Ж | Y27: =$AB$9 -> 1 | Z27: =$AB$9 -> 1
C28: Молодежь | F28: Молодежь E соло Ж | G28: =$AB$9 -> 1 | H28: =$AB$9 -> 1 | L28: Молодежь+Взрослые E соло Ж | M28: =$AB$9 -> 1 | N28: =$AB$9 -> 1 | R28: Молодежь E+D соло Ж | S28: =$AB$9 -> 1 | T28: =$AB$9 -> 1 | X28: Молодежь+Взрослые E+D соло Ж | Y28: =$AB$9 -> 1 | Z28: =$AB$9 -> 1
C29: Взрослые | F29: Взрослые E соло Ж | G29: =$AB$9 -> 1 | H29: =$AB$9 -> 1 | K29: X | R29: Взрослые E+D соло Ж | S29: =$AB$9 -> 1 | T29: =$AB$9 -> 1 | W29: X
C31: Программа сложности D
C32: Возраст | E32: D | F32: Категории (только D класс) | G32: День | K32: Смеж возр | L32: Категории со смежными возрастами | M32: День | Q32: Смеж Ур | R32: Категории со смежными уровнями | S32: День | W32: Смеж ур+возр | X32: Категория со смежными уровнями и возрастами | Y32: День
G33: ST | H33: LA | I33: 10 | M33: ST | N33: LA | O33: 10 | S33: ST | T33: LA | U33: 10 | Y33: ST | Z33: LA | AA33: 10
C34: Ювеналы-1 | F34: Ювеналы-1 D соло Ж | G34: =$AB$9 -> 1 | H34: =$AB$9 -> 1 | L34: Ювеналы-1+2 D соло Ж | M34: =$AB$9 -> 1 | N34: =$AB$9 -> 1 | Q34: X | X34: Ювеналы-1+2 D+C соло Ж | Y34: =$AB$9 -> 1 | Z34: =$AB$9 -> 1
C35: Ювеналы-2 | F35: Ювеналы-2 D соло Ж | G35: =$AB$9 -> 1 | H35: =$AB$9 -> 1 | L35: Ювеналы-2+Юниоры-1 D соло Ж | M35: =$AB$9 -> 1 | N35: =$AB$9 -> 1 | R35: Ювеналы-2 D+C соло Ж | S35: =$AB$9 -> 1 | T35: =$AB$9 -> 1 | X35: Ювеналы-2+Юниоры-1 D+C соло Ж | Y35: =$AB$9 -> 1 | Z35: =$AB$9 -> 1
C36: Юниоры-1 | F36: Юниоры-1 D соло Ж | G36: =$AB$9 -> 1 | H36: =$AB$9 -> 1 | L36: Юниоры-1+2 D соло Ж | M36: =$AB$9 -> 1 | N36: =$AB$9 -> 1 | R36: Юниоры-1 D+C соло Ж | S36: =$AB$9 -> 1 | T36: =$AB$9 -> 1 | X36: Юниоры-1+2 D+C соло Ж | Y36: =$AB$9 -> 1 | Z36: =$AB$9 -> 1
C37: Юниоры-2 | F37: Юниоры-2 D соло Ж | G37: =$AB$9 -> 1 | H37: =$AB$9 -> 1 | L37: Юниоры-2+Молодежь D соло Ж | M37: =$AB$9 -> 1 | N37: =$AB$9 -> 1 | R37: Юниоры-2 D+C соло Ж | S37: =$AB$9 -> 1 | T37: =$AB$9 -> 1 | X37: Юниоры-2+Молодежь D+C соло Ж | Y37: =$AB$9 -> 1 | Z37: =$AB$9 -> 1
C38: Молодежь | F38: Молодежь D соло Ж | G38: =$AB$9 -> 1 | H38: =$AB$9 -> 1 | L38: Молодежь+Взрослые D соло Ж | M38: =$AB$9 -> 1 | N38: =$AB$9 -> 1 | R38: Молодежь D+C соло Ж | S38: =$AB$9 -> 1 | T38: =$AB$9 -> 1 | X38: Молодежь+Взрослые D+C соло Ж | Y38: =$AB$9 -> 1 | Z38: =$AB$9 -> 1
C39: Взрослые | F39: Взрослые D соло Ж | G39: =$AB$9 -> 1 | H39: =$AB$9 -> 1 | K39: X | R39: Взрослые D+C соло Ж | S39: =$AB$9 -> 1 | T39: =$AB$9 -> 1 | W39: X
C41: Программа сложности C
C42: Возраст | E42: C | F42: Категории (только C класс) | G42: День | K42: Смеж возр | L42: Категории со смежными возрастами | M42: День | Q42: Смеж Ур | R42: Категории со смежными уровнями | S42: День | W42: Смеж ур+возр | X42: Категория со смежными уровнями и возрастами | Y42: День
G43: ST | H43: LA | I43: 10 | M43: ST | N43: LA | O43: 10 | S43: ST | T43: LA | U43: 10 | Y43: ST | Z43: LA | AA43: 10
C44: Ювеналы-1 | E44: X | K44: X | Q44: X | W44: X
C45: Ювеналы-2 | F45: Ювеналы-2 C соло Ж | G45: =$AB$9 -> 1 | H45: =$AB$9 -> 1 | L45: Ювеналы-2+Юниоры-1 C соло Ж | M45: =$AB$9 -> 1 | N45: =$AB$9 -> 1 | X45: Ювеналы-2+Юниоры-1 C+B соло Ж | Y45: =$AB$9 -> 1 | Z45: =$AB$9 -> 1
C46: Юниоры-1 | F46: Юниоры-1 C соло Ж | G46: =$AB$9 -> 1 | H46: =$AB$9 -> 1 | L46: Юниоры-1+2 C соло Ж | M46: =$AB$9 -> 1 | N46: =$AB$9 -> 1 | R46: Юниоры-1 C+B соло Ж | S46: =$AB$9 -> 1 | T46: =$AB$9 -> 1 | X46: Юниоры-1+2 C+B соло Ж | Y46: =$AB$9 -> 1 | Z46: =$AB$9 -> 1
C47: Юниоры-2 | F47: Юниоры-2 C соло Ж | G47: =$AB$9 -> 1 | H47: =$AB$9 -> 1 | L47: Юниоры-2+Молодежь C соло Ж | M47: =$AB$9 -> 1 | N47: =$AB$9 -> 1 | R47: Юниоры-2 C+B соло Ж | S47: =$AB$9 -> 1 | T47: =$AB$9 -> 1 | X47: Юниоры-2+Молодежь C+B соло Ж | Y47: =$AB$9 -> 1 | Z47: =$AB$9 -> 1
C48: Молодежь | F48: Молодежь C соло Ж | G48: =$AB$9 -> 1 | H48: =$AB$9 -> 1 | L48: Молодежь+Взрослые C соло Ж | M48: =$AB$9 -> 1 | N48: =$AB$9 -> 1 | R48: Молодежь C+B соло Ж | S48: =$AB$9 -> 1 | T48: =$AB$9 -> 1 | X48: Молодежь+Взрослые C+B соло Ж | Y48: =$AB$9 -> 1 | Z48: =$AB$9 -> 1
C49: Взрослые | F49: Взрослые C соло Ж | G49: =$AB$9 -> 1 | H49: =$AB$9 -> 1 | K49: X | R49: Взрослые C+B соло Ж | S49: =$AB$9 -> 1 | T49: =$AB$9 -> 1 | W49: X
C51: Программа сложности B
C52: Возраст | E52: B | F52: Категории (только B класс) | G52: День | K52: Смеж возр | L52: Категории со смежными возрастами | M52: День | Q52: Смеж Ур | R52: Категории со смежными уровнями | S52: День | W52: Смеж ур+возр | X52: Категория со смежными уровнями и возрастами | Y52: День
G53: ST | H53: LA | I53: 10 | M53: ST | N53: LA | O53: 10 | S53: ST | T53: LA | U53: 10 | Y53: ST | Z53: LA | AA53: 10
C54: Ювеналы-1 | E54: X | K54: X | Q54: X | W54: X
C55: Ювеналы-2 | E55: X | K55: X | Q55: X | W55: X
C56: Юниоры-1 | F56: Юниоры-1 B соло Ж | G56: =$AB$9 -> 1 | H56: =$AB$9 -> 1 | L56: Юниоры-1+2 B соло Ж | M56: =$AB$9 -> 1 | N56: =$AB$9 -> 1 | Q56: X | X56: Юниоры-1+2 B+A соло Ж | Y56: =$AB$9 -> 1 | Z56: =$AB$9 -> 1
C57: Юниоры-2 | F57: Юниоры-2 B соло Ж | G57: =$AB$9 -> 1 | H57: =$AB$9 -> 1 | L57: Юниоры-2+Молодежь B соло Ж | M57: =$AB$9 -> 1 | N57: =$AB$9 -> 1 | R57: Юниоры-2 B+A соло Ж | S57: =$AB$9 -> 1 | T57: =$AB$9 -> 1 | X57: Юниоры-2+Молодежь B+A соло Ж | Y57: =$AB$9 -> 1 | Z57: =$AB$9 -> 1
C58: Молодежь | F58: Молодежь B соло Ж | G58: =$AB$9 -> 1 | H58: =$AB$9 -> 1 | L58: Молодежь+Взрослые B соло Ж | M58: =$AB$9 -> 1 | N58: =$AB$9 -> 1 | R58: Молодежь B+A соло Ж | S58: =$AB$9 -> 1 | T58: =$AB$9 -> 1 | X58: Молодежь+Взрослые B+A соло Ж | Y58: =$AB$9 -> 1 | Z58: =$AB$9 -> 1
C59: Взрослые | F59: Взрослые B соло Ж | G59: =$AB$9 -> 1 | H59: =$AB$9 -> 1 | R59: Взрослые B+A соло Ж | S59: =$AB$9 -> 1 | T59: =$AB$9 -> 1 | W59: X
C61: Программа сложности A
C62: Возраст | E62: A | F62: Категории (только A класс) | G62: День | K62: Смеж возр | L62: Категории со смежными возрастами | M62: День | Q62: Смеж Ур | R62: Категории со смежными уровнями | S62: День | W62: Смеж ур+возр | X62: Категория со смежными уровнями и возрастами | Y62: День
G63: ST | H63: LA | I63: 10 | M63: ST | N63: LA | O63: 10 | S63: ST | T63: LA | U63: 10 | Y63: ST | Z63: LA | AA63: 10
C64: Ювеналы-1 | E64: X | K64: X | Q64: X | W64: X
C65: Ювеналы-2 | E65: X | K65: X | Q65: X | W65: X
C66: Юниоры-1 | E66: X | K66: X | Q66: X | W66: X
C67: Юниоры-2 | F67: Юниоры-2 A соло Ж | G67: =$AB$9 -> 1 | H67: =$AB$9 -> 1 | L67: Юниоры-2+Молодежь A соло Ж | M67: =$AB$9 -> 1 | N67: =$AB$9 -> 1 | Q67: X | X67: Юниоры-2+Молодежь A+S соло Ж | Y67: =$AB$9 -> 1 | Z67: =$AB$9 -> 1
C68: Молодежь | F68: Молодежь A соло Ж | G68: =$AB$9 -> 1 | H68: =$AB$9 -> 1 | L68: Молодежь+Взрослые A соло Ж | M68: =$AB$9 -> 1 | N68: =$AB$9 -> 1 | R68: Молодежь A+S соло Ж | S68: =$AB$9 -> 1 | T68: =$AB$9 -> 1 | X68: Молодежь+Взрослые A+S соло Ж | Y68: =$AB$9 -> 1 | Z68: =$AB$9 -> 1
C69: Взрослые | F69: Взрослые A соло Ж | G69: =$AB$9 -> 1 | H69: =$AB$9 -> 1 | K69: X | R69: Взрослые A+S соло Ж | S69: =$AB$9 -> 1 | T69: =$AB$9 -> 1 | W69: X
C71: Способ проведения соревнований
C72: с одним финалом
C74: Допуск по возрастам (информация берется, только при отсутствии в программе фестиваля парных номинаций определенного уровня, иначе информация берется с листа «Классы пары»)
C75: В группах танцоры обязаны принимать участие в своей возрастной категории определяемой по полному количеству лет у старшего в паре на день фестиваля, за исключением случаев, когда старший в паре переходит в следующую возрастную категорию до окончания сезона (до 30 июня): в этом случае танцоры имеют право принимать участие в своей возрастной категории и/или на возраст старше
C77: Условия зачета и награждение (информация берется, только при отсутствии в программе фестиваля парных номинаций определенного уровня, иначе информация берется с листа «Классы пары»)
C78: Ранжирование производится в стандарте и латине в каждом уровне программы сложности. Финалисты в каждом уровне программы сложности, в стандарте и латине награждаются дипломами, 1-3 места в награждаются кубками, медалями.

Sheet ШБТ, Кубки танцев
G2: Форма проведения | H2: Школа танца, кубки танцев | W2: Поставить «+» если форма используется
B5: - в графу название вписываем название категории утвержденное в РО/организации (оно должно содержать возраст участия в данной категории) - возраст указываем в годах (например от 0 до 7) - ступень необходимо оставить одну для каждой строки - если категория проводится и для пар и для соло — оставляем + в каждой ячейке - для платной регистрации нельзя одну строку использовать для соло и пар, так как для пар указывается стоимость х2 - если проводится и зачет и конкурс оставляем + в каждой графе Зачет и Конкурс (или стоимость для платной регистрации) - конкурсы по отдельным танцам — если проводятся оставляем + в графе Цена (или стоимость для платной регистрации) - оставляем названия танцев, по которым проводятся конкурсы по отдельным танцам - в ячейки конкурсов по отдельным танцам можно вписать названия других танцев, по которым проходят кубки в соответствии с правилами
S6: День участия для всей ШБТ | Z6: 1
B7: Название | D7: Возраст (включительно) | H7: Ступень-Уровень | K7: Пары | L7: Соло | N7: День | P7: Зачет | Q7: Конкурс | S7: Конкурсы по отдельным танцам
D8: от | F8: до | H8: от | I8: до | S8: цена | U8: танцы
H9: ШБТ | I9: ШБТ | K9: + | L9: + | N9: =$Z$6 -> 1 | P9: + | Q9: + | S9: + | U9: W | V9: Q | W9: Ch | X9: Jv
H11: ШБТ | I11: ШБТ | K11: + | L11: + | N11: =$Z$6 -> 1 | P11: + | Q11: + | S11: + | U11: W | V11: Q | W11: Ch | X11: Jv
H13: ШБТ | I13: ШБТ | K13: + | L13: + | N13: =$Z$6 -> 1 | P13: + | Q13: + | S13: + | U13: W | V13: Q | W13: Ch | X13: Jv
H15: ШБТ | I15: ШБТ | K15: + | L15: + | N15: =$Z$6 -> 1 | P15: + | Q15: + | S15: + | U15: W | V15: Q | W15: Ch | X15: Jv
H17: ШБТ | I17: ШБТ | K17: + | L17: + | N17: =$Z$6 -> 1 | P17: + | Q17: + | S17: + | U17: W | V17: Q | W17: Ch | X17: Jv
H19: ШБТ | I19: ШБТ | K19: + | L19: + | N19: =$Z$6 -> 1 | P19: + | Q19: + | S19: + | U19: W | V19: Q | W19: Ch | X19: Jv
H21: ШБТ | I21: ШБТ | K21: + | L21: + | N21: =$Z$6 -> 1 | P21: + | Q21: + | S21: + | U21: W | V21: Q | W21: Ch | X21: Jv
H23: ШБТ | I23: ШБТ | K23: + | L23: + | N23: =$Z$6 -> 1 | P23: + | Q23: + | S23: + | U23: W | V23: Q | W23: Ch | X23: Jv
H25: ШБТ | I25: ШБТ | K25: + | L25: + | N25: =$Z$6 -> 1 | P25: + | Q25: + | S25: + | U25: W | V25: Q | W25: Ch | X25: Jv
H27: ШБТ | I27: ШБТ | K27: + | L27: + | N27: =$Z$6 -> 1 | P27: + | Q27: + | S27: + | U27: W | V27: Q | W27: Ch | X27: Jv
H29: ШБТ | I29: ШБТ | K29: + | L29: + | N29: =$Z$6 -> 1 | P29: + | Q29: + | S29: + | U29: W | V29: Q | W29: Ch | X29: Jv
H31: ШБТ | I31: ШБТ | K31: + | L31: + | N31: =$Z$6 -> 1 | P31: + | Q31: + | S31: + | U31: W | V31: Q | W31: Ch | X31: Jv
... H103: ШБТ | I103: ШБТ | K103: + | L103: + | N103: =$Z$6 -> 1 | P103: + | Q103: + | S103: + | U103: W | V103: Q | W103: Ch | X103: Jv

Sheet Главные Фестивали
D2: Форма проведения | E2: Главные фестивали (пары) | K2: Поставить «+» если форма используется
B5: Заполните, пожалуйста, необходимые поля. Заполняться могут только поля с белым фоном!!!
C7: Возрастные категории | E7: Уточнение по статусу, рангу для категории | F7: ST | G7: День | H7: LA | I7: День | J7: 10 танцев | K7: День
F8: (+ если есть) | G8: (1 или 2) | H8: (+ если есть) | I8: (1 или 2) | J8: (+ если есть) | K8: (1 или 2)
B9: =CONCATENATE(IF(F9<>"",G9,0),IF(H9<>"",I9,0),IF(J9<>"",K9,0)) -> 112 | C9: Ювеналы-1 | E9: Главный Фестиваль НТС | F9: + | G9: 1 | H9: + | I9: 1 | J9: + | K9: 2
B10: =CONCATENATE(IF(F10<>"",G10,0),IF(H10<>"",I10,0),IF(J10<>"",K10,0)) -> 112 | C10: Ювеналы-2 | E10: Главный Фестиваль НТС | F10: + | G10: 1 | H10: + | I10: 1 | J10: + | K10: 2
B11: =CONCATENATE(IF(F11<>"",G11,0),IF(H11<>"",I11,0),IF(J11<>"",K11,0)) -> 112 | C11: Юниоры-1 | E11: Главный Фестиваль НТС | F11: + | G11: 1 | H11: + | I11: 1 | J11: + | K11: 2
B12: =CONCATENATE(IF(F12<>"",G12,0),IF(H12<>"",I12,0),IF(J12<>"",K12,0)) -> 112 | C12: Юниоры-2 | E12: Главный Фестиваль НТС | F12: + | G12: 1 | H12: + | I12: 1 | J12: + | K12: 2
B13: =CONCATENATE(IF(F13<>"",G13,0),IF(H13<>"",I13,0),IF(J13<>"",K13,0)) -> 112 | C13: Молодежь-1 | E13: Главный Фестиваль НТС | F13: + | G13: 1 | H13: + | I13: 1 | J13: + | K13: 2
B14: =CONCATENATE(IF(F14<>"",G14,0),IF(H14<>"",I14,0),IF(J14<>"",K14,0)) -> 112 | C14: Молодежь-2 | E14: Главный Фестиваль НТС | F14: + | G14: 1 | H14: + | I14: 1 | J14: + | K14: 2
B15: =CONCATENATE(IF(F15<>"",G15,0),IF(H15<>"",I15,0),IF(J15<>"",K15,0)) -> 111 | C15: Взрослые | E15: Главный Фестиваль НТС | F15: + | G15: 1 | H15: + | I15: 1 | J15: + | K15: 1
B16: =CONCATENATE(IF(F16<>"",G16,0),IF(H16<>"",I16,0),IF(J16<>"",K16,0)) -> 111 | C16: Сеньоры | E16: Главный Фестиваль НТС | F16: + | G16: 1 | H16: + | I16: 1 | J16: + | K16: 1
B18: Руководство жюри главных фестивалей
C20: Председатель жюри | E20: Фамилия Имя | H20: =IF(ISNA(Рабочий!J20),"Проверьте, пожалуйста, правильность написания 'Фамилии Имени'. Если все верно, то о судье отсутствуют данные о статусе (должность, судейская категория), внесите, пожалуйста их в данное поле",Рабочий!K20)
C23: Заместитель председателя жюри | E23: Фамилия Имя | H23: =IF(ISNA(Рабочий!J23),"Проверьте, пожалуйста, правильность написания 'Фамилии Имени'. Если все верно, то о судье отсутствуют данные о статусе (должность, судейская категория), внесите, пожалуйста их в данное поле",Рабочий!K23)
C26: Заместитель председателя жюри | E26: Фамилия Имя | H26: =IF(ISNA(Рабочий!J26),"Проверьте, пожалуйста, правильность написания 'Фамилии Имени'. Если все верно, то о судье отсутствуют данные о статусе (должность, судейская категория), внесите, пожалуйста их в данное поле",Рабочий!K26)
C29: Главный секретарь | E29: Фамилия Имя | H29: =IF(ISNA(Рабочий!J29),"Проверьте, пожалуйста, правильность написания 'Фамилии Имени'. Если все верно, то о судье отсутствуют данные о статусе (должность, судейская категория), внесите, пожалуйста их в данное поле",Рабочий!K29)
C32: Способ проведения
C33: начиная с ¼ финала фестиваль в каждом возрасте и программе проходит по отдельным танцам, то есть с финалом в каждом отдельном танце, при этом программа исполняется без сокращений.
C35: Допуск по возрастам
C36: В рейтинговых фестивалях допускается участие танцоров на одну возрастную группу выше
C38: Условия зачета и награждения
C39: Ранжирование определяется в каждой возрастной группе: Финалисты награждаются дипломами. 1-3 места в возрастной группе в каждом виде танцев награждаются кубками, медалями.

Sheet ПРОФЕССИОНАЛЫ
D2: Форма проведения | E2: Профессионалы | K2: Поставить «+» если форма используется
B5: Заполните, пожалуйста, необходимые поля. Заполняться могут только поля с белым фоном!!!
C7: Возрастные категории | E7: Уточнение по статусу, рангу для категории | F7: ST | G7: День | H7: LA | I7: День | J7: 10 танцев | K7: День
F8: (+ если есть) | G8: (1 или 2) | H8: (+ если есть) | I8: (1 или 2) | J8: (+ если есть) | K8: (1 или 2)
B9: =CONCATENATE(IF(F9<>"",G9,0),IF(H9<>"",I9,0),IF(J9<>"",K9,0)) -> 111 | C9: Профессионалы | E9: Гран-При НТС | F9: + | G9: 1 | H9: + | I9: 1 | J9: + | K9: 1
B10: =CONCATENATE(IF(F10<>"",G10,0),IF(H10<>"",I10,0),IF(J10<>"",K10,0)) -> 111 | C10: Профессионалы | E10: Главный Фестиваль НТС | F10: + | G10: 1 | H10: + | I10: 1 | J10: + | K10: 1
B12: Руководство жюри
C14: Председатель жюри | E14: Фамилия Имя | H14: =IF(ISNA(Рабочий!J30),"Проверьте, пожалуйста, правильность написания 'Фамилии Имени'. Если все верно, то о судье отсутствуют данные о статусе (должность, судейская категория), внесите, пожалуйста их в данное поле",Рабочий!K30)
C17: Заместитель председателя жюри | E17: Фамилия Имя | H17: =IF(ISNA(Рабочий!J33),"Проверьте, пожалуйста, правильность написания 'Фамилии Имени'. Если все верно, то о судье отсутствуют данные о статусе (должность, судейская категория), внесите, пожалуйста их в данное поле",Рабочий!K33)
H19: `
C20: Главный секретарь | E20: Фамилия Имя | H20: =IF(ISNA(Рабочий!J36),"Проверьте, пожалуйста, правильность написания 'Фамилии Имени'. Если все верно, то о судье отсутствуют данные о статусе (должность, судейская категория), внесите, пожалуйста их в данное поле",Рабочий!K36)
C23: Условия зачета и награждения
C24: Ранжирование производится в каждой возрастной группе: Финалисты награждаются дипломами. 1-3 места в возрастной группе в каждом виде спортивных танцев награждаются кубками, медалями.

Sheet American Smooth
D2: Форма проведения | E2: American Smooth | K2: Поставить «+» если форма используется
B5: Заполните, пожалуйста, необходимые поля. Заполняться могут только поля с белым фоном!!!
C7: Возрастные категории | E7: Уточнение по статусу, рангу для категории | F7: (+ если есть) | G7: День
G8: (1 или 2)
B9: =CONCATENATE(IF(F9<>"",G9,0),"00") -> 000 | C9: Ювеналы | G9: 1
B10: =CONCATENATE(IF(F10<>"",G10,0),"00") -> 000 | C10: Юниоры | G10: 1
B11: =CONCATENATE(IF(F11<>"",G11,0),"00") -> 000 | C11: Молодежь | G11: 1
B12: =CONCATENATE(IF(F12<>"",G12,0),"00") -> 000 | C12: Взрослые | G12: 1
B13: =CONCATENATE(IF(F13<>"",G13,0),"00") -> 000 | C13: Профессионалы | G13: 1
B14: =CONCATENATE(IF(F14<>"",G14,0),"00") -> 000 | G14: 1
B15: =CONCATENATE(IF(F15<>"",G15,0),"00") -> 000 | G15: 1
B16: =CONCATENATE(IF(F16<>"",G16,0),"00") -> 000 | G16: 1
B18: Руководство жюри American Smooth
C20: Председатель жюри | E20: Фамилия Имя | H20: =IF(ISNA(Рабочий!M57),"Проверьте, пожалуйста, правильность написания 'Фамилии Имени'. Если все верно, то о судье отсутствуют данные о статусе (должность, судейская категория), внесите, пожалуйста их в данное поле",Рабочий!N57) -> М-категория
C23: Заместитель председателя жюри | E23: Фамилия Имя | H23: =IF(ISNA(Рабочий!M60),"Проверьте, пожалуйста, правильность написания 'Фамилии Имени'. Если все верно, то о судье отсутствуют данные о статусе (должность, судейская категория), внесите, пожалуйста их в данное поле",Рабочий!N60) -> М-категория
C26: Заместитель председателя жюри | E26: Фамилия Имя | H26: =IF(ISNA(Рабочий!M63),"Проверьте, пожалуйста, правильность написания 'Фамилии Имени'. Если все верно, то о судье отсутствуют данные о статусе (должность, судейская категория), внесите, пожалуйста их в данное поле",Рабочий!N63) -> М-категория
C29: Главный секретарь | E29: Фамилия Имя | H29: =IF(ISNA(Рабочий!M66),"Проверьте, пожалуйста, правильность написания 'Фамилии Имени'. Если все верно, то о судье отсутствуют данные о статусе (должность, судейская категория), внесите, пожалуйста их в данное поле",Рабочий!N66) -> М-категория
C32: Способ проведения соревнований
C33: начиная с ¼ финала турнир в каждом возрасте и программе проходит по отдельным танцам, то есть с финалом в каждом отдельном танце, при этом программа исполняется без сокращений.
C35: Допуск по возрастам
C36: в соответствии с правилами РТС в рейтинговых соревнованиях допускается участие танцоров на одну возрастную группу выше
C38: Условия зачета и награждения
C39: Личное первенство определяется в каждой возрастной группе: Финалисты награждаются дипломами. 1-3 места в возрастной группе в каждом виде спортивных танцев награждаются кубками, медалями.

Sheet American Smooth соло
D2: Форма проведения | E2: American Smooth соло | K2: Поставить «+» если форма используется
B5: Заполните, пожалуйста, необходимые поля. Заполняться могут только поля с белым фоном!!!
C7: Возрастные категории | E7: Уточнение по статусу, рангу для категории | F7: (+ если есть) | G7: День
G8: (1 или 2)
B9: =CONCATENATE(IF(F9<>"",G9,0),"00") -> 000 | C9: Ювеналы соло Ж | G9: 1
B10: =CONCATENATE(IF(F10<>"",G10,0),"00") -> 000 | C10: Юниоры соло Ж | G10: 1
B11: =CONCATENATE(IF(F11<>"",G11,0),"00") -> 000 | C11: Молодежь соло Ж | G11: 1
B12: =CONCATENATE(IF(F12<>"",G12,0),"00") -> 000 | C12: Взрослые соло Ж | G12: 1
B13: =CONCATENATE(IF(F13<>"",G13,0),"00") -> 000 | G13: 1
B14: =CONCATENATE(IF(F14<>"",G14,0),"00") -> 000 | G14: 1
B15: =CONCATENATE(IF(F15<>"",G15,0),"00") -> 000 | G15: 1
B16: =CONCATENATE(IF(F16<>"",G16,0),"00") -> 000 | G16: 1
B18: Руководство жюри American Smooth
C20: Председатель жюри | E20: Фамилия Имя | H20: =IF(ISNA(Рабочий!M57),"Проверьте, пожалуйста, правильность написания 'Фамилии Имени'. Если все верно, то о судье отсутствуют данные о статусе (должность, судейская категория), внесите, пожалуйста их в данное поле",Рабочий!N57) -> М-категория
C23: Заместитель председателя жюри | E23: Фамилия Имя | H23: =IF(ISNA(Рабочий!M60),"Проверьте, пожалуйста, правильность написания 'Фамилии Имени'. Если все верно, то о судье отсутствуют данные о статусе (должность, судейская категория), внесите, пожалуйста их в данное поле",Рабочий!N60) -> М-категория
C26: Заместитель председателя жюри | E26: Фамилия Имя | H26: =IF(ISNA(Рабочий!M63),"Проверьте, пожалуйста, правильность написания 'Фамилии Имени'. Если все верно, то о судье отсутствуют данные о статусе (должность, судейская категория), внесите, пожалуйста их в данное поле",Рабочий!N63) -> М-категория
C29: Главный секретарь | E29: Фамилия Имя | H29: =IF(ISNA(Рабочий!M66),"Проверьте, пожалуйста, правильность написания 'Фамилии Имени'. Если все верно, то о судье отсутствуют данные о статусе (должность, судейская категория), внесите, пожалуйста их в данное поле",Рабочий!N66) -> М-категория
C32: Способ проведения соревнований
C33: начиная с ¼ финала турнир в каждом возрасте и программе проходит по отдельным танцам, то есть с финалом в каждом отдельном танце, при этом программа исполняется без сокращений.
C35: Допуск по возрастам
C36: в соответствии с правилами РТС в рейтинговых соревнованиях допускается участие танцоров на одну возрастную группу выше
C38: Условия зачета и награждения
C39: Личное первенство определяется в каждой возрастной группе: Финалисты награждаются дипломами. 1-3 места в возрастной группе в каждом виде спортивных танцев награждаются кубками, медалями.

Sheet Программа 1 день
A1: Для заполнения таблицы для дополнительного зала прокрутите страницу вправо ==>
D2: Программа 00.00.0000 | M2: =D2 -> Программа 00.00.0000
D3: =IF('Общие данные'!H89<>"",'Общие данные'!E89,"") | M3: ДОПОЛНИТЕЛЬНЫЙ ЗАЛ
B4: Скрыть строку | C4: Индекс категории | D4: Категория | E4: Виды соревнований | F4: Отделения (вставить время начала в формате ЧЧ:ММ, ненужные удалить) | M4: Категория | N4: Виды соревнований | O4: Отделения (вставить время начала в формате ЧЧ:ММ, ненужные удалить)
E5: рег | F5: =CONCATENATE(TEXT(F6-'Общие данные'!$K$80,"HH:MM")," - ",TEXT(F6-'Общие данные'!$M$80,"HH:MM")) -> 08:00 - 09:00 | G5: =CONCATENATE(TEXT(G6-'Общие данные'!$K$80,"HH:MM")," - ",TEXT(G6-'Общие данные'!$M$80,"HH:MM")) -> 22:30 - 23:30 | H5: =CONCATENATE(TEXT(H6-'Общие данные'!$K$80,"HH:MM")," - ",TEXT(H6-'Общие данные'!$M$80,"HH:MM")) -> 22:30 - 23:30 | I5: =CONCATENATE(TEXT(I6-'Общие данные'!$K$80,"HH:MM")," - ",TEXT(I6-'Общие данные'!$M$80,"HH:MM")) -> 22:30 - 23:30 | J5: =CONCATENATE(TEXT(J6-'Общие данные'!$K$80,"HH:MM")," - ",TEXT(J6-'Общие данные'!$M$80,"HH:MM")) -> 22:30 - 23:30 | K5: =CONCATENATE(TEXT(K6-'Общие данные'!$K$80,"HH:MM")," - ",TEXT(K6-'Общие данные'!$M$80,"HH:MM")) -> 18:00 - 19:00 | N5: рег | O5: =CONCATENATE(TEXT(O6-'Общие данные'!$K$80,"HH:MM")," - ",TEXT(O6-'Общие данные'!$M$80,"HH:MM")) -> 08:00 - 09:00 | P5: =CONCATENATE(TEXT(P6-'Общие данные'!$K$80,"HH:MM")," - ",TEXT(P6-'Общие данные'!$M$80,"HH:MM")) -> 22:30 - 23:30 | Q5: =CONCATENATE(TEXT(Q6-'Общие данные'!$K$80,"HH:MM")," - ",TEXT(Q6-'Общие данные'!$M$80,"HH:MM")) -> 22:30 - 23:30 | R5: =CONCATENATE(TEXT(R6-'Общие данные'!$K$80,"HH:MM")," - ",TEXT(R6-'Общие данные'!$M$80,"HH:MM")) -> 22:30 - 23:30 | S5: =CONCATENATE(TEXT(S6-'Общие данные'!$K$80,"HH:MM")," - ",TEXT(S6-'Общие данные'!$M$80,"HH:MM")) -> 22:30 - 23:30 | T5: =CONCATENATE(TEXT(T6-'Общие данные'!$K$80,"HH:MM")," - ",TEXT(T6-'Общие данные'!$M$80,"HH:MM")) -> 18:00 - 19:00
E6: нач | F6: 0.39583333 | G6: 0 | H6: 0 | I6: 0 | J6: 0 | K6: 0.8125 | N6: нач | O6: 0.39583333 | P6: 0 | Q6: 0 | R6: 0 | S6: 0 | T6: 0.8125
B7: =IF(C7<=Рабочий!AE$1,INDEX(Рабочий!$Z$3:$Z$303,MATCH(C7,Рабочий!$AE$3:$AE$303,0)),0) -> 0 | C7: 1 | D7: =IF(C7<=Рабочий!AE$1,INDEX(Рабочий!$AA$3:$AA$303,MATCH(C7,Рабочий!$AE$3:$AE$303,0)),"") | E7: =IF(D7<>"",INDEX(Рабочий!$AF$3:$AF$303,MATCH(C7,Рабочий!$AE$3:$AE$303,0)),"") | M7: =D7 | N7: =E7
B8: =IF(C8<=Рабочий!AE$1,INDEX(Рабочий!$Z$3:$Z$303,MATCH(C8,Рабочий!$AE$3:$AE$303,0)),0) -> 0 | C8: =C7+1 -> 2 | D8: =IF(C8<=Рабочий!AE$1,INDEX(Рабочий!$AA$3:$AA$303,MATCH(C8,Рабочий!$AE$3:$AE$303,0)),"") | E8: =IF(D8<>"",INDEX(Рабочий!$AF$3:$AF$303,MATCH(C8,Рабочий!$AE$3:$AE$303,0)),"") | M8: =D8 | N8: =E8
B9: =IF(C9<=Рабочий!AE$1,INDEX(Рабочий!$Z$3:$Z$303,MATCH(C9,Рабочий!$AE$3:$AE$303,0)),0) -> 0 | C9: =C8+1 -> 3 | D9: =IF(C9<=Рабочий!AE$1,INDEX(Рабочий!$AA$3:$AA$303,MATCH(C9,Рабочий!$AE$3:$AE$303,0)),"") | E9: =IF(D9<>"",INDEX(Рабочий!$AF$3:$AF$303,MATCH(C9,Рабочий!$AE$3:$AE$303,0)),"") | M9: =D9 | N9: =E9
B10: =IF(C10<=Рабочий!AE$1,INDEX(Рабочий!$Z$3:$Z$303,MATCH(C10,Рабочий!$AE$3:$AE$303,0)),0) -> 0 | C10: =C9+1 -> 4 | D10: =IF(C10<=Рабочий!AE$1,INDEX(Рабочий!$AA$3:$AA$303,MATCH(C10,Рабочий!$AE$3:$AE$303,0)),"") | E10: =IF(D10<>"",INDEX(Рабочий!$AF$3:$AF$303,MATCH(C10,Рабочий!$AE$3:$AE$303,0)),"") | M10: =D10 | N10: =E10
B11: =IF(C11<=Рабочий!AE$1,INDEX(Рабочий!$Z$3:$Z$303,MATCH(C11,Рабочий!$AE$3:$AE$303,0)),0) -> 0 | C11: =C10+1 -> 5 | D11: =IF(C11<=Рабочий!AE$1,INDEX(Рабочий!$AA$3:$AA$303,MATCH(C11,Рабочий!$AE$3:$AE$303,0)),"") | E11: =IF(D11<>"",INDEX(Рабочий!$AF$3:$AF$303,MATCH(C11,Рабочий!$AE$3:$AE$303,0)),"") | M11: =D11 | N11: =E11
B12: =IF(C12<=Рабочий!AE$1,INDEX(Рабочий!$Z$3:$Z$303,MATCH(C12,Рабочий!$AE$3:$AE$303,0)),0) -> 0 | C12: =C11+1 -> 6 | D12: =IF(C12<=Рабочий!AE$1,INDEX(Рабочий!$AA$3:$AA$303,MATCH(C12,Рабочий!$AE$3:$AE$303,0)),"") | E12: =IF(D12<>"",INDEX(Рабочий!$AF$3:$AF$303,MATCH(C12,Рабочий!$AE$3:$AE$303,0)),"") | M12: =D12 | N12: =E12
B13: =IF(C13<=Рабочий!AE$1,INDEX(Рабочий!$Z$3:$Z$303,MATCH(C13,Рабочий!$AE$3:$AE$303,0)),0) -> 0 | C13: =C12+1 -> 7 | D13: =IF(C13<=Рабочий!AE$1,INDEX(Рабочий!$AA$3:$AA$303,MATCH(C13,Рабочий!$AE$3:$AE$303,0)),"") | E13: =IF(D13<>"",INDEX(Рабочий!$AF$3:$AF$303,MATCH(C13,Рабочий!$AE$3:$AE$303,0)),"") | M13: =D13 | N13: =E13
B14: =IF(C14<=Рабочий!AE$1,INDEX(Рабочий!$Z$3:$Z$303,MATCH(C14,Рабочий!$AE$3:$AE$303,0)),0) -> 0 | C14: =C13+1 -> 8 | D14: =IF(C14<=Рабочий!AE$1,INDEX(Рабочий!$AA$3:$AA$303,MATCH(C14,Рабочий!$AE$3:$AE$303,0)),"") | E14: =IF(D14<>"",INDEX(Рабочий!$AF$3:$AF$303,MATCH(C14,Рабочий!$AE$3:$AE$303,0)),"") | M14: =D14 | N14: =E14
B15: =IF(C15<=Рабочий!AE$1,INDEX(Рабочий!$Z$3:$Z$303,MATCH(C15,Рабочий!$AE$3:$AE$303,0)),0) -> 0 | C15: =C14+1 -> 9 | D15: =IF(C15<=Рабочий!AE$1,INDEX(Рабочий!$AA$3:$AA$303,MATCH(C15,Рабочий!$AE$3:$AE$303,0)),"") | E15: =IF(D15<>"",INDEX(Рабочий!$AF$3:$AF$303,MATCH(C15,Рабочий!$AE$3:$AE$303,0)),"") | M15: =D15 | N15: =E15
B16: =IF(C16<=Рабочий!AE$1,INDEX(Рабочий!$Z$3:$Z$303,MATCH(C16,Рабочий!$AE$3:$AE$303,0)),0) -> 0 | C16: =C15+1 -> 10 | D16: =IF(C16<=Рабочий!AE$1,INDEX(Рабочий!$AA$3:$AA$303,MATCH(C16,Рабочий!$AE$3:$AE$303,0)),"") | E16: =IF(D16<>"",INDEX(Рабочий!$AF$3:$AF$303,MATCH(C16,Рабочий!$AE$3:$AE$303,0)),"") | M16: =D16 | N16: =E16
B17: =IF(C17<=Рабочий!AE$1,INDEX(Рабочий!$Z$3:$Z$303,MATCH(C17,Рабочий!$AE$3:$AE$303,0)),0) -> 0 | C17: =C16+1 -> 11 | D17: =IF(C17<=Рабочий!AE$1,INDEX(Рабочий!$AA$3:$AA$303,MATCH(C17,Рабочий!$AE$3:$AE$303,0)),"") | E17: =IF(D17<>"",INDEX(Рабочий!$AF$3:$AF$303,MATCH(C17,Рабочий!$AE$3:$AE$303,0)),"") | M17: =D17 | N17: =E17
B18: =IF(C18<=Рабочий!AE$1,INDEX(Рабочий!$Z$3:$Z$303,MATCH(C18,Рабочий!$AE$3:$AE$303,0)),0) -> 0 | C18: =C17+1 -> 12 | D18: =IF(C18<=Рабочий!AE$1,INDEX(Рабочий!$AA$3:$AA$303,MATCH(C18,Рабочий!$AE$3:$AE$303,0)),"") | E18: =IF(D18<>"",INDEX(Рабочий!$AF$3:$AF$303,MATCH(C18,Рабочий!$AE$3:$AE$303,0)),"") | M18: =D18 | N18: =E18
B19: =IF(C19<=Рабочий!AE$1,INDEX(Рабочий!$Z$3:$Z$303,MATCH(C19,Рабочий!$AE$3:$AE$303,0)),0) -> 0 | C19: =C18+1 -> 13 | D19: =IF(C19<=Рабочий!AE$1,INDEX(Рабочий!$AA$3:$AA$303,MATCH(C19,Рабочий!$AE$3:$AE$303,0)),"") | E19: =IF(D19<>"",INDEX(Рабочий!$AF$3:$AF$303,MATCH(C19,Рабочий!$AE$3:$AE$303,0)),"") | M19: =D19 | N19: =E19
... B153: =IF(C153<=Рабочий!AE$1,INDEX(Рабочий!$Z$3:$Z$303,MATCH(C153,Рабочий!$AE$3:$AE$303,0)),0) -> 0 | C153: =C152+1 -> 147 | D153: =IF(C153<=Рабочий!AE$1,INDEX(Рабочий!$AA$3:$AA$303,MATCH(C153,Рабочий!$AE$3:$AE$303,0)),"") | E153: =IF(D153<>"",INDEX(Рабочий!$AF$3:$AF$303,MATCH(C153,Рабочий!$AE$3:$AE$303,0)),"") | M153: =D153 | N153: =E153

Sheet Программа 2 день
A1: Для заполнения таблицы для дополнительного зала прокрутите страницу вправо ==>
D2: Программа 00.00.0000 | M2: =D2 -> Программа 00.00.0000
D3: =IF('Общие данные'!H89<>"",'Общие данные'!E89,"") | M3: ДОПОЛНИТЕЛЬНЫЙ ЗАЛ
B4: Скрыть строку | C4: Индекс категории | D4: Категория | E4: Виды соревнований | F4: Отделения (вставить время начала в формате ЧЧ:ММ, ненужные удалить) | M4: Категория | N4: Виды соревнований | O4: Отделения (вставить время начала в формате ЧЧ:ММ, ненужные удалить)
E5: рег | F5: 08:00 - 08:45 | G5: 22:30 - 23:15 | H5: 22:30 - 23:15 | I5: 22:30 - 23:15 | J5: 22:30 - 23:15 | K5: 18:00 - 18:45 | N5: рег | O5: 08:00 - 08:45 | P5: 22:30 - 23:15 | Q5: 22:30 - 23:15 | R5: 22:30 - 23:15 | S5: 22:30 - 23:15 | T5: 18:00 - 18:45
E6: нач | F6: 0.39583333 | G6: 0 | H6: 0 | I6: 0 | J6: 0 | K6: 0.8125 | N6: нач | O6: 0.39583333 | P6: 0 | Q6: 0 | R6: 0 | S6: 0 | T6: 0.8125
B7: =IF(C7<=Рабочий!AH$1,INDEX(Рабочий!$Z$3:$Z$303,MATCH(C7,Рабочий!$AH$3:$AH$303,0)),0) -> 0 | C7: 1 | D7: =IF(C7<=Рабочий!AH$1,INDEX(Рабочий!$AA$3:$AA$303,MATCH(C7,Рабочий!$AH$3:$AH$303,0)),"") | E7: =IF(D7<>"",INDEX(Рабочий!$AI$3:$AI$303,MATCH(C7,Рабочий!$AH$3:$AH$303,0)),"") | M7: =D7 | N7: =E7
B8: =IF(C8<=Рабочий!AH$1,INDEX(Рабочий!$Z$3:$Z$303,MATCH(C8,Рабочий!$AH$3:$AH$303,0)),0) -> 0 | C8: =C7+1 -> 2 | D8: =IF(C8<=Рабочий!AH$1,INDEX(Рабочий!$AA$3:$AA$303,MATCH(C8,Рабочий!$AH$3:$AH$303,0)),"") | E8: =IF(D8<>"",INDEX(Рабочий!$AI$3:$AI$303,MATCH(C8,Рабочий!$AH$3:$AH$303,0)),"") | M8: =D8 | N8: =E8
B9: =IF(C9<=Рабочий!AH$1,INDEX(Рабочий!$Z$3:$Z$303,MATCH(C9,Рабочий!$AH$3:$AH$303,0)),0) -> 0 | C9: =C8+1 -> 3 | D9: =IF(C9<=Рабочий!AH$1,INDEX(Рабочий!$AA$3:$AA$303,MATCH(C9,Рабочий!$AH$3:$AH$303,0)),"") | E9: =IF(D9<>"",INDEX(Рабочий!$AI$3:$AI$303,MATCH(C9,Рабочий!$AH$3:$AH$303,0)),"") | M9: =D9 | N9: =E9
B10: =IF(C10<=Рабочий!AH$1,INDEX(Рабочий!$Z$3:$Z$303,MATCH(C10,Рабочий!$AH$3:$AH$303,0)),0) -> 0 | C10: =C9+1 -> 4 | D10: =IF(C10<=Рабочий!AH$1,INDEX(Рабочий!$AA$3:$AA$303,MATCH(C10,Рабочий!$AH$3:$AH$303,0)),"") | E10: =IF(D10<>"",INDEX(Рабочий!$AI$3:$AI$303,MATCH(C10,Рабочий!$AH$3:$AH$303,0)),"") | M10: =D10 | N10: =E10
B11: =IF(C11<=Рабочий!AH$1,INDEX(Рабочий!$Z$3:$Z$303,MATCH(C11,Рабочий!$AH$3:$AH$303,0)),0) -> 0 | C11: =C10+1 -> 5 | D11: =IF(C11<=Рабочий!AH$1,INDEX(Рабочий!$AA$3:$AA$303,MATCH(C11,Рабочий!$AH$3:$AH$303,0)),"") | E11: =IF(D11<>"",INDEX(Рабочий!$AI$3:$AI$303,MATCH(C11,Рабочий!$AH$3:$AH$303,0)),"") | M11: =D11 | N11: =E11
B12: =IF(C12<=Рабочий!AH$1,INDEX(Рабочий!$Z$3:$Z$303,MATCH(C12,Рабочий!$AH$3:$AH$303,0)),0) -> 0 | C12: =C11+1 -> 6 | D12: =IF(C12<=Рабочий!AH$1,INDEX(Рабочий!$AA$3:$AA$303,MATCH(C12,Рабочий!$AH$3:$AH$303,0)),"") | E12: =IF(D12<>"",INDEX(Рабочий!$AI$3:$AI$303,MATCH(C12,Рабочий!$AH$3:$AH$303,0)),"") | M12: =D12 | N12: =E12
B13: =IF(C13<=Рабочий!AH$1,INDEX(Рабочий!$Z$3:$Z$303,MATCH(C13,Рабочий!$AH$3:$AH$303,0)),0) -> 0 | C13: =C12+1 -> 7 | D13: =IF(C13<=Рабочий!AH$1,INDEX(Рабочий!$AA$3:$AA$303,MATCH(C13,Рабочий!$AH$3:$AH$303,0)),"") | E13: =IF(D13<>"",INDEX(Рабочий!$AI$3:$AI$303,MATCH(C13,Рабочий!$AH$3:$AH$303,0)),"") | M13: =D13 | N13: =E13
B14: =IF(C14<=Рабочий!AH$1,INDEX(Рабочий!$Z$3:$Z$303,MATCH(C14,Рабочий!$AH$3:$AH$303,0)),0) -> 0 | C14: =C13+1 -> 8 | D14: =IF(C14<=Рабочий!AH$1,INDEX(Рабочий!$AA$3:$AA$303,MATCH(C14,Рабочий!$AH$3:$AH$303,0)),"") | E14: =IF(D14<>"",INDEX(Рабочий!$AI$3:$AI$303,MATCH(C14,Рабочий!$AH$3:$AH$303,0)),"") | M14: =D14 | N14: =E14
B15: =IF(C15<=Рабочий!AH$1,INDEX(Рабочий!$Z$3:$Z$303,MATCH(C15,Рабочий!$AH$3:$AH$303,0)),0) -> 0 | C15: =C14+1 -> 9 | D15: =IF(C15<=Рабочий!AH$1,INDEX(Рабочий!$AA$3:$AA$303,MATCH(C15,Рабочий!$AH$3:$AH$303,0)),"") | E15: =IF(D15<>"",INDEX(Рабочий!$AI$3:$AI$303,MATCH(C15,Рабочий!$AH$3:$AH$303,0)),"") | M15: =D15 | N15: =E15
B16: =IF(C16<=Рабочий!AH$1,INDEX(Рабочий!$Z$3:$Z$303,MATCH(C16,Рабочий!$AH$3:$AH$303,0)),0) -> 0 | C16: =C15+1 -> 10 | D16: =IF(C16<=Рабочий!AH$1,INDEX(Рабочий!$AA$3:$AA$303,MATCH(C16,Рабочий!$AH$3:$AH$303,0)),"") | E16: =IF(D16<>"",INDEX(Рабочий!$AI$3:$AI$303,MATCH(C16,Рабочий!$AH$3:$AH$303,0)),"") | M16: =D16 | N16: =E16
B17: =IF(C17<=Рабочий!AH$1,INDEX(Рабочий!$Z$3:$Z$303,MATCH(C17,Рабочий!$AH$3:$AH$303,0)),0) -> 0 | C17: =C16+1 -> 11 | D17: =IF(C17<=Рабочий!AH$1,INDEX(Рабочий!$AA$3:$AA$303,MATCH(C17,Рабочий!$AH$3:$AH$303,0)),"") | E17: =IF(D17<>"",INDEX(Рабочий!$AI$3:$AI$303,MATCH(C17,Рабочий!$AH$3:$AH$303,0)),"") | M17: =D17 | N17: =E17
B18: =IF(C18<=Рабочий!AH$1,INDEX(Рабочий!$Z$3:$Z$303,MATCH(C18,Рабочий!$AH$3:$AH$303,0)),0) -> 0 | C18: =C17+1 -> 12 | D18: =IF(C18<=Рабочий!AH$1,INDEX(Рабочий!$AA$3:$AA$303,MATCH(C18,Рабочий!$AH$3:$AH$303,0)),"") | E18: =IF(D18<>"",INDEX(Рабочий!$AI$3:$AI$303,MATCH(C18,Рабочий!$AH$3:$AH$303,0)),"") | M18: =D18 | N18: =E18
B19: =IF(C19<=Рабочий!AH$1,INDEX(Рабочий!$Z$3:$Z$303,MATCH(C19,Рабочий!$AH$3:$AH$303,0)),0) -> 0 | C19: =C18+1 -> 13 | D19: =IF(C19<=Рабочий!AH$1,INDEX(Рабочий!$AA$3:$AA$303,MATCH(C19,Рабочий!$AH$3:$AH$303,0)),"") | E19: =IF(D19<>"",INDEX(Рабочий!$AI$3:$AI$303,MATCH(C19,Рабочий!$AH$3:$AH$303,0)),"") | M19: =D19 | N19: =E19
... B153: =IF(C153<=Рабочий!AH$1,INDEX(Рабочий!$Z$3:$Z$303,MATCH(C153,Рабочий!$AH$3:$AH$303,0)),0) -> 0 | C153: =C152+1 -> 147 | D153: =IF(C153<=Рабочий!AH$1,INDEX(Рабочий!$AA$3:$AA$303,MATCH(C153,Рабочий!$AH$3:$AH$303,0)),"") | E153: =IF(D153<>"",INDEX(Рабочий!$AI$3:$AI$303,MATCH(C153,Рабочий!$AH$3:$AH$303,0)),"") | M153: =D153 | N153: =E153

Sheet Рабочий
G1: РЖ | I1: Председатель жюри | J1: =MATCH(PROPER(TRIM('Общие данные'!E38)),$I$49:$I$186,0) -> 1 | K1: =CONCATENATE(INDEX($J$49:$J$186,J1),IF(J1<>1,", ",""),INDEX($K$49:$K$186,J1)) | L1: =INDEX($K$49:$K$186,J1) | M1: =INDEX($J$49:$J$186,J1) | N1: счетчик | O1: =MATCH(PROPER(TRIM('Общие данные'!E69)),$O$13:$O$153,0) -> 1 | P1: =IF(ISNA(O1),"Счетчик неизвестен!!! Возможно, ошибка в написании Фамилии Имени",IF(O1=1,"",CONCATENATE("Город: ",INDEX($P$13:$P$153,O1)," - Счетчик аттестован на категорию ",INDEX($Q$13:$Q$153,O1)))) | S1: Расшифровка аббревиатур организаций | W1: Склонение ФИО ответственного лица | AA1: Список категорий | AE1: =MAX(AE4:AE303) -> 0 | AF1: категорий | AH1: =MAX(AH4:AH303) -> 0 | AI1: категорий | AU1: Программа
A2: Список смежных возрастов | D2: Список смежных классов | F2: Председатель жюри | G2: =COUNTIF('Общие данные'!$B$38:$C$56,F2) -> 2 | O2: 14 | P2: 13 | S2: 18 | T2: 19 | U2: 20 | W2: 22 | X2: 23 | AE2: День 1 | AF2: День 1 | AH2: День 2 | AI2: День 2 | AT2: Чек | AU2: ST | AV2: LA | AW2: 10
F3: Заместитель председателя жюри | G3: =COUNTIF('Общие данные'!$B$38:$C$56,F3) -> 2 | S3: =MATCH('Общие данные'!J4,S8:S240,0) -> #N/A | T3: =INDEX(T8:T240,S3) -> #N/A | U3: =INDEX(U8:U240,S3) -> #N/A | W3: =MATCH(TRIM(PROPER('Общие данные'!K31)),W8:W240,0) -> #N/A | X3: =INDEX(X8:X240,W3) -> #N/A | Z3: 2 | AA3: =IF(OR('Уровни пары'!$AB$2<>"",'Уровни соло'!$AB$2<>""),CONCATENATE("Классификационные соревнования ",IF('Уровни пары'!$AB$2<>"","пар ",""),IF('Уровни соло'!$AB$2<>"","солистов","")),"") | AB3: 1 | AC3: =IF(AA3<>"",AB3,"") | AD3: =IF(COUNTIF(AD4:AD213,1)>0,1,"") | AE3: =IF(AD3=1,SUMPRODUCT(-(AC$3:AC$303<=AC3),-(AD$3:AD$303=1)),"") | AF3: Вносим вид соревнований в графу соответствующего отделения | AG3: =IF(COUNTIF(AG4:AG213,2)>0,2,"") | AH3: =IF(AG3=2,SUMPRODUCT(-(AC$3:AC$303<=AC3),-(AG$3:AG$303=2)),"") | AI3: Вносим вид соревнований в графу соответствующего отделения
A4: Ювеналы-1 | B4: Ювеналы-1+2 | D4: N | E4: N+E | F4: Заместитель председателя жюри на правах организатора | G4: =COUNTIF('Общие данные'!$B$38:$C$56,F4) -> 1 | I4: Председатель жюри | J4: =MATCH(PROPER(TRIM('Общие данные'!E41)),$I$49:$I$186,0) -> 1 | K4: =CONCATENATE(INDEX($J$49:$J$186,J4),IF(J4<>1,", ",""),INDEX($K$49:$K$186,J4)) | L4: =INDEX($K$49:$K$186,J4) | M4: =INDEX($J$49:$J$186,J4) | Z4: 1 | AA4: N 7 и моложе соло Ж | AB4: 2 | AC4: =IF(AT4=1,AB4,"") | AD4: =IF(AND(AC4<>"",TRIM(AF4)<>""),1,"") | AE4: =IF(AD4=1,SUMPRODUCT(-(AC$3:AC$303<=AC4),-(AD$3:AD$303=1)),"") | AF4: =CONCATENATE(IF(AU4=1,"ST ",""),IF(AV4=1,"LA ",""),IF(AW4=1,"10","")) -> ST LA | AG4: =IF(AND(AC4<>"",TRIM(AI4)<>""),2,"") | AH4: =IF(AG4=2,SUMPRODUCT(-(AC$3:AC$303<=AC4),-(AG$3:AG$303=2)),"") | AI4: =CONCATENATE(IF(AU4=2,"ST ",""),IF(AV4=2,"LA ",""),IF(AW4=2,"10","")) | AT4: =IF(AND('Уровни соло'!$E13="+",'Уровни соло'!$AB2<>""),1,"") | AU4: ='Уровни соло'!$G13 -> 1 | AV4: ='Уровни соло'!$H13 -> 1 | AW4: ='Уровни соло'!$I13 -> 0 | AY4: =_xlfn.FORMULATEXT(AU4) -> =$'Уровни соло'.$G13 | BA4: $'Классы соло'.$E13 | BB4: =SEARCH("соло",BA4) -> 10 | BC4: =IF(BB4>0,"$'Классы соло'.$T2<>''","$'Классы пары'.$T2<>''") -> $'Классы соло'.$T2<>'' | BE4: $'Классы соло'.$AB2<>"");1;"")
A5: Ювеналы-2 | B5: Ювеналы-2+Юниоры-1 | D5: E | E5: E+D | F5: Главный секретарь | G5: =COUNTIF('Общие данные'!$B$38:$C$56,F5) -> 2 | Z5: 1 | AA5: N 7 и моложе | AB5: 98 | AC5: =IF(AT5=1,AB5,"") | AD5: =IF(AND(AC5<>"",TRIM(AF5)<>""),1,"") | AE5: =IF(AD5=1,SUMPRODUCT(-(AC$3:AC$303<=AC5),-(AD$3:AD$303=1)),"") | AF5: =CONCATENATE(IF(AU5=1,"ST ",""),IF(AV5=1,"LA ",""),IF(AW5=1,"10","")) -> ST LA | AG5: =IF(AND(AC5<>"",TRIM(AI5)<>""),2,"") | AH5: =IF(AG5=2,SUMPRODUCT(-(AC$3:AC$303<=AC5),-(AG$3:AG$303=2)),"") | AI5: =CONCATENATE(IF(AU5=2,"ST ",""),IF(AV5=2,"LA ",""),IF(AW5=2,"10","")) | AT5: =IF(AND('Уровни пары'!$E13="+",'Уровни пары'!$AB2<>""),1,"") | AU5: ='Уровни пары'!$G13 -> 1 | AV5: ='Уровни пары'!$H13 -> 1 | AW5: ='Уровни пары'!$I13 -> 0 | AY5: =_xlfn.FORMULATEXT(AU5) -> =$'Уровни пары'.$G13 | BA5: $'Классы пары'.$E13 | BB5: =SEARCH("соло",BA5) -> #VALUE! | BC5: =IF(BB5>0,"$'Классы соло'.$T2<>''","$'Классы пары'.$T2<>''") -> #VALUE! | BE5: $'Классы пары'.$AB2<>"");1;"")
A6: Юниоры-1 | B6: Юниоры-1+2 | D6: D | E6: D+C | Z6: 1 | AA6: Ювеналы-1 N соло Ж | AB6: 3 | AC6: =IF(AT6=1,AB6,"") | AD6: =IF(AND(AC6<>"",TRIM(AF6)<>""),1,"") | AE6: =IF(AD6=1,SUMPRODUCT(-(AC$3:AC$303<=AC6),-(AD$3:AD$303=1)),"") | AF6: =CONCATENATE(IF(AU6=1,"ST ",""),IF(AV6=1,"LA ",""),IF(AW6=1,"10","")) -> ST LA | AG6: =IF(AND(AC6<>"",TRIM(AI6)<>""),2,"") | AH6: =IF(AG6=2,SUMPRODUCT(-(AC$3:AC$303<=AC6),-(AG$3:AG$303=2)),"") | AI6: =CONCATENATE(IF(AU6=2,"ST ",""),IF(AV6=2,"LA ",""),IF(AW6=2,"10","")) | AT6: =IF(AND('Уровни соло'!$E14="+",'Уровни соло'!$AB2<>""),1,"") | AU6: ='Уровни соло'!$G14 -> 1 | AV6: ='Уровни соло'!$H14 -> 1 | AW6: ='Уровни соло'!$I14 -> 0 | AY6: =_xlfn.FORMULATEXT(AU6) -> =$'Уровни соло'.$G14 | BA6: $'Классы соло'.$E14 | BB6: =SEARCH("соло",BA6) -> 10 | BC6: =IF(BB6>0,"$'Классы соло'.$T2<>''","$'Классы пары'.$T2<>''") -> $'Классы соло'.$T2<>'' | BE6: $'Классы соло'.$AB2<>"");1;"")
A7: Юниоры-2 | B7: Юниоры-2+Молодежь | D7: C | E7: C+B | I7: Заместитель | J7: =MATCH(PROPER(TRIM('Общие данные'!E44)),$I$49:$I$186,0) -> 1 | K7: =CONCATENATE(INDEX($J$49:$J$186,J7),IF(J7<>1,", ",""),INDEX($K$49:$K$186,J7)) | L7: =INDEX($K$49:$K$186,J7) | M7: =INDEX($J$49:$J$186,J7) | S7: аббревиатура | T7: Именительный | U7: Родительный | W7: ФИО | X7: Винительный | Z7: 1 | AA7: Ювеналы-1+2 N соло Ж | AB7: 4 | AC7: =IF(AT7=1,AB7,"") | AD7: =IF(AND(AC7<>"",TRIM(AF7)<>""),1,"") | AE7: =IF(AD7=1,SUMPRODUCT(-(AC$3:AC$303<=AC7),-(AD$3:AD$303=1)),"") | AF7: =CONCATENATE(IF(AU7=1,"ST ",""),IF(AV7=1,"LA ",""),IF(AW7=1,"10","")) -> ST LA | AG7: =IF(AND(AC7<>"",TRIM(AI7)<>""),2,"") | AH7: =IF(AG7=2,SUMPRODUCT(-(AC$3:AC$303<=AC7),-(AG$3:AG$303=2)),"") | AI7: =CONCATENATE(IF(AU7=2,"ST ",""),IF(AV7=2,"LA ",""),IF(AW7=2,"10","")) | AT7: =IF(AND('Уровни соло'!$K14="+",'Уровни соло'!$AB2<>""),1,"") | AU7: ='Уровни соло'!$M14 -> 1 | AV7: ='Уровни соло'!$N14 -> 1 | AW7: ='Уровни соло'!$O14 -> 0 | AY7: =_xlfn.FORMULATEXT(AU7) -> =$'Уровни соло'.$M14 | BA7: $'Классы соло'.$K14 | BB7: =SEARCH("соло",BA7) -> 10 | BC7: =IF(BB7>0,"$'Классы соло'.$T2<>''","$'Классы пары'.$T2<>''") -> $'Классы соло'.$T2<>'' | BE7: $'Классы соло'.$AB2<>"");1;"")
A8: Молодежь | B8: Молодежь+Взрослые | D8: B | E8: B+A | S8: ОФСТ | T8: Открытая Федерация Спортивного Танца | U8: Открытой Федерации Спортивного Танца | W8: Минаева Елена | X8: Минаеву Елену | Z8: 1 | AA8: Ювеналы-1 N+E соло Ж | AB8: 5 | AC8: =IF(AT8=1,AB8,"") | AD8: =IF(AND(AC8<>"",TRIM(AF8)<>""),1,"") | AE8: =IF(AD8=1,SUMPRODUCT(-(AC$3:AC$303<=AC8),-(AD$3:AD$303=1)),"") | AF8: =CONCATENATE(IF(AU8=1,"ST ",""),IF(AV8=1,"LA ",""),IF(AW8=1,"10","")) -> ST LA | AG8: =IF(AND(AC8<>"",TRIM(AI8)<>""),2,"") | AH8: =IF(AG8=2,SUMPRODUCT(-(AC$3:AC$303<=AC8),-(AG$3:AG$303=2)),"") | AI8: =CONCATENATE(IF(AU8=2,"ST ",""),IF(AV8=2,"LA ",""),IF(AW8=2,"10","")) | AT8: =IF(AND('Уровни соло'!$Q14="+",'Уровни соло'!$AB2<>""),1,"") | AU8: ='Уровни соло'!$S14 -> 1 | AV8: ='Уровни соло'!$T14 -> 1 | AW8: ='Уровни соло'!$U14 -> 0 | AY8: =_xlfn.FORMULATEXT(AU8) -> =$'Уровни соло'.$S14 | BA8: $'Классы соло'.$Q14 | BB8: =SEARCH("соло",BA8) -> 10 | BC8: =IF(BB8>0,"$'Классы соло'.$T2<>''","$'Классы пары'.$T2<>''") -> $'Классы соло'.$T2<>'' | BE8: $'Классы соло'.$AB2<>"");1;"")
A9: Взрослые | B9: Взрослые | D9: A | E9: A+S | S9: РО Тульской области | T9: Региональное отделение Тульской области | U9: Регионального отделения Тульской области | W9: Смирнова Наталия | X9: Смирнову Наталию | Z9: 1 | AA9: Ювеналы-1+2 N+E соло Ж | AB9: 6 | AC9: =IF(AT9=1,AB9,"") | AD9: =IF(AND(AC9<>"",TRIM(AF9)<>""),1,"") | AE9: =IF(AD9=1,SUMPRODUCT(-(AC$3:AC$303<=AC9),-(AD$3:AD$303=1)),"") | AF9: =CONCATENATE(IF(AU9=1,"ST ",""),IF(AV9=1,"LA ",""),IF(AW9=1,"10","")) -> ST LA | AG9: =IF(AND(AC9<>"",TRIM(AI9)<>""),2,"") | AH9: =IF(AG9=2,SUMPRODUCT(-(AC$3:AC$303<=AC9),-(AG$3:AG$303=2)),"") | AI9: =CONCATENATE(IF(AU9=2,"ST ",""),IF(AV9=2,"LA ",""),IF(AW9=2,"10","")) | AT9: =IF(AND('Уровни соло'!$W14="+",'Уровни соло'!$AB2<>""),1,"") | AU9: ='Уровни соло'!$Y14 -> 1 | AV9: ='Уровни соло'!$Z14 -> 1 | AW9: ='Уровни соло'!$AA14 -> 0 | AY9: =_xlfn.FORMULATEXT(AU9) -> =$'Уровни соло'.$Y14 | BA9: $'Классы соло'.$W14 | BB9: =SEARCH("соло",BA9) -> 10 | BC9: =IF(BB9>0,"$'Классы соло'.$T2<>''","$'Классы пары'.$T2<>''") -> $'Классы соло'.$T2<>'' | BE9: $'Классы соло'.$AB2<>"");1;"")
D10: S | E10: S | I10: Заместитель | J10: =MATCH(PROPER(TRIM('Общие данные'!E47)),$I$49:$I$186,0) -> 1 | K10: =CONCATENATE(INDEX($J$49:$J$186,J10),IF(J10<>1,", ",""),INDEX($K$49:$K$186,J10)) | L10: =INDEX($K$49:$K$186,J10) | M10: =INDEX($J$49:$J$186,J10) | S10: РО Орловской области | T10: Региональное отделение Орловской области | U10: Регионального отделения Орловской области | W10: Жигарев Александр | X10: Жигарева Александра | Z10: 1 | AA10: Ювеналы-2 N соло Ж | AB10: 7 | AC10: =IF(AT10=1,AB10,"") | AD10: =IF(AND(AC10<>"",TRIM(AF10)<>""),1,"") | AE10: =IF(AD10=1,SUMPRODUCT(-(AC$3:AC$303<=AC10),-(AD$3:AD$303=1)),"") | AF10: =CONCATENATE(IF(AU10=1,"ST ",""),IF(AV10=1,"LA ",""),IF(AW10=1,"10","")) -> ST LA | AG10: =IF(AND(AC10<>"",TRIM(AI10)<>""),2,"") | AH10: =IF(AG10=2,SUMPRODUCT(-(AC$3:AC$303<=AC10),-(AG$3:AG$303=2)),"") | AI10: =CONCATENATE(IF(AU10=2,"ST ",""),IF(AV10=2,"LA ",""),IF(AW10=2,"10","")) | AT10: =IF(AND('Уровни соло'!$E15="+",'Уровни соло'!$AB2<>""),1,"") | AU10: ='Уровни соло'!$G15 -> 1 | AV10: ='Уровни соло'!$H15 -> 1 | AW10: ='Уровни соло'!$I15 -> 0 | AY10: =_xlfn.FORMULATEXT(AU10) -> =$'Уровни соло'.$G15 | BA10: $'Классы соло'.$E15 | BB10: =SEARCH("соло",BA10) -> 10 | BC10: =IF(BB10>0,"$'Классы соло'.$T2<>''","$'Классы пары'.$T2<>''") -> $'Классы соло'.$T2<>'' | BE10: $'Классы соло'.$AB2<>"");1;"")
O11: Информация о счетных комиссиях | S11: МТА | T11: Московский Танцевальный Альянс | U11: Московского Танцевального Альянса Российиского Танцевального Союза | W11: Попов Роман | X11: Попова Романа | Z11: 1 | AA11: Ювеналы-2+Юниоры-1 N соло Ж | AB11: 8 | AC11: =IF(AT11=1,AB11,"") | AD11: =IF(AND(AC11<>"",TRIM(AF11)<>""),1,"") | AE11: =IF(AD11=1,SUMPRODUCT(-(AC$3:AC$303<=AC11),-(AD$3:AD$303=1)),"") | AF11: =CONCATENATE(IF(AU11=1,"ST ",""),IF(AV11=1,"LA ",""),IF(AW11=1,"10","")) -> ST LA | AG11: =IF(AND(AC11<>"",TRIM(AI11)<>""),2,"") | AH11: =IF(AG11=2,SUMPRODUCT(-(AC$3:AC$303<=AC11),-(AG$3:AG$303=2)),"") | AI11: =CONCATENATE(IF(AU11=2,"ST ",""),IF(AV11=2,"LA ",""),IF(AW11=2,"10","")) | AT11: =IF(AND('Уровни соло'!$K15="+",'Уровни соло'!$AB2<>""),1,"") | AU11: ='Уровни соло'!$M15 -> 1 | AV11: ='Уровни соло'!$N15 -> 1 | AW11: ='Уровни соло'!$O15 -> 0 | AY11: =_xlfn.FORMULATEXT(AU11) -> =$'Уровни соло'.$M15 | BA11: $'Классы соло'.$K15 | BB11: =SEARCH("соло",BA11) -> 10 | BC11: =IF(BB11>0,"$'Классы соло'.$T2<>''","$'Классы пары'.$T2<>''") -> $'Классы соло'.$T2<>'' | BE11: $'Классы соло'.$AB2<>"");1;"")
O12: ФИ | P12: Город | Q12: Категория | S12: РО Челябинской области | T12: региональное отделение Челябинской области | U12: Регионального отделения Челябинской области | W12: Радюш Александр | X12: Радюша Александра | Z12: 1 | AA12: Ювеналы-2 N+E соло Ж | AB12: 9 | AC12: =IF(AT12=1,AB12,"") | AD12: =IF(AND(AC12<>"",TRIM(AF12)<>""),1,"") | AE12: =IF(AD12=1,SUMPRODUCT(-(AC$3:AC$303<=AC12),-(AD$3:AD$303=1)),"") | AF12: =CONCATENATE(IF(AU12=1,"ST ",""),IF(AV12=1,"LA ",""),IF(AW12=1,"10","")) -> ST LA | AG12: =IF(AND(AC12<>"",TRIM(AI12)<>""),2,"") | AH12: =IF(AG12=2,SUMPRODUCT(-(AC$3:AC$303<=AC12),-(AG$3:AG$303=2)),"") | AI12: =CONCATENATE(IF(AU12=2,"ST ",""),IF(AV12=2,"LA ",""),IF(AW12=2,"10","")) | AT12: =IF(AND('Уровни соло'!$Q15="+",'Уровни соло'!$AB2<>""),1,"") | AU12: ='Уровни соло'!$S15 -> 1 | AV12: ='Уровни соло'!$T15 -> 1 | AW12: ='Уровни соло'!$U15 -> 0 | AY12: =_xlfn.FORMULATEXT(AU12) -> =$'Уровни соло'.$S15 | BA12: $'Классы соло'.$Q15 | BB12: =SEARCH("соло",BA12) -> 10 | BC12: =IF(BB12>0,"$'Классы соло'.$T2<>''","$'Классы пары'.$T2<>''") -> $'Классы соло'.$T2<>'' | BE12: $'Классы соло'.$AB2<>"");1;"")
I13: Заместитель-организатор | J13: =MATCH(PROPER(TRIM('Общие данные'!E50)),$I$49:$I$186,0) -> 1 | K13: =CONCATENATE(INDEX($J$49:$J$186,J13),IF(J13<>1,", ",""),INDEX($K$49:$K$186,J13)) | L13: =INDEX($K$49:$K$186,J13) | M13: =INDEX($J$49:$J$186,J13) | O13: Фамилия Имя | S13: ТТА | T13: Таврический Танцевальный Альянс | U13: Таврического Танцевального Альянса | W13: Баев Александр | X13: Баева Александра | Z13: 1 | AA13: Ювеналы-2+Юниоры-1 N+E соло Ж | AB13: 10 | AC13: =IF(AT13=1,AB13,"") | AD13: =IF(AND(AC13<>"",TRIM(AF13)<>""),1,"") | AE13: =IF(AD13=1,SUMPRODUCT(-(AC$3:AC$303<=AC13),-(AD$3:AD$303=1)),"") | AF13: =CONCATENATE(IF(AU13=1,"ST ",""),IF(AV13=1,"LA ",""),IF(AW13=1,"10","")) -> ST LA | AG13: =IF(AND(AC13<>"",TRIM(AI13)<>""),2,"") | AH13: =IF(AG13=2,SUMPRODUCT(-(AC$3:AC$303<=AC13),-(AG$3:AG$303=2)),"") | AI13: =CONCATENATE(IF(AU13=2,"ST ",""),IF(AV13=2,"LA ",""),IF(AW13=2,"10","")) | AT13: =IF(AND('Уровни соло'!$W15="+",'Уровни соло'!$AB2<>""),1,"") | AU13: ='Уровни соло'!$Y15 -> 1 | AV13: ='Уровни соло'!$Z15 -> 1 | AW13: ='Уровни соло'!$AA15 -> 0 | AY13: =_xlfn.FORMULATEXT(AU13) -> =$'Уровни соло'.$Y15 | BA13: $'Классы соло'.$W15 | BB13: =SEARCH("соло",BA13) -> 10 | BC13: =IF(BB13>0,"$'Классы соло'.$T2<>''","$'Классы пары'.$T2<>''") -> $'Классы соло'.$T2<>'' | BE13: $'Классы соло'.$AB2<>"");1;"")
O14: Абаев Дмитрий | P14: Севастополь | Q14: B | S14: СПТС | T14: Санкт-Петербургский Танцевальный Союз | U14: Санкт-Петербургского Танцевального Союза | W14: Уваров Илья | X14: Уварова Илью | Z14: 1 | AA14: Юниоры-1 N соло Ж | AB14: 11 | AC14: =IF(AT14=1,AB14,"") | AD14: =IF(AND(AC14<>"",TRIM(AF14)<>""),1,"") | AE14: =IF(AD14=1,SUMPRODUCT(-(AC$3:AC$303<=AC14),-(AD$3:AD$303=1)),"") | AF14: =CONCATENATE(IF(AU14=1,"ST ",""),IF(AV14=1,"LA ",""),IF(AW14=1,"10","")) -> ST LA | AG14: =IF(AND(AC14<>"",TRIM(AI14)<>""),2,"") | AH14: =IF(AG14=2,SUMPRODUCT(-(AC$3:AC$303<=AC14),-(AG$3:AG$303=2)),"") | AI14: =CONCATENATE(IF(AU14=2,"ST ",""),IF(AV14=2,"LA ",""),IF(AW14=2,"10","")) | AT14: =IF(AND('Уровни соло'!$E16="+",'Уровни соло'!$AB2<>""),1,"") | AU14: ='Уровни соло'!$G16 -> 1 | AV14: ='Уровни соло'!$H16 -> 1 | AW14: ='Уровни соло'!$I16 -> 0 | AY14: =_xlfn.FORMULATEXT(AU14) -> =$'Уровни соло'.$G16 | BA14: $'Классы соло'.$E16 | BB14: =SEARCH("соло",BA14) -> 10 | BC14: =IF(BB14>0,"$'Классы соло'.$T2<>''","$'Классы пары'.$T2<>''") -> $'Классы соло'.$T2<>'' | BE14: $'Классы соло'.$AB2<>"");1;"")
A15: Индекс Статуса соревнования | C15: =IF(COUNTBLANK('Общие данные'!J7:J10)<>3,0, IF('Общие данные'!J7<>"",1,IF('Общие данные'!J8<>"",2,IF('Общие данные'!J9<>"",3,IF('Общие данные'!J10<>"",4,0))))) -> 0 | O15: Алексеев Михаил | P15: Москва | Q15: A | S15: РО города Санкт-Петербурга | T15: Региональное отделение города Санкт-Петербурга | U15: Регионального отделения города Санкт-Петербурга | W15: Золотаревский Алексей | X15: Золотаревского Алексея | Z15: 1 | AA15: Юниоры-1+2 N соло Ж | AB15: 12 | AC15: =IF(AT15=1,AB15,"") | AD15: =IF(AND(AC15<>"",TRIM(AF15)<>""),1,"") | AE15: =IF(AD15=1,SUMPRODUCT(-(AC$3:AC$303<=AC15),-(AD$3:AD$303=1)),"") | AF15: =CONCATENATE(IF(AU15=1,"ST ",""),IF(AV15=1,"LA ",""),IF(AW15=1,"10","")) -> ST LA | AG15: =IF(AND(AC15<>"",TRIM(AI15)<>""),2,"") | AH15: =IF(AG15=2,SUMPRODUCT(-(AC$3:AC$303<=AC15),-(AG$3:AG$303=2)),"") | AI15: =CONCATENATE(IF(AU15=2,"ST ",""),IF(AV15=2,"LA ",""),IF(AW15=2,"10","")) | AT15: =IF(AND('Уровни соло'!$K16="+",'Уровни соло'!$AB2<>""),1,"") | AU15: ='Уровни соло'!$M16 -> 1 | AV15: ='Уровни соло'!$N16 -> 1 | AW15: ='Уровни соло'!$O16 -> 0 | AY15: =_xlfn.FORMULATEXT(AU15) -> =$'Уровни соло'.$M16 | BA15: $'Классы соло'.$K16 | BB15: =SEARCH("соло",BA15) -> 10 | BC15: =IF(BB15>0,"$'Классы соло'.$T2<>''","$'Классы пары'.$T2<>''") -> $'Классы соло'.$T2<>'' | BE15: $'Классы соло'.$AB2<>"");1;"")
I16: гл секретарь | J16: =MATCH(PROPER(TRIM('Общие данные'!E53)),$I$49:$I$186,0) -> 1 | K16: =CONCATENATE(INDEX($J$49:$J$186,J16),IF(J16<>1,", ",""),INDEX($K$49:$K$186,J16)) | L16: =INDEX($K$49:$K$186,J16) | M16: =INDEX($J$49:$J$186,J16) | O16: Бороздин Олег | P16: Краснодар | Q16: С | S16: РТС | T16: Российский Танцевальный Союз | U16: Российского Танцевального Союза | W16: Степанкина Анастасия | X16: Степанкину Анастасию | Z16: 1 | AA16: Юниоры-1 N+E соло Ж | AB16: 13 | AC16: =IF(AT16=1,AB16,"") | AD16: =IF(AND(AC16<>"",TRIM(AF16)<>""),1,"") | AE16: =IF(AD16=1,SUMPRODUCT(-(AC$3:AC$303<=AC16),-(AD$3:AD$303=1)),"") | AF16: =CONCATENATE(IF(AU16=1,"ST ",""),IF(AV16=1,"LA ",""),IF(AW16=1,"10","")) -> ST LA | AG16: =IF(AND(AC16<>"",TRIM(AI16)<>""),2,"") | AH16: =IF(AG16=2,SUMPRODUCT(-(AC$3:AC$303<=AC16),-(AG$3:AG$303=2)),"") | AI16: =CONCATENATE(IF(AU16=2,"ST ",""),IF(AV16=2,"LA ",""),IF(AW16=2,"10","")) | AT16: =IF(AND('Уровни соло'!$Q16="+",'Уровни соло'!$AB2<>""),1,"") | AU16: ='Уровни соло'!$S16 -> 1 | AV16: ='Уровни соло'!$T16 -> 1 | AW16: ='Уровни соло'!$U16 -> 0 | AY16: =_xlfn.FORMULATEXT(AU16) -> =$'Уровни соло'.$S16 | BA16: $'Классы соло'.$Q16 | BB16: =SEARCH("соло",BA16) -> 10 | BC16: =IF(BB16>0,"$'Классы соло'.$T2<>''","$'Классы пары'.$T2<>''") -> $'Классы соло'.$T2<>'' | BE16: $'Классы соло'.$AB2<>"");1;"")
A17: Жюри | O17: Долгопол Спартак | P17: Москва | Q17: С | S17: РО Краснодарского края | T17: Региональное отделение Краснодарского края | U17: Регионального отделения Краснодарского края | W17: Петренко Екатерина | X17: Петренко Екатерину | Z17: 1 | AA17: Юниоры-1+2 N+E соло Ж | AB17: 14 | AC17: =IF(AT17=1,AB17,"") | AD17: =IF(AND(AC17<>"",TRIM(AF17)<>""),1,"") | AE17: =IF(AD17=1,SUMPRODUCT(-(AC$3:AC$303<=AC17),-(AD$3:AD$303=1)),"") | AF17: =CONCATENATE(IF(AU17=1,"ST ",""),IF(AV17=1,"LA ",""),IF(AW17=1,"10","")) -> ST LA | AG17: =IF(AND(AC17<>"",TRIM(AI17)<>""),2,"") | AH17: =IF(AG17=2,SUMPRODUCT(-(AC$3:AC$303<=AC17),-(AG$3:AG$303=2)),"") | AI17: =CONCATENATE(IF(AU17=2,"ST ",""),IF(AV17=2,"LA ",""),IF(AW17=2,"10","")) | AT17: =IF(AND('Уровни соло'!$W16="+",'Уровни соло'!$AB2<>""),1,"") | AU17: ='Уровни соло'!$Y16 -> 1 | AV17: ='Уровни соло'!$Z16 -> 1 | AW17: ='Уровни соло'!$AA16 -> 0 | AY17: =_xlfn.FORMULATEXT(AU17) -> =$'Уровни соло'.$Y16 | BA17: $'Классы соло'.$W16 | BB17: =SEARCH("соло",BA17) -> 10 | BC17: =IF(BB17>0,"$'Классы соло'.$T2<>''","$'Классы пары'.$T2<>''") -> $'Классы соло'.$T2<>'' | BE17: $'Классы соло'.$AB2<>"");1;"")
A18: Приезд | B18: ='Общие данные'!E66 -> 00.00.0000 | O18: Зеленцов Александр | P18: Тула | Q18: A | S18: Новая танцевальная лига | T18: Новая Танцевальная лига | U18: Новой танцевальной лиги | W18: Ратченкова Светлана | X18: Ратченкову Светлану | Z18: 1 | AA18: Юниоры-2 N соло Ж | AB18: 15 | AC18: =IF(AT18=1,AB18,"") | AD18: =IF(AND(AC18<>"",TRIM(AF18)<>""),1,"") | AE18: =IF(AD18=1,SUMPRODUCT(-(AC$3:AC$303<=AC18),-(AD$3:AD$303=1)),"") | AF18: =CONCATENATE(IF(AU18=1,"ST ",""),IF(AV18=1,"LA ",""),IF(AW18=1,"10","")) -> ST LA | AG18: =IF(AND(AC18<>"",TRIM(AI18)<>""),2,"") | AH18: =IF(AG18=2,SUMPRODUCT(-(AC$3:AC$303<=AC18),-(AG$3:AG$303=2)),"") | AI18: =CONCATENATE(IF(AU18=2,"ST ",""),IF(AV18=2,"LA ",""),IF(AW18=2,"10","")) | AT18: =IF(AND('Уровни соло'!$E17="+",'Уровни соло'!$AB2<>""),1,"") | AU18: ='Уровни соло'!$G17 -> 1 | AV18: ='Уровни соло'!$H17 -> 1 | AW18: ='Уровни соло'!$I17 -> 0 | AY18: =_xlfn.FORMULATEXT(AU18) -> =$'Уровни соло'.$G17 | BA18: $'Классы соло'.$E17 | BB18: =SEARCH("соло",BA18) -> 10 | BC18: =IF(BB18>0,"$'Классы соло'.$T2<>''","$'Классы пары'.$T2<>''") -> $'Классы соло'.$T2<>'' | BE18: $'Классы соло'.$AB2<>"");1;"")
A19: Отъезд | B19: ='Общие данные'!K66 -> 00.00.0000 | I19: гл секретарь | J19: =MATCH(PROPER(TRIM('Общие данные'!E56)),$I$49:$I$186,0) -> 1 | K19: =CONCATENATE(INDEX($J$49:$J$186,J19),IF(J19<>1,", ",""),INDEX($K$49:$K$186,J19)) | L19: =INDEX($K$49:$K$186,J19) | M19: =INDEX($J$49:$J$186,J19) | O19: Козаренко Александр | P19: Ростов-на-Дону | Q19: C | S19: ТОООФСБТ | T19: Тамбовская областная общественная организация «Федерация спортивного бального танца» | U19: Тамбовской областной общественной организации «Федерация спортивного бального танца» | W19: Москалева Ольга | X19: Москалеву Ольгу | Z19: 1 | AA19: Юниоры-2+Молодежь N соло Ж | AB19: 16 | AC19: =IF(AT19=1,AB19,"") | AD19: =IF(AND(AC19<>"",TRIM(AF19)<>""),1,"") | AE19: =IF(AD19=1,SUMPRODUCT(-(AC$3:AC$303<=AC19),-(AD$3:AD$303=1)),"") | AF19: =CONCATENATE(IF(AU19=1,"ST ",""),IF(AV19=1,"LA ",""),IF(AW19=1,"10","")) -> ST LA | AG19: =IF(AND(AC19<>"",TRIM(AI19)<>""),2,"") | AH19: =IF(AG19=2,SUMPRODUCT(-(AC$3:AC$303<=AC19),-(AG$3:AG$303=2)),"") | AI19: =CONCATENATE(IF(AU19=2,"ST ",""),IF(AV19=2,"LA ",""),IF(AW19=2,"10","")) | AT19: =IF(AND('Уровни соло'!$K17="+",'Уровни соло'!$AB2<>""),1,"") | AU19: ='Уровни соло'!$M17 -> 1 | AV19: ='Уровни соло'!$N17 -> 1 | AW19: ='Уровни соло'!$O17 -> 0 | AY19: =_xlfn.FORMULATEXT(AU19) -> =$'Уровни соло'.$M17 | BA19: $'Классы соло'.$K17 | BB19: =SEARCH("соло",BA19) -> 10 | BC19: =IF(BB19>0,"$'Классы соло'.$T2<>''","$'Классы пары'.$T2<>''") -> $'Классы соло'.$T2<>'' | BE19: $'Классы соло'.$AB2<>"");1;"")
A20: Танцоры | I20: Председатель ГФ | J20: =MATCH(PROPER(TRIM('Главные Фестивали'!E20)),$I$49:$I$186,0) -> 1 | K20: =CONCATENATE(INDEX($J$49:$J$186,J20),IF(J20<>1,", ",""),INDEX($K$49:$K$186,J20)) | L20: =INDEX($K$49:$K$186,J20) | M20: =INDEX($J$49:$J$186,J20) | O20: Макаров Алексей | P20: Москва | Q20: C | S20: РО Калининградской области | T20: Региональное отделение Калининградской области | U20: Регионального отделения Калининградской области | W20: Бушуева Валерия | X20: Бушуеву Валерию | Z20: 1 | AA20: Юниоры-2 N+E соло Ж | AB20: 17 | AC20: =IF(AT20=1,AB20,"") | AD20: =IF(AND(AC20<>"",TRIM(AF20)<>""),1,"") | AE20: =IF(AD20=1,SUMPRODUCT(-(AC$3:AC$303<=AC20),-(AD$3:AD$303=1)),"") | AF20: =CONCATENATE(IF(AU20=1,"ST ",""),IF(AV20=1,"LA ",""),IF(AW20=1,"10","")) -> ST LA | AG20: =IF(AND(AC20<>"",TRIM(AI20)<>""),2,"") | AH20: =IF(AG20=2,SUMPRODUCT(-(AC$3:AC$303<=AC20),-(AG$3:AG$303=2)),"") | AI20: =CONCATENATE(IF(AU20=2,"ST ",""),IF(AV20=2,"LA ",""),IF(AW20=2,"10","")) | AT20: =IF(AND('Уровни соло'!$Q17="+",'Уровни соло'!$AB2<>""),1,"") | AU20: ='Уровни соло'!$S17 -> 1 | AV20: ='Уровни соло'!$T17 -> 1 | AW20: ='Уровни соло'!$U17 -> 0 | AY20: =_xlfn.FORMULATEXT(AU20) -> =$'Уровни соло'.$S17 | BA20: $'Классы соло'.$Q17 | BB20: =SEARCH("соло",BA20) -> 10 | BC20: =IF(BB20>0,"$'Классы соло'.$T2<>''","$'Классы пары'.$T2<>''") -> $'Классы соло'.$T2<>'' | BE20: $'Классы соло'.$AB2<>"");1;"")
A21: Приезд | B21: ='Общие данные'!E74 -> 00.00.0000 | O21: Пшеничников Василий | P21: Москва | Q21: A | S21: ЮТЛ | T21: Южная танцевальная лига | U21: Южной танцевальной лиги | W21: Телятникова Милена | X21: Телятникову Милену | Z21: 1 | AA21: Юниоры-2+Молодежь N+E соло Ж | AB21: 18 | AC21: =IF(AT21=1,AB21,"") | AD21: =IF(AND(AC21<>"",TRIM(AF21)<>""),1,"") | AE21: =IF(AD21=1,SUMPRODUCT(-(AC$3:AC$303<=AC21),-(AD$3:AD$303=1)),"") | AF21: =CONCATENATE(IF(AU21=1,"ST ",""),IF(AV21=1,"LA ",""),IF(AW21=1,"10","")) -> ST LA | AG21: =IF(AND(AC21<>"",TRIM(AI21)<>""),2,"") | AH21: =IF(AG21=2,SUMPRODUCT(-(AC$3:AC$303<=AC21),-(AG$3:AG$303=2)),"") | AI21: =CONCATENATE(IF(AU21=2,"ST ",""),IF(AV21=2,"LA ",""),IF(AW21=2,"10","")) | AT21: =IF(AND('Уровни соло'!$W17="+",'Уровни соло'!$AB2<>""),1,"") | AU21: ='Уровни соло'!$Y17 -> 1 | AV21: ='Уровни соло'!$Z17 -> 1 | AW21: ='Уровни соло'!$AA17 -> 0 | AY21: =_xlfn.FORMULATEXT(AU21) -> =$'Уровни соло'.$Y17 | BA21: $'Классы соло'.$W17 | BB21: =SEARCH("соло",BA21) -> 10 | BC21: =IF(BB21>0,"$'Классы соло'.$T2<>''","$'Классы пары'.$T2<>''") -> $'Классы соло'.$T2<>'' | BE21: $'Классы соло'.$AB2<>"");1;"")
A22: Отъезд | B22: ='Общие данные'!E76 -> 00.00.0000 | O22: Рассолов Кирилл | P22: Волгоградская область | Q22: C | S22: ЮТС | T22: Южный танцевальный союз | U22: Южного танцевального союза | W22: Максимов Дмитрий | X22: Максимова Дмитрия | Z22: 1 | AA22: Молодежь N соло Ж | AB22: 19 | AC22: =IF(AT22=1,AB22,"") | AD22: =IF(AND(AC22<>"",TRIM(AF22)<>""),1,"") | AE22: =IF(AD22=1,SUMPRODUCT(-(AC$3:AC$303<=AC22),-(AD$3:AD$303=1)),"") | AF22: =CONCATENATE(IF(AU22=1,"ST ",""),IF(AV22=1,"LA ",""),IF(AW22=1,"10","")) -> ST LA | AG22: =IF(AND(AC22<>"",TRIM(AI22)<>""),2,"") | AH22: =IF(AG22=2,SUMPRODUCT(-(AC$3:AC$303<=AC22),-(AG$3:AG$303=2)),"") | AI22: =CONCATENATE(IF(AU22=2,"ST ",""),IF(AV22=2,"LA ",""),IF(AW22=2,"10","")) | AT22: =IF(AND('Уровни соло'!$E18="+",'Уровни соло'!$AB2<>""),1,"") | AU22: ='Уровни соло'!$G18 -> 1 | AV22: ='Уровни соло'!$H18 -> 1 | AW22: ='Уровни соло'!$I18 -> 0 | AY22: =_xlfn.FORMULATEXT(AU22) -> =$'Уровни соло'.$G18 | BA22: $'Классы соло'.$E18 | BB22: =SEARCH("соло",BA22) -> 10 | BC22: =IF(BB22>0,"$'Классы соло'.$T2<>''","$'Классы пары'.$T2<>''") -> $'Классы соло'.$T2<>'' | BE22: $'Классы соло'.$AB2<>"");1;"")
I23: Заместитель ГФ | J23: =MATCH(PROPER(TRIM('Главные Фестивали'!E23)),$I$49:$I$186,0) -> 1 | K23: =CONCATENATE(INDEX($J$49:$J$186,J23),IF(J23<>1,", ",""),INDEX($K$49:$K$186,J23)) | L23: =INDEX($K$49:$K$186,J23) | M23: =INDEX($J$49:$J$186,J23) | O23: Сивкович Сергей | P23: Москва | Q23: B | S23: РО Тамбовской области | T23: Региональное отделение Тамбовской области | U23: Регионального отделения Тамбовской области | W23: Казаченко Полина | X23: Казаченко Полину | Z23: 1 | AA23: Молодежь+Взрослые N соло Ж | AB23: 20 | AC23: =IF(AT23=1,AB23,"") | AD23: =IF(AND(AC23<>"",TRIM(AF23)<>""),1,"") | AE23: =IF(AD23=1,SUMPRODUCT(-(AC$3:AC$303<=AC23),-(AD$3:AD$303=1)),"") | AF23: =CONCATENATE(IF(AU23=1,"ST ",""),IF(AV23=1,"LA ",""),IF(AW23=1,"10","")) -> ST LA | AG23: =IF(AND(AC23<>"",TRIM(AI23)<>""),2,"") | AH23: =IF(AG23=2,SUMPRODUCT(-(AC$3:AC$303<=AC23),-(AG$3:AG$303=2)),"") | AI23: =CONCATENATE(IF(AU23=2,"ST ",""),IF(AV23=2,"LA ",""),IF(AW23=2,"10","")) | AT23: =IF(AND('Уровни соло'!$K18="+",'Уровни соло'!$AB2<>""),1,"") | AU23: ='Уровни соло'!$M18 -> 1 | AV23: ='Уровни соло'!$N18 -> 1 | AW23: ='Уровни соло'!$O18 -> 0 | AY23: =_xlfn.FORMULATEXT(AU23) -> =$'Уровни соло'.$M18 | BA23: $'Классы соло'.$K18 | BB23: =SEARCH("соло",BA23) -> 10 | BC23: =IF(BB23>0,"$'Классы соло'.$T2<>''","$'Классы пары'.$T2<>''") -> $'Классы соло'.$T2<>'' | BE23: $'Классы соло'.$AB2<>"");1;"")
A24: День окончания регистрации | C24: =CONCATENATE(TEXT('Общие данные'!E80,"DD MMMM YYYY года (DDDD)")," до 23:59:59") -> 00.00.0000 до 23:59:59 | O24: Стаселович Ирина | P24: Калининград | Q24: D | S24: РОДОО «ДТС» | T24: РОДОО «Донской танцевальный союз» | U24: РОДОО «Донского танцевального союза» | W24: Орлов Владимир | X24: Орлова Владимира | Z24: 1 | AA24: Молодежь N+E соло Ж | AB24: 21 | AC24: =IF(AT24=1,AB24,"") | AD24: =IF(AND(AC24<>"",TRIM(AF24)<>""),1,"") | AE24: =IF(AD24=1,SUMPRODUCT(-(AC$3:AC$303<=AC24),-(AD$3:AD$303=1)),"") | AF24: =CONCATENATE(IF(AU24=1,"ST ",""),IF(AV24=1,"LA ",""),IF(AW24=1,"10","")) -> ST LA | AG24: =IF(AND(AC24<>"",TRIM(AI24)<>""),2,"") | AH24: =IF(AG24=2,SUMPRODUCT(-(AC$3:AC$303<=AC24),-(AG$3:AG$303=2)),"") | AI24: =CONCATENATE(IF(AU24=2,"ST ",""),IF(AV24=2,"LA ",""),IF(AW24=2,"10","")) | AT24: =IF(AND('Уровни соло'!$Q18="+",'Уровни соло'!$AB2<>""),1,"") | AU24: ='Уровни соло'!$S18 -> 1 | AV24: ='Уровни соло'!$T18 -> 1 | AW24: ='Уровни соло'!$U18 -> 0 | AY24: =_xlfn.FORMULATEXT(AU24) -> =$'Уровни соло'.$S18 | BA24: $'Классы соло'.$Q18 | BB24: =SEARCH("соло",BA24) -> 10 | BC24: =IF(BB24>0,"$'Классы соло'.$T2<>''","$'Классы пары'.$T2<>''") -> $'Классы соло'.$T2<>'' | BE24: $'Классы соло'.$AB2<>"");1;"")
O25: Степаненко Игорь | P25: Тамбов | Q25: B | S25: РО города Москвы | T25: Региональное отделение города Москвы | U25: Регионального отделения города Москвы | W25: Елизаров Александр | X25: Елизарова Александра | Z25: 1 | AA25: Молодежь+Взрослые N+E соло Ж | AB25: 22 | AC25: =IF(AT25=1,AB25,"") | AD25: =IF(AND(AC25<>"",TRIM(AF25)<>""),1,"") | AE25: =IF(AD25=1,SUMPRODUCT(-(AC$3:AC$303<=AC25),-(AD$3:AD$303=1)),"") | AF25: =CONCATENATE(IF(AU25=1,"ST ",""),IF(AV25=1,"LA ",""),IF(AW25=1,"10","")) -> ST LA | AG25: =IF(AND(AC25<>"",TRIM(AI25)<>""),2,"") | AH25: =IF(AG25=2,SUMPRODUCT(-(AC$3:AC$303<=AC25),-(AG$3:AG$303=2)),"") | AI25: =CONCATENATE(IF(AU25=2,"ST ",""),IF(AV25=2,"LA ",""),IF(AW25=2,"10","")) | AT25: =IF(AND('Уровни соло'!$W18="+",'Уровни соло'!$AB2<>""),1,"") | AU25: ='Уровни соло'!$Y18 -> 1 | AV25: ='Уровни соло'!$Z18 -> 1 | AW25: ='Уровни соло'!$AA18 -> 0 | AY25: =_xlfn.FORMULATEXT(AU25) -> =$'Уровни соло'.$Y18 | BA25: $'Классы соло'.$W18 | BB25: =SEARCH("соло",BA25) -> 10 | BC25: =IF(BB25>0,"$'Классы соло'.$T2<>''","$'Классы пары'.$T2<>''") -> $'Классы соло'.$T2<>'' | BE25: $'Классы соло'.$AB2<>"");1;"")
A26: сроки проведения | I26: Заместитель ГФ | J26: =MATCH(PROPER(TRIM('Главные Фестивали'!E26)),$I$49:$I$186,0) -> 1 | K26: =CONCATENATE(INDEX($J$49:$J$186,J26),IF(J26<>1,", ",""),INDEX($K$49:$K$186,J26)) | L26: =INDEX($K$49:$K$186,J26) | M26: =INDEX($J$49:$J$186,J26) | O26: Сучков Владимир | P26: Москва | Q26: A | S26: РО республики Карелия | T26: Региональное отделение републики Карелия | U26: Регионального отделения републики Карелия | W26: Пономарева Мария | X26: Пономареву Марию | Z26: 1 | AA26: Взрослые N соло Ж | AB26: 23 | AC26: =IF(AT26=1,AB26,"") | AD26: =IF(AND(AC26<>"",TRIM(AF26)<>""),1,"") | AE26: =IF(AD26=1,SUMPRODUCT(-(AC$3:AC$303<=AC26),-(AD$3:AD$303=1)),"") | AF26: =CONCATENATE(IF(AU26=1,"ST ",""),IF(AV26=1,"LA ",""),IF(AW26=1,"10","")) -> ST LA | AG26: =IF(AND(AC26<>"",TRIM(AI26)<>""),2,"") | AH26: =IF(AG26=2,SUMPRODUCT(-(AC$3:AC$303<=AC26),-(AG$3:AG$303=2)),"") | AI26: =CONCATENATE(IF(AU26=2,"ST ",""),IF(AV26=2,"LA ",""),IF(AW26=2,"10","")) | AT26: =IF(AND('Уровни соло'!$E19="+",'Уровни соло'!$AB2<>""),1,"") | AU26: ='Уровни соло'!$G19 -> 1 | AV26: ='Уровни соло'!$H19 -> 1 | AW26: ='Уровни соло'!$I19 -> 0 | AY26: =_xlfn.FORMULATEXT(AU26) -> =$'Уровни соло'.$G19 | BA26: $'Классы соло'.$E19 | BB26: =SEARCH("соло",BA26) -> 10 | BC26: =IF(BB26>0,"$'Классы соло'.$T2<>''","$'Классы пары'.$T2<>''") -> $'Классы соло'.$T2<>'' | BE26: $'Классы соло'.$AB2<>"");1;"")
A27: начало | B27: ='Общие данные'!C4 -> 00.00.0000 | O27: Водовский Дмитрий | P27: Краснодар | Q27: C | S27: МФСТ | T27: Московская федерация спортивного танца | U27: Московской федерации спортивного танца | W27: Юшков Алексей | X27: Юшкова Алексея | Z27: 1 | AA27: Взрослые N+E соло Ж | AB27: 24 | AC27: =IF(AT27=1,AB27,"") | AD27: =IF(AND(AC27<>"",TRIM(AF27)<>""),1,"") | AE27: =IF(AD27=1,SUMPRODUCT(-(AC$3:AC$303<=AC27),-(AD$3:AD$303=1)),"") | AF27: =CONCATENATE(IF(AU27=1,"ST ",""),IF(AV27=1,"LA ",""),IF(AW27=1,"10","")) -> ST LA | AG27: =IF(AND(AC27<>"",TRIM(AI27)<>""),2,"") | AH27: =IF(AG27=2,SUMPRODUCT(-(AC$3:AC$303<=AC27),-(AG$3:AG$303=2)),"") | AI27: =CONCATENATE(IF(AU27=2,"ST ",""),IF(AV27=2,"LA ",""),IF(AW27=2,"10","")) | AT27: =IF(AND('Уровни соло'!$Q19="+",'Уровни соло'!$AB2<>""),1,"") | AU27: ='Уровни соло'!$S19 -> 1 | AV27: ='Уровни соло'!$T19 -> 1 | AW27: ='Уровни соло'!$U19 -> 0 | AY27: =_xlfn.FORMULATEXT(AU27) -> =$'Уровни соло'.$S19 | BA27: $'Классы соло'.$Q19 | BB27: =SEARCH("соло",BA27) -> 10 | BC27: =IF(BB27>0,"$'Классы соло'.$T2<>''","$'Классы пары'.$T2<>''") -> $'Классы соло'.$T2<>'' | BE27: $'Классы соло'.$AB2<>"");1;"")
A28: конец | B28: ='Общие данные'!E4 -> 0 | O28: Шиморский Михаил | P28: Москва | Q28: D | S28: ФСТ | T28: Федерация спортивного танца | U28: Федерации спортивного танца | W28: Юшкова Светлана | X28: Юшкову Светлану | Z28: 1 | AA28: Ювеналы-1 N | AB28: 99 | AC28: =IF(AT28=1,AB28,"") | AD28: =IF(AND(AC28<>"",TRIM(AF28)<>""),1,"") | AE28: =IF(AD28=1,SUMPRODUCT(-(AC$3:AC$303<=AC28),-(AD$3:AD$303=1)),"") | AF28: =CONCATENATE(IF(AU28=1,"ST ",""),IF(AV28=1,"LA ",""),IF(AW28=1,"10","")) -> ST LA | AG28: =IF(AND(AC28<>"",TRIM(AI28)<>""),2,"") | AH28: =IF(AG28=2,SUMPRODUCT(-(AC$3:AC$303<=AC28),-(AG$3:AG$303=2)),"") | AI28: =CONCATENATE(IF(AU28=2,"ST ",""),IF(AV28=2,"LA ",""),IF(AW28=2,"10","")) | AT28: =IF(AND('Уровни пары'!$E14="+",'Уровни пары'!$AB2<>""),1,"") | AU28: ='Уровни пары'!$G14 -> 1 | AV28: ='Уровни пары'!$H14 -> 1 | AW28: ='Уровни пары'!$I14 -> 0 | AY28: =_xlfn.FORMULATEXT(AU28) -> =$'Уровни пары'.$G14 | BA28: $'Классы пары'.$E14 | BB28: =SEARCH("соло",BA28) -> #VALUE! | BC28: =IF(BB28>0,"$'Классы соло'.$T2<>''","$'Классы пары'.$T2<>''") -> #VALUE! | BE28: $'Классы пары'.$AB2<>"");1;"")
A29: итоговый текст | B29: =IF('Общие данные'!E4<>"",IF(MONTH(B27)=MONTH(B28),CONCATENATE(TEXT(B27,"DD"),"-",TEXT(B28,"DD MMMM YYYY года")),CONCATENATE(TEXT(B27,"DD MMMM"),"-",TEXT(B28,"DD MMMM YYYY года"))),TEXT(B27,"DD MMMM YYYY года")) -> 00.00.0000 | I29: гл секретарь ГФ | J29: =MATCH(PROPER(TRIM('Главные Фестивали'!E29)),$I$49:$I$186,0) -> 1 | K29: =CONCATENATE(INDEX($J$49:$J$186,J29),IF(J29<>1,", ",""),INDEX($K$49:$K$186,J29)) | L29: =INDEX($K$49:$K$186,J29) | M29: =INDEX($J$49:$J$186,J29) | O29: Кравец Евгений | P29: Ростов-на-Дону | Q29: D | W29: Мартынов Денис | X29: Мартынова Дениса | Z29: 1 | AA29: Ювеналы-1+2 N | AB29: 100 | AC29: =IF(AT29=1,AB29,"") | AD29: =IF(AND(AC29<>"",TRIM(AF29)<>""),1,"") | AE29: =IF(AD29=1,SUMPRODUCT(-(AC$3:AC$303<=AC29),-(AD$3:AD$303=1)),"") | AF29: =CONCATENATE(IF(AU29=1,"ST ",""),IF(AV29=1,"LA ",""),IF(AW29=1,"10","")) -> ST LA | AG29: =IF(AND(AC29<>"",TRIM(AI29)<>""),2,"") | AH29: =IF(AG29=2,SUMPRODUCT(-(AC$3:AC$303<=AC29),-(AG$3:AG$303=2)),"") | AI29: =CONCATENATE(IF(AU29=2,"ST ",""),IF(AV29=2,"LA ",""),IF(AW29=2,"10","")) | AT29: =IF(AND('Уровни пары'!$K14="+",'Уровни пары'!$AB2<>""),1,"") | AU29: ='Уровни пары'!$M14 -> 1 | AV29: ='Уровни пары'!$N14 -> 1 | AW29: ='Уровни пары'!$O14 -> 0 | AY29: =_xlfn.FORMULATEXT(AU29) -> =$'Уровни пары'.$M14 | BA29: $'Классы пары'.$K14 | BB29: =SEARCH("соло",BA29) -> #VALUE! | BC29: =IF(BB29>0,"$'Классы соло'.$T2<>''","$'Классы пары'.$T2<>''") -> #VALUE! | BE29: $'Классы пары'.$AB2<>"");1;"")
I30: Председатель жюри профи | J30: =MATCH(PROPER(TRIM(ПРОФЕССИОНАЛЫ!E14)),$I$49:$I$186,0) -> 1 | K30: =CONCATENATE(INDEX($J$49:$J$186,J30),IF(J30<>1,", ",""),INDEX($K$49:$K$186,J30)) | L30: =INDEX($K$49:$K$186,J30) | M30: =INDEX($J$49:$J$186,J30) | W30: Мажирин Герман | X30: Мажирина Германа | Z30: 1 | AA30: Ювеналы-1 N+E | AB30: 101 | AC30: =IF(AT30=1,AB30,"") | AD30: =IF(AND(AC30<>"",TRIM(AF30)<>""),1,"") | AE30: =IF(AD30=1,SUMPRODUCT(-(AC$3:AC$303<=AC30),-(AD$3:AD$303=1)),"") | AF30: =CONCATENATE(IF(AU30=1,"ST ",""),IF(AV30=1,"LA ",""),IF(AW30=1,"10","")) -> ST LA | AG30: =IF(AND(AC30<>"",TRIM(AI30)<>""),2,"") | AH30: =IF(AG30=2,SUMPRODUCT(-(AC$3:AC$303<=AC30),-(AG$3:AG$303=2)),"") | AI30: =CONCATENATE(IF(AU30=2,"ST ",""),IF(AV30=2,"LA ",""),IF(AW30=2,"10","")) | AT30: =IF(AND('Уровни пары'!$Q14="+",'Уровни пары'!$AB2<>""),1,"") | AU30: ='Уровни пары'!$S14 -> 1 | AV30: ='Уровни пары'!$T14 -> 1 | AW30: ='Уровни пары'!$U14 -> 0 | AY30: =_xlfn.FORMULATEXT(AU30) -> =$'Уровни пары'.$S14 | BA30: $'Классы пары'.$Q14 | BB30: =SEARCH("соло",BA30) -> #VALUE! | BC30: =IF(BB30>0,"$'Классы соло'.$T2<>''","$'Классы пары'.$T2<>''") -> #VALUE! | BE30: $'Классы пары'.$AB2<>"");1;"")
W31: Миронова Ольга | X31: Миронову Ольгу | Z31: 1 | AA31: Ювеналы-1+2 N+E | AB31: 102 | AC31: =IF(AT31=1,AB31,"") | AD31: =IF(AND(AC31<>"",TRIM(AF31)<>""),1,"") | AE31: =IF(AD31=1,SUMPRODUCT(-(AC$3:AC$303<=AC31),-(AD$3:AD$303=1)),"") | AF31: =CONCATENATE(IF(AU31=1,"ST ",""),IF(AV31=1,"LA ",""),IF(AW31=1,"10","")) -> ST LA | AG31: =IF(AND(AC31<>"",TRIM(AI31)<>""),2,"") | AH31: =IF(AG31=2,SUMPRODUCT(-(AC$3:AC$303<=AC31),-(AG$3:AG$303=2)),"") | AI31: =CONCATENATE(IF(AU31=2,"ST ",""),IF(AV31=2,"LA ",""),IF(AW31=2,"10","")) | AT31: =IF(AND('Уровни пары'!$W14="+",'Уровни пары'!$AB2<>""),1,"") | AU31: ='Уровни пары'!$Y14 -> 1 | AV31: ='Уровни пары'!$Z14 -> 1 | AW31: ='Уровни пары'!$AA14 -> 0 | AY31: =_xlfn.FORMULATEXT(AU31) -> =$'Уровни пары'.$Y14 | BA31: $'Классы пары'.$W14 | BB31: =SEARCH("соло",BA31) -> #VALUE! | BC31: =IF(BB31>0,"$'Классы соло'.$T2<>''","$'Классы пары'.$T2<>''") -> #VALUE! | BE31: $'Классы пары'.$AB2<>"");1;"")
W32: Кричвук Ирина | X32: Кривчук Ирину | Z32: 1 | AA32: Ювеналы-2 N | AB32: 103 | AC32: =IF(AT32=1,AB32,"") | AD32: =IF(AND(AC32<>"",TRIM(AF32)<>""),1,"") | AE32: =IF(AD32=1,SUMPRODUCT(-(AC$3:AC$303<=AC32),-(AD$3:AD$303=1)),"") | AF32: =CONCATENATE(IF(AU32=1,"ST ",""),IF(AV32=1,"LA ",""),IF(AW32=1,"10","")) -> ST LA | AG32: =IF(AND(AC32<>"",TRIM(AI32)<>""),2,"") | AH32: =IF(AG32=2,SUMPRODUCT(-(AC$3:AC$303<=AC32),-(AG$3:AG$303=2)),"") | AI32: =CONCATENATE(IF(AU32=2,"ST ",""),IF(AV32=2,"LA ",""),IF(AW32=2,"10","")) | AT32: =IF(AND('Уровни пары'!$E15="+",'Уровни пары'!$AB2<>""),1,"") | AU32: ='Уровни пары'!$G15 -> 1 | AV32: ='Уровни пары'!$H15 -> 1 | AW32: ='Уровни пары'!$I15 -> 0 | AY32: =_xlfn.FORMULATEXT(AU32) -> =$'Уровни пары'.$G15 | BA32: $'Классы пары'.$E15 | BB32: =SEARCH("соло",BA32) -> #VALUE! | BC32: =IF(BB32>0,"$'Классы соло'.$T2<>''","$'Классы пары'.$T2<>''") -> #VALUE! | BE32: $'Классы пары'.$AB2<>"");1;"")
A33: Дата версии | C33: 46305 | I33: Заместитель профи | J33: =MATCH(PROPER(TRIM(ПРОФЕССИОНАЛЫ!E17)),$I$49:$I$186,0) -> 1 | K33: =CONCATENATE(INDEX($J$49:$J$186,J33),IF(J33<>1,", ",""),INDEX($K$49:$K$186,J33)) | L33: =INDEX($K$49:$K$186,J33) | M33: =INDEX($J$49:$J$186,J33) | W33: Роднин Роман | X33: Роднина Романа | Z33: 1 | AA33: Ювеналы-2+Юниоры-1 N | AB33: 104 | AC33: =IF(AT33=1,AB33,"") | AD33: =IF(AND(AC33<>"",TRIM(AF33)<>""),1,"") | AE33: =IF(AD33=1,SUMPRODUCT(-(AC$3:AC$303<=AC33),-(AD$3:AD$303=1)),"") | AF33: =CONCATENATE(IF(AU33=1,"ST ",""),IF(AV33=1,"LA ",""),IF(AW33=1,"10","")) -> ST LA | AG33: =IF(AND(AC33<>"",TRIM(AI33)<>""),2,"") | AH33: =IF(AG33=2,SUMPRODUCT(-(AC$3:AC$303<=AC33),-(AG$3:AG$303=2)),"") | AI33: =CONCATENATE(IF(AU33=2,"ST ",""),IF(AV33=2,"LA ",""),IF(AW33=2,"10","")) | AT33: =IF(AND('Уровни пары'!$K15="+",'Уровни пары'!$AB2<>""),1,"") | AU33: ='Уровни пары'!$M15 -> 1 | AV33: ='Уровни пары'!$N15 -> 1 | AW33: ='Уровни пары'!$O15 -> 0 | AY33: =_xlfn.FORMULATEXT(AU33) -> =$'Уровни пары'.$M15 | BA33: $'Классы пары'.$K15 | BB33: =SEARCH("соло",BA33) -> #VALUE! | BC33: =IF(BB33>0,"$'Классы соло'.$T2<>''","$'Классы пары'.$T2<>''") -> #VALUE! | BE33: $'Классы пары'.$AB2<>"");1;"")
W34: Журавлев Роман | X34: Журавлева Романа | Z34: 1 | AA34: Ювеналы-2 N+E | AB34: 105 | AC34: =IF(AT34=1,AB34,"") | AD34: =IF(AND(AC34<>"",TRIM(AF34)<>""),1,"") | AE34: =IF(AD34=1,SUMPRODUCT(-(AC$3:AC$303<=AC34),-(AD$3:AD$303=1)),"") | AF34: =CONCATENATE(IF(AU34=1,"ST ",""),IF(AV34=1,"LA ",""),IF(AW34=1,"10","")) -> ST LA | AG34: =IF(AND(AC34<>"",TRIM(AI34)<>""),2,"") | AH34: =IF(AG34=2,SUMPRODUCT(-(AC$3:AC$303<=AC34),-(AG$3:AG$303=2)),"") | AI34: =CONCATENATE(IF(AU34=2,"ST ",""),IF(AV34=2,"LA ",""),IF(AW34=2,"10","")) | AT34: =IF(AND('Уровни пары'!$Q15="+",'Уровни пары'!$AB2<>""),1,"") | AU34: ='Уровни пары'!$S15 -> 1 | AV34: ='Уровни пары'!$T15 -> 1 | AW34: ='Уровни пары'!$U15 -> 0 | AY34: =_xlfn.FORMULATEXT(AU34) -> =$'Уровни пары'.$S15 | BA34: $'Классы пары'.$Q15 | BB34: =SEARCH("соло",BA34) -> #VALUE! | BC34: =IF(BB34>0,"$'Классы соло'.$T2<>''","$'Классы пары'.$T2<>''") -> #VALUE! | BE34: $'Классы пары'.$AB2<>"");1;"")
W35: Лебедева Елена | X35: Лебедеву Елену | Z35: 1 | AA35: Ювеналы-2+Юниоры-1 N+E | AB35: 106 | AC35: =IF(AT35=1,AB35,"") | AD35: =IF(AND(AC35<>"",TRIM(AF35)<>""),1,"") | AE35: =IF(AD35=1,SUMPRODUCT(-(AC$3:AC$303<=AC35),-(AD$3:AD$303=1)),"") | AF35: =CONCATENATE(IF(AU35=1,"ST ",""),IF(AV35=1,"LA ",""),IF(AW35=1,"10","")) -> ST LA | AG35: =IF(AND(AC35<>"",TRIM(AI35)<>""),2,"") | AH35: =IF(AG35=2,SUMPRODUCT(-(AC$3:AC$303<=AC35),-(AG$3:AG$303=2)),"") | AI35: =CONCATENATE(IF(AU35=2,"ST ",""),IF(AV35=2,"LA ",""),IF(AW35=2,"10","")) | AT35: =IF(AND('Уровни пары'!$W15="+",'Уровни пары'!$AB2<>""),1,"") | AU35: ='Уровни пары'!$Y15 -> 1 | AV35: ='Уровни пары'!$Z15 -> 1 | AW35: ='Уровни пары'!$AA15 -> 0 | AY35: =_xlfn.FORMULATEXT(AU35) -> =$'Уровни пары'.$Y15 | BA35: $'Классы пары'.$W15 | BB35: =SEARCH("соло",BA35) -> #VALUE! | BC35: =IF(BB35>0,"$'Классы соло'.$T2<>''","$'Классы пары'.$T2<>''") -> #VALUE! | BE35: $'Классы пары'.$AB2<>"");1;"")
I36: гл секретарь профи | J36: =MATCH(PROPER(TRIM(ПРОФЕССИОНАЛЫ!E20)),$I$49:$I$186,0) -> 1 | K36: =CONCATENATE(INDEX($J$49:$J$186,J36),IF(J36<>1,", ",""),INDEX($K$49:$K$186,J36)) | L36: =INDEX($K$49:$K$186,J36) | M36: =INDEX($J$49:$J$186,J36) | W36: Писанец Михаил | X36: Писанца Михаила | Z36: 1 | AA36: Юниоры-1 N | AB36: 107 | AC36: =IF(AT36=1,AB36,"") | AD36: =IF(AND(AC36<>"",TRIM(AF36)<>""),1,"") | AE36: =IF(AD36=1,SUMPRODUCT(-(AC$3:AC$303<=AC36),-(AD$3:AD$303=1)),"") | AF36: =CONCATENATE(IF(AU36=1,"ST ",""),IF(AV36=1,"LA ",""),IF(AW36=1,"10","")) -> ST LA | AG36: =IF(AND(AC36<>"",TRIM(AI36)<>""),2,"") | AH36: =IF(AG36=2,SUMPRODUCT(-(AC$3:AC$303<=AC36),-(AG$3:AG$303=2)),"") | AI36: =CONCATENATE(IF(AU36=2,"ST ",""),IF(AV36=2,"LA ",""),IF(AW36=2,"10","")) | AT36: =IF(AND('Уровни пары'!$E16="+",'Уровни пары'!$AB2<>""),1,"") | AU36: ='Уровни пары'!$G16 -> 1 | AV36: ='Уровни пары'!$H16 -> 1 | AW36: ='Уровни пары'!$I16 -> 0 | AY36: =_xlfn.FORMULATEXT(AU36) -> =$'Уровни пары'.$G16 | BA36: $'Классы пары'.$E16 | BB36: =SEARCH("соло",BA36) -> #VALUE! | BC36: =IF(BB36>0,"$'Классы соло'.$T2<>''","$'Классы пары'.$T2<>''") -> #VALUE! | BE36: $'Классы пары'.$AB2<>"");1;"")
I37: Председатель доп зал | J37: =MATCH(PROPER(TRIM('Общие данные'!E93)),$I$49:$I$186,0) -> 1 | K37: =CONCATENATE(INDEX($J$49:$J$186,J37),IF(J37<>1,", ",""),INDEX($K$49:$K$186,J37)) | L37: =INDEX($K$49:$K$186,J37) | M37: =INDEX($J$49:$J$186,J37) | W37: Скок Степан | X37: Скока Степана | Z37: 1 | AA37: Юниоры-1+2 N | AB37: 108 | AC37: =IF(AT37=1,AB37,"") | AD37: =IF(AND(AC37<>"",TRIM(AF37)<>""),1,"") | AE37: =IF(AD37=1,SUMPRODUCT(-(AC$3:AC$303<=AC37),-(AD$3:AD$303=1)),"") | AF37: =CONCATENATE(IF(AU37=1,"ST ",""),IF(AV37=1,"LA ",""),IF(AW37=1,"10","")) -> ST LA | AG37: =IF(AND(AC37<>"",TRIM(AI37)<>""),2,"") | AH37: =IF(AG37=2,SUMPRODUCT(-(AC$3:AC$303<=AC37),-(AG$3:AG$303=2)),"") | AI37: =CONCATENATE(IF(AU37=2,"ST ",""),IF(AV37=2,"LA ",""),IF(AW37=2,"10","")) | AT37: =IF(AND('Уровни пары'!$K16="+",'Уровни пары'!$AB2<>""),1,"") | AU37: ='Уровни пары'!$M16 -> 1 | AV37: ='Уровни пары'!$N16 -> 1 | AW37: ='Уровни пары'!$O16 -> 0 | AY37: =_xlfn.FORMULATEXT(AU37) -> =$'Уровни пары'.$M16 | BA37: $'Классы пары'.$K16 | BB37: =SEARCH("соло",BA37) -> #VALUE! | BC37: =IF(BB37>0,"$'Классы соло'.$T2<>''","$'Классы пары'.$T2<>''") -> #VALUE! | BE37: $'Классы пары'.$AB2<>"");1;"")
W38: Максимова Ирина | X38: Максимову Ирину | Z38: 1 | AA38: Юниоры-1 N+E | AB38: 109 | AC38: =IF(AT38=1,AB38,"") | AD38: =IF(AND(AC38<>"",TRIM(AF38)<>""),1,"") | AE38: =IF(AD38=1,SUMPRODUCT(-(AC$3:AC$303<=AC38),-(AD$3:AD$303=1)),"") | AF38: =CONCATENATE(IF(AU38=1,"ST ",""),IF(AV38=1,"LA ",""),IF(AW38=1,"10","")) -> ST LA | AG38: =IF(AND(AC38<>"",TRIM(AI38)<>""),2,"") | AH38: =IF(AG38=2,SUMPRODUCT(-(AC$3:AC$303<=AC38),-(AG$3:AG$303=2)),"") | AI38: =CONCATENATE(IF(AU38=2,"ST ",""),IF(AV38=2,"LA ",""),IF(AW38=2,"10","")) | AT38: =IF(AND('Уровни пары'!$Q16="+",'Уровни пары'!$AB2<>""),1,"") | AU38: ='Уровни пары'!$S16 -> 1 | AV38: ='Уровни пары'!$T16 -> 1 | AW38: ='Уровни пары'!$U16 -> 0 | AY38: =_xlfn.FORMULATEXT(AU38) -> =$'Уровни пары'.$S16 | BA38: $'Классы пары'.$Q16 | BB38: =SEARCH("соло",BA38) -> #VALUE! | BC38: =IF(BB38>0,"$'Классы соло'.$T2<>''","$'Классы пары'.$T2<>''") -> #VALUE! | BE38: $'Классы пары'.$AB2<>"");1;"")
W39: Смагин Евгений | X39: Смагина Евгения | Z39: 1 | AA39: Юниоры-1+2 N+E | AB39: 110 | AC39: =IF(AT39=1,AB39,"") | AD39: =IF(AND(AC39<>"",TRIM(AF39)<>""),1,"") | AE39: =IF(AD39=1,SUMPRODUCT(-(AC$3:AC$303<=AC39),-(AD$3:AD$303=1)),"") | AF39: =CONCATENATE(IF(AU39=1,"ST ",""),IF(AV39=1,"LA ",""),IF(AW39=1,"10","")) -> ST LA | AG39: =IF(AND(AC39<>"",TRIM(AI39)<>""),2,"") | AH39: =IF(AG39=2,SUMPRODUCT(-(AC$3:AC$303<=AC39),-(AG$3:AG$303=2)),"") | AI39: =CONCATENATE(IF(AU39=2,"ST ",""),IF(AV39=2,"LA ",""),IF(AW39=2,"10","")) | AT39: =IF(AND('Уровни пары'!$W16="+",'Уровни пары'!$AB2<>""),1,"") | AU39: ='Уровни пары'!$Y16 -> 1 | AV39: ='Уровни пары'!$Z16 -> 1 | AW39: ='Уровни пары'!$AA16 -> 0 | AY39: =_xlfn.FORMULATEXT(AU39) -> =$'Уровни пары'.$Y16 | BA39: $'Классы пары'.$W16 | BB39: =SEARCH("соло",BA39) -> #VALUE! | BC39: =IF(BB39>0,"$'Классы соло'.$T2<>''","$'Классы пары'.$T2<>''") -> #VALUE! | BE39: $'Классы пары'.$AB2<>"");1;"")
I40: Заместитель доп зал | J40: =MATCH(PROPER(TRIM('Общие данные'!E96)),$I$49:$I$186,0) -> 1 | K40: =CONCATENATE(INDEX($J$49:$J$186,J40),IF(J40<>1,", ",""),INDEX($K$49:$K$186,J40)) | L40: =INDEX($K$49:$K$186,J40) | M40: =INDEX($J$49:$J$186,J40) | W40: Михалева Марина | X40: Михалеву Марину | Z40: 1 | AA40: Юниоры-2 N | AB40: 111 | AC40: =IF(AT40=1,AB40,"") | AD40: =IF(AND(AC40<>"",TRIM(AF40)<>""),1,"") | AE40: =IF(AD40=1,SUMPRODUCT(-(AC$3:AC$303<=AC40),-(AD$3:AD$303=1)),"") | AF40: =CONCATENATE(IF(AU40=1,"ST ",""),IF(AV40=1,"LA ",""),IF(AW40=1,"10","")) -> ST LA | AG40: =IF(AND(AC40<>"",TRIM(AI40)<>""),2,"") | AH40: =IF(AG40=2,SUMPRODUCT(-(AC$3:AC$303<=AC40),-(AG$3:AG$303=2)),"") | AI40: =CONCATENATE(IF(AU40=2,"ST ",""),IF(AV40=2,"LA ",""),IF(AW40=2,"10","")) | AT40: =IF(AND('Уровни пары'!$E17="+",'Уровни пары'!$AB2<>""),1,"") | AU40: ='Уровни пары'!$G17 -> 1 | AV40: ='Уровни пары'!$H17 -> 1 | AW40: ='Уровни пары'!$I17 -> 0 | AY40: =_xlfn.FORMULATEXT(AU40) -> =$'Уровни пары'.$G17 | BA40: $'Классы пары'.$E17 | BB40: =SEARCH("соло",BA40) -> #VALUE! | BC40: =IF(BB40>0,"$'Классы соло'.$T2<>''","$'Классы пары'.$T2<>''") -> #VALUE! | BE40: $'Классы пары'.$AB2<>"");1;"")
Z41: 1 | AA41: Юниоры-2+Молодежь N | AB41: 112 | AC41: =IF(AT41=1,AB41,"") | AD41: =IF(AND(AC41<>"",TRIM(AF41)<>""),1,"") | AE41: =IF(AD41=1,SUMPRODUCT(-(AC$3:AC$303<=AC41),-(AD$3:AD$303=1)),"") | AF41: =CONCATENATE(IF(AU41=1,"ST ",""),IF(AV41=1,"LA ",""),IF(AW41=1,"10","")) -> ST LA | AG41: =IF(AND(AC41<>"",TRIM(AI41)<>""),2,"") | AH41: =IF(AG41=2,SUMPRODUCT(-(AC$3:AC$303<=AC41),-(AG$3:AG$303=2)),"") | AI41: =CONCATENATE(IF(AU41=2,"ST ",""),IF(AV41=2,"LA ",""),IF(AW41=2,"10","")) | AT41: =IF(AND('Уровни пары'!$K17="+",'Уровни пары'!$AB2<>""),1,"") | AU41: ='Уровни пары'!$M17 -> 1 | AV41: ='Уровни пары'!$N17 -> 1 | AW41: ='Уровни пары'!$O17 -> 0 | AY41: =_xlfn.FORMULATEXT(AU41) -> =$'Уровни пары'.$M17 | BA41: $'Классы пары'.$K17 | BB41: =SEARCH("соло",BA41) -> #VALUE! | BC41: =IF(BB41>0,"$'Классы соло'.$T2<>''","$'Классы пары'.$T2<>''") -> #VALUE! | BE41: $'Классы пары'.$AB2<>"");1;"")
Z42: 1 | AA42: Юниоры-2 N+E | AB42: 113 | AC42: =IF(AT42=1,AB42,"") | AD42: =IF(AND(AC42<>"",TRIM(AF42)<>""),1,"") | AE42: =IF(AD42=1,SUMPRODUCT(-(AC$3:AC$303<=AC42),-(AD$3:AD$303=1)),"") | AF42: =CONCATENATE(IF(AU42=1,"ST ",""),IF(AV42=1,"LA ",""),IF(AW42=1,"10","")) -> ST LA | AG42: =IF(AND(AC42<>"",TRIM(AI42)<>""),2,"") | AH42: =IF(AG42=2,SUMPRODUCT(-(AC$3:AC$303<=AC42),-(AG$3:AG$303=2)),"") | AI42: =CONCATENATE(IF(AU42=2,"ST ",""),IF(AV42=2,"LA ",""),IF(AW42=2,"10","")) | AT42: =IF(AND('Уровни пары'!$Q17="+",'Уровни пары'!$AB2<>""),1,"") | AU42: ='Уровни пары'!$S17 -> 1 | AV42: ='Уровни пары'!$T17 -> 1 | AW42: ='Уровни пары'!$U17 -> 0 | AY42: =_xlfn.FORMULATEXT(AU42) -> =$'Уровни пары'.$S17 | BA42: $'Классы пары'.$Q17 | BB42: =SEARCH("соло",BA42) -> #VALUE! | BC42: =IF(BB42>0,"$'Классы соло'.$T2<>''","$'Классы пары'.$T2<>''") -> #VALUE! | BE42: $'Классы пары'.$AB2<>"");1;"")
I43: Заместитель доп зал | J43: =MATCH(PROPER(TRIM('Общие данные'!E99)),$I$49:$I$186,0) -> 1 | K43: =CONCATENATE(INDEX($J$49:$J$186,J43),IF(J43<>1,", ",""),INDEX($K$49:$K$186,J43)) | L43: =INDEX($K$49:$K$186,J43) | M43: =INDEX($J$49:$J$186,J43) | Z43: 1 | AA43: Юниоры-2+Молодежь N+E | AB43: 114 | AC43: =IF(AT43=1,AB43,"") | AD43: =IF(AND(AC43<>"",TRIM(AF43)<>""),1,"") | AE43: =IF(AD43=1,SUMPRODUCT(-(AC$3:AC$303<=AC43),-(AD$3:AD$303=1)),"") | AF43: =CONCATENATE(IF(AU43=1,"ST ",""),IF(AV43=1,"LA ",""),IF(AW43=1,"10","")) -> ST LA | AG43: =IF(AND(AC43<>"",TRIM(AI43)<>""),2,"") | AH43: =IF(AG43=2,SUMPRODUCT(-(AC$3:AC$303<=AC43),-(AG$3:AG$303=2)),"") | AI43: =CONCATENATE(IF(AU43=2,"ST ",""),IF(AV43=2,"LA ",""),IF(AW43=2,"10","")) | AT43: =IF(AND('Уровни пары'!$W17="+",'Уровни пары'!$AB2<>""),1,"") | AU43: ='Уровни пары'!$Y17 -> 1 | AV43: ='Уровни пары'!$Z17 -> 1 | AW43: ='Уровни пары'!$AA17 -> 0 | AY43: =_xlfn.FORMULATEXT(AU43) -> =$'Уровни пары'.$Y17 | BA43: $'Классы пары'.$W17 | BB43: =SEARCH("соло",BA43) -> #VALUE! | BC43: =IF(BB43>0,"$'Классы соло'.$T2<>''","$'Классы пары'.$T2<>''") -> #VALUE! | BE43: $'Классы пары'.$AB2<>"");1;"")
Z44: 1 | AA44: Молодежь N | AB44: 115 | AC44: =IF(AT44=1,AB44,"") | AD44: =IF(AND(AC44<>"",TRIM(AF44)<>""),1,"") | AE44: =IF(AD44=1,SUMPRODUCT(-(AC$3:AC$303<=AC44),-(AD$3:AD$303=1)),"") | AF44: =CONCATENATE(IF(AU44=1,"ST ",""),IF(AV44=1,"LA ",""),IF(AW44=1,"10","")) -> ST LA | AG44: =IF(AND(AC44<>"",TRIM(AI44)<>""),2,"") | AH44: =IF(AG44=2,SUMPRODUCT(-(AC$3:AC$303<=AC44),-(AG$3:AG$303=2)),"") | AI44: =CONCATENATE(IF(AU44=2,"ST ",""),IF(AV44=2,"LA ",""),IF(AW44=2,"10","")) | AT44: =IF(AND('Уровни пары'!$E18="+",'Уровни пары'!$AB2<>""),1,"") | AU44: ='Уровни пары'!$G18 -> 1 | AV44: ='Уровни пары'!$H18 -> 1 | AW44: ='Уровни пары'!$I18 -> 0 | AY44: =_xlfn.FORMULATEXT(AU44) -> =$'Уровни пары'.$G18 | BA44: $'Классы пары'.$E18 | BB44: =SEARCH("соло",BA44) -> #VALUE! | BC44: =IF(BB44>0,"$'Классы соло'.$T2<>''","$'Классы пары'.$T2<>''") -> #VALUE! | BE44: $'Классы пары'.$AB2<>"");1;"")
Z45: 1 | AA45: Молодежь+Взрослые N | AB45: 116 | AC45: =IF(AT45=1,AB45,"") | AD45: =IF(AND(AC45<>"",TRIM(AF45)<>""),1,"") | AE45: =IF(AD45=1,SUMPRODUCT(-(AC$3:AC$303<=AC45),-(AD$3:AD$303=1)),"") | AF45: =CONCATENATE(IF(AU45=1,"ST ",""),IF(AV45=1,"LA ",""),IF(AW45=1,"10","")) -> ST LA | AG45: =IF(AND(AC45<>"",TRIM(AI45)<>""),2,"") | AH45: =IF(AG45=2,SUMPRODUCT(-(AC$3:AC$303<=AC45),-(AG$3:AG$303=2)),"") | AI45: =CONCATENATE(IF(AU45=2,"ST ",""),IF(AV45=2,"LA ",""),IF(AW45=2,"10","")) | AT45: =IF(AND('Уровни пары'!$K18="+",'Уровни пары'!$AB2<>""),1,"") | AU45: ='Уровни пары'!$M18 -> 1 | AV45: ='Уровни пары'!$N18 -> 1 | AW45: ='Уровни пары'!$O18 -> 0 | AY45: =_xlfn.FORMULATEXT(AU45) -> =$'Уровни пары'.$M18 | BA45: $'Классы пары'.$K18 | BB45: =SEARCH("соло",BA45) -> #VALUE! | BC45: =IF(BB45>0,"$'Классы соло'.$T2<>''","$'Классы пары'.$T2<>''") -> #VALUE! | BE45: $'Классы пары'.$AB2<>"");1;"")
I46: гл. секратарь до зал | J46: =MATCH(PROPER(TRIM('Общие данные'!E102)),$I$49:$I$186,0) -> 1 | K46: =CONCATENATE(INDEX($J$49:$J$186,J46),IF(J46<>1,", ",""),INDEX($K$49:$K$186,J46)) | L46: =INDEX($K$49:$K$186,J46) | M46: =INDEX($J$49:$J$186,J46) | Z46: 1 | AA46: Молодежь N+E | AB46: 117 | AC46: =IF(AT46=1,AB46,"") | AD46: =IF(AND(AC46<>"",TRIM(AF46)<>""),1,"") | AE46: =IF(AD46=1,SUMPRODUCT(-(AC$3:AC$303<=AC46),-(AD$3:AD$303=1)),"") | AF46: =CONCATENATE(IF(AU46=1,"ST ",""),IF(AV46=1,"LA ",""),IF(AW46=1,"10","")) -> ST LA | AG46: =IF(AND(AC46<>"",TRIM(AI46)<>""),2,"") | AH46: =IF(AG46=2,SUMPRODUCT(-(AC$3:AC$303<=AC46),-(AG$3:AG$303=2)),"") | AI46: =CONCATENATE(IF(AU46=2,"ST ",""),IF(AV46=2,"LA ",""),IF(AW46=2,"10","")) | AT46: =IF(AND('Уровни пары'!$Q18="+",'Уровни пары'!$AB2<>""),1,"") | AU46: ='Уровни пары'!$S18 -> 1 | AV46: ='Уровни пары'!$T18 -> 1 | AW46: ='Уровни пары'!$U18 -> 0 | AY46: =_xlfn.FORMULATEXT(AU46) -> =$'Уровни пары'.$S18 | BA46: $'Классы пары'.$Q18 | BB46: =SEARCH("соло",BA46) -> #VALUE! | BC46: =IF(BB46>0,"$'Классы соло'.$T2<>''","$'Классы пары'.$T2<>''") -> #VALUE! | BE46: $'Классы пары'.$AB2<>"");1;"")
K47: @СЦЕПИТЬ(M50;", ";"Представитель жюри ";ПЕРЕКЛЮЧ(N50;"Первая";"Первой";"Всероссийская";"Всероссийской";"Международная";"Международной";"Вторая";"Второй");" категории") | Z47: 1 | AA47: Молодежь+Взрослые N+E | AB47: 118 | AC47: =IF(AT47=1,AB47,"") | AD47: =IF(AND(AC47<>"",TRIM(AF47)<>""),1,"") | AE47: =IF(AD47=1,SUMPRODUCT(-(AC$3:AC$303<=AC47),-(AD$3:AD$303=1)),"") | AF47: =CONCATENATE(IF(AU47=1,"ST ",""),IF(AV47=1,"LA ",""),IF(AW47=1,"10","")) -> ST LA | AG47: =IF(AND(AC47<>"",TRIM(AI47)<>""),2,"") | AH47: =IF(AG47=2,SUMPRODUCT(-(AC$3:AC$303<=AC47),-(AG$3:AG$303=2)),"") | AI47: =CONCATENATE(IF(AU47=2,"ST ",""),IF(AV47=2,"LA ",""),IF(AW47=2,"10","")) | AT47: =IF(AND('Уровни пары'!$W18="+",'Уровни пары'!$AB2<>""),1,"") | AU47: ='Уровни пары'!$Y18 -> 1 | AV47: ='Уровни пары'!$Z18 -> 1 | AW47: ='Уровни пары'!$AA18 -> 0 | AY47: =_xlfn.FORMULATEXT(AU47) -> =$'Уровни пары'.$Y18 | BA47: $'Классы пары'.$W18 | BB47: =SEARCH("соло",BA47) -> #VALUE! | BC47: =IF(BB47>0,"$'Классы соло'.$T2<>''","$'Классы пары'.$T2<>''") -> #VALUE! | BE47: $'Классы пары'.$AB2<>"");1;"")
I48: Информация об экспертах | J48: ФИО | K48: Статус арбитра | L48: Фамилия Имя | M48: Статус | N48: Категория | O48: ФИО | Z48: 1 | AA48: Взрослые N | AB48: 119 | AC48: =IF(AT48=1,AB48,"") | AD48: =IF(AND(AC48<>"",TRIM(AF48)<>""),1,"") | AE48: =IF(AD48=1,SUMPRODUCT(-(AC$3:AC$303<=AC48),-(AD$3:AD$303=1)),"") | AF48: =CONCATENATE(IF(AU48=1,"ST ",""),IF(AV48=1,"LA ",""),IF(AW48=1,"10","")) -> ST LA | AG48: =IF(AND(AC48<>"",TRIM(AI48)<>""),2,"") | AH48: =IF(AG48=2,SUMPRODUCT(-(AC$3:AC$303<=AC48),-(AG$3:AG$303=2)),"") | AI48: =CONCATENATE(IF(AU48=2,"ST ",""),IF(AV48=2,"LA ",""),IF(AW48=2,"10","")) | AT48: =IF(AND('Уровни пары'!$E19="+",'Уровни пары'!$AB2<>""),1,"") | AU48: ='Уровни пары'!$G19 -> 1 | AV48: ='Уровни пары'!$H19 -> 1 | AW48: ='Уровни пары'!$I19 -> 0 | AY48: =_xlfn.FORMULATEXT(AU48) -> =$'Уровни пары'.$G19 | BA48: $'Классы пары'.$E19 | BB48: =SEARCH("соло",BA48) -> #VALUE! | BC48: =IF(BB48>0,"$'Классы соло'.$T2<>''","$'Классы пары'.$T2<>''") -> #VALUE! | BE48: $'Классы пары'.$AB2<>"");1;"")
I49: Фамилия Имя | Z49: 1 | AA49: Взрослые N+E | AB49: 120 | AC49: =IF(AT49=1,AB49,"") | AD49: =IF(AND(AC49<>"",TRIM(AF49)<>""),1,"") | AE49: =IF(AD49=1,SUMPRODUCT(-(AC$3:AC$303<=AC49),-(AD$3:AD$303=1)),"") | AF49: =CONCATENATE(IF(AU49=1,"ST ",""),IF(AV49=1,"LA ",""),IF(AW49=1,"10","")) -> ST LA | AG49: =IF(AND(AC49<>"",TRIM(AI49)<>""),2,"") | AH49: =IF(AG49=2,SUMPRODUCT(-(AC$3:AC$303<=AC49),-(AG$3:AG$303=2)),"") | AI49: =CONCATENATE(IF(AU49=2,"ST ",""),IF(AV49=2,"LA ",""),IF(AW49=2,"10","")) | AT49: =IF(AND('Уровни пары'!$Q19="+",'Уровни пары'!$AB2<>""),1,"") | AU49: ='Уровни пары'!$S19 -> 1 | AV49: ='Уровни пары'!$T19 -> 1 | AW49: ='Уровни пары'!$U19 -> 0 | AY49: =_xlfn.FORMULATEXT(AU49) -> =$'Уровни пары'.$S19 | BA49: $'Классы пары'.$Q19 | BB49: =SEARCH("соло",BA49) -> #VALUE! | BC49: =IF(BB49>0,"$'Классы соло'.$T2<>''","$'Классы пары'.$T2<>''") -> #VALUE! | BE49: $'Классы пары'.$AB2<>"");1;"")
I50: Писанец Михаил | J50: Писанец Михаил | K50: Член Президума | L50: Писанец Михаил | N50: М-категория | O50: Писанец Михаил | Z50: 1 | AA50: Ювеналы-1 E соло Ж | AB50: 25 | AC50: =IF(AT50=1,AB50,"") | AD50: =IF(AND(AC50<>"",TRIM(AF50)<>""),1,"") | AE50: =IF(AD50=1,SUMPRODUCT(-(AC$3:AC$303<=AC50),-(AD$3:AD$303=1)),"") | AF50: =CONCATENATE(IF(AU50=1,"ST ",""),IF(AV50=1,"LA ",""),IF(AW50=1,"10","")) -> ST LA | AG50: =IF(AND(AC50<>"",TRIM(AI50)<>""),2,"") | AH50: =IF(AG50=2,SUMPRODUCT(-(AC$3:AC$303<=AC50),-(AG$3:AG$303=2)),"") | AI50: =CONCATENATE(IF(AU50=2,"ST ",""),IF(AV50=2,"LA ",""),IF(AW50=2,"10","")) | AT50: =IF(AND('Уровни соло'!$E24="+",'Уровни соло'!$AB2<>""),1,"") | AU50: ='Уровни соло'!$G24 -> 1 | AV50: ='Уровни соло'!$H24 -> 1 | AW50: ='Уровни соло'!$I24 -> 0 | AY50: =_xlfn.FORMULATEXT(AU50) -> =$'Уровни соло'.$G24 | BA50: $'Классы соло'.$E24 | BB50: =SEARCH("соло",BA50) -> 10 | BC50: =IF(BB50>0,"$'Классы соло'.$T2<>''","$'Классы пары'.$T2<>''") -> $'Классы соло'.$T2<>'' | BE50: $'Классы соло'.$AB2<>"");1;"")
I51: Печерников Андрей | J51: Печерников Андрей | K51: Член Президума | L51: Печерников Андрей | N51: М-категория | O51: Печерников Андрей | Z51: 1 | AA51: Ювеналы-1+2 E соло Ж | AB51: 26 | AC51: =IF(AT51=1,AB51,"") | AD51: =IF(AND(AC51<>"",TRIM(AF51)<>""),1,"") | AE51: =IF(AD51=1,SUMPRODUCT(-(AC$3:AC$303<=AC51),-(AD$3:AD$303=1)),"") | AF51: =CONCATENATE(IF(AU51=1,"ST ",""),IF(AV51=1,"LA ",""),IF(AW51=1,"10","")) -> ST LA | AG51: =IF(AND(AC51<>"",TRIM(AI51)<>""),2,"") | AH51: =IF(AG51=2,SUMPRODUCT(-(AC$3:AC$303<=AC51),-(AG$3:AG$303=2)),"") | AI51: =CONCATENATE(IF(AU51=2,"ST ",""),IF(AV51=2,"LA ",""),IF(AW51=2,"10","")) | AT51: =IF(AND('Уровни соло'!$K24="+",'Уровни соло'!$AB2<>""),1,"") | AU51: ='Уровни соло'!$M24 -> 1 | AV51: ='Уровни соло'!$N24 -> 1 | AW51: ='Уровни соло'!$O24 -> 0 | AY51: =_xlfn.FORMULATEXT(AU51) -> =$'Уровни соло'.$M24 | BA51: $'Классы соло'.$K24 | BB51: =SEARCH("соло",BA51) -> 10 | BC51: =IF(BB51>0,"$'Классы соло'.$T2<>''","$'Классы пары'.$T2<>''") -> $'Классы соло'.$T2<>'' | BE51: $'Классы соло'.$AB2<>"");1;"")
I52: Мажирин Герман | J52: Мажирин Герман | K52: Член Президума | L52: Мажирин Герман | N52: М-категория | O52: Мажирин Герман | Z52: 1 | AA52: Ювеналы-1 E+D соло Ж | AB52: 27 | AC52: =IF(AT52=1,AB52,"") | AD52: =IF(AND(AC52<>"",TRIM(AF52)<>""),1,"") | AE52: =IF(AD52=1,SUMPRODUCT(-(AC$3:AC$303<=AC52),-(AD$3:AD$303=1)),"") | AF52: =CONCATENATE(IF(AU52=1,"ST ",""),IF(AV52=1,"LA ",""),IF(AW52=1,"10","")) -> ST LA | AG52: =IF(AND(AC52<>"",TRIM(AI52)<>""),2,"") | AH52: =IF(AG52=2,SUMPRODUCT(-(AC$3:AC$303<=AC52),-(AG$3:AG$303=2)),"") | AI52: =CONCATENATE(IF(AU52=2,"ST ",""),IF(AV52=2,"LA ",""),IF(AW52=2,"10","")) | AT52: =IF(AND('Уровни соло'!$Q24="+",'Уровни соло'!$AB2<>""),1,"") | AU52: ='Уровни соло'!$S24 -> 1 | AV52: ='Уровни соло'!$T24 -> 1 | AW52: ='Уровни соло'!$U24 -> 0 | AY52: =_xlfn.FORMULATEXT(AU52) -> =$'Уровни соло'.$S24 | BA52: $'Классы соло'.$Q24 | BB52: =SEARCH("соло",BA52) -> 10 | BC52: =IF(BB52>0,"$'Классы соло'.$T2<>''","$'Классы пары'.$T2<>''") -> $'Классы соло'.$T2<>'' | BE52: $'Классы соло'.$AB2<>"");1;"")
I53: Бородинов Владислав | J53: Бородинов Владислав | K53: Член Президума | L53: Бородинов Владислав | N53: М-категория | O53: Бородинов Владислав | Z53: 1 | AA53: Ювеналы-1+2 E+D соло Ж | AB53: 28 | AC53: =IF(AT53=1,AB53,"") | AD53: =IF(AND(AC53<>"",TRIM(AF53)<>""),1,"") | AE53: =IF(AD53=1,SUMPRODUCT(-(AC$3:AC$303<=AC53),-(AD$3:AD$303=1)),"") | AF53: =CONCATENATE(IF(AU53=1,"ST ",""),IF(AV53=1,"LA ",""),IF(AW53=1,"10","")) -> ST LA | AG53: =IF(AND(AC53<>"",TRIM(AI53)<>""),2,"") | AH53: =IF(AG53=2,SUMPRODUCT(-(AC$3:AC$303<=AC53),-(AG$3:AG$303=2)),"") | AI53: =CONCATENATE(IF(AU53=2,"ST ",""),IF(AV53=2,"LA ",""),IF(AW53=2,"10","")) | AT53: =IF(AND('Уровни соло'!$W24="+",'Уровни соло'!$AB2<>""),1,"") | AU53: ='Уровни соло'!$Y24 -> 1 | AV53: ='Уровни соло'!$Z24 -> 1 | AW53: ='Уровни соло'!$AA24 -> 0 | AY53: =_xlfn.FORMULATEXT(AU53) -> =$'Уровни соло'.$Y24 | BA53: $'Классы соло'.$W24 | BB53: =SEARCH("соло",BA53) -> 10 | BC53: =IF(BB53>0,"$'Классы соло'.$T2<>''","$'Классы пары'.$T2<>''") -> $'Классы соло'.$T2<>'' | BE53: $'Классы соло'.$AB2<>"");1;"")
I54: Кудинов Олег | J54: Кудинов Олег | K54: Член Президума | L54: Кудинов Олег | N54: М-категория | O54: Кудинов Олег | Z54: 1 | AA54: Ювеналы-2 E соло Ж | AB54: 29 | AC54: =IF(AT54=1,AB54,"") | AD54: =IF(AND(AC54<>"",TRIM(AF54)<>""),1,"") | AE54: =IF(AD54=1,SUMPRODUCT(-(AC$3:AC$303<=AC54),-(AD$3:AD$303=1)),"") | AF54: =CONCATENATE(IF(AU54=1,"ST ",""),IF(AV54=1,"LA ",""),IF(AW54=1,"10","")) -> ST LA | AG54: =IF(AND(AC54<>"",TRIM(AI54)<>""),2,"") | AH54: =IF(AG54=2,SUMPRODUCT(-(AC$3:AC$303<=AC54),-(AG$3:AG$303=2)),"") | AI54: =CONCATENATE(IF(AU54=2,"ST ",""),IF(AV54=2,"LA ",""),IF(AW54=2,"10","")) | AT54: =IF(AND('Уровни соло'!$E25="+",'Уровни соло'!$AB2<>""),1,"") | AU54: ='Уровни соло'!$G25 -> 1 | AV54: ='Уровни соло'!$H25 -> 1 | AW54: ='Уровни соло'!$I25 -> 0 | AY54: =_xlfn.FORMULATEXT(AU54) -> =$'Уровни соло'.$G25 | BA54: $'Классы соло'.$E25 | BB54: =SEARCH("соло",BA54) -> 10 | BC54: =IF(BB54>0,"$'Классы соло'.$T2<>''","$'Классы пары'.$T2<>''") -> $'Классы соло'.$T2<>'' | BE54: $'Классы соло'.$AB2<>"");1;"")
I55: Афанасьева Светлана | J55: Афанасьева Светлана | L55: Афанасьева Светлана | N55: М-категория | O55: Афанасьева Светлана | Z55: 1 | AA55: Ювеналы-2+Юниоры-1 E соло Ж | AB55: 30 | AC55: =IF(AT55=1,AB55,"") | AD55: =IF(AND(AC55<>"",TRIM(AF55)<>""),1,"") | AE55: =IF(AD55=1,SUMPRODUCT(-(AC$3:AC$303<=AC55),-(AD$3:AD$303=1)),"") | AF55: =CONCATENATE(IF(AU55=1,"ST ",""),IF(AV55=1,"LA ",""),IF(AW55=1,"10","")) -> ST LA | AG55: =IF(AND(AC55<>"",TRIM(AI55)<>""),2,"") | AH55: =IF(AG55=2,SUMPRODUCT(-(AC$3:AC$303<=AC55),-(AG$3:AG$303=2)),"") | AI55: =CONCATENATE(IF(AU55=2,"ST ",""),IF(AV55=2,"LA ",""),IF(AW55=2,"10","")) | AT55: =IF(AND('Уровни соло'!$K25="+",'Уровни соло'!$AB2<>""),1,"") | AU55: ='Уровни соло'!$M25 -> 1 | AV55: ='Уровни соло'!$N25 -> 1 | AW55: ='Уровни соло'!$O25 -> 0 | AY55: =_xlfn.FORMULATEXT(AU55) -> =$'Уровни соло'.$M25 | BA55: $'Классы соло'.$K25 | BB55: =SEARCH("соло",BA55) -> 10 | BC55: =IF(BB55>0,"$'Классы соло'.$T2<>''","$'Классы пары'.$T2<>''") -> $'Классы соло'.$T2<>'' | BE55: $'Классы соло'.$AB2<>"");1;"")
I56: Пьянков Лев | J56: Пьянков Лев | K56: Член Президума | L56: Пьянков Лев | N56: М-категория | O56: Пьянков Лев | Z56: 1 | AA56: Ювеналы-2 E+D соло Ж | AB56: 31 | AC56: =IF(AT56=1,AB56,"") | AD56: =IF(AND(AC56<>"",TRIM(AF56)<>""),1,"") | AE56: =IF(AD56=1,SUMPRODUCT(-(AC$3:AC$303<=AC56),-(AD$3:AD$303=1)),"") | AF56: =CONCATENATE(IF(AU56=1,"ST ",""),IF(AV56=1,"LA ",""),IF(AW56=1,"10","")) -> ST LA | AG56: =IF(AND(AC56<>"",TRIM(AI56)<>""),2,"") | AH56: =IF(AG56=2,SUMPRODUCT(-(AC$3:AC$303<=AC56),-(AG$3:AG$303=2)),"") | AI56: =CONCATENATE(IF(AU56=2,"ST ",""),IF(AV56=2,"LA ",""),IF(AW56=2,"10","")) | AT56: =IF(AND('Уровни соло'!$Q25="+",'Уровни соло'!$AB2<>""),1,"") | AU56: ='Уровни соло'!$S25 -> 1 | AV56: ='Уровни соло'!$T25 -> 1 | AW56: ='Уровни соло'!$U25 -> 0 | AY56: =_xlfn.FORMULATEXT(AU56) -> =$'Уровни соло'.$S25 | BA56: $'Классы соло'.$Q25 | BB56: =SEARCH("соло",BA56) -> 10 | BC56: =IF(BB56>0,"$'Классы соло'.$T2<>''","$'Классы пары'.$T2<>''") -> $'Классы соло'.$T2<>'' | BE56: $'Классы соло'.$AB2<>"");1;"")
I57: Шнырев Владимир | J57: Шнырев Владимир | L57: Шнырев Владимир | N57: М-категория | O57: Шнырев Владимир | Z57: 1 | AA57: Ювеналы-2+Юниоры-1 E+D соло Ж | AB57: 32 | AC57: =IF(AT57=1,AB57,"") | AD57: =IF(AND(AC57<>"",TRIM(AF57)<>""),1,"") | AE57: =IF(AD57=1,SUMPRODUCT(-(AC$3:AC$303<=AC57),-(AD$3:AD$303=1)),"") | AF57: =CONCATENATE(IF(AU57=1,"ST ",""),IF(AV57=1,"LA ",""),IF(AW57=1,"10","")) -> ST LA | AG57: =IF(AND(AC57<>"",TRIM(AI57)<>""),2,"") | AH57: =IF(AG57=2,SUMPRODUCT(-(AC$3:AC$303<=AC57),-(AG$3:AG$303=2)),"") | AI57: =CONCATENATE(IF(AU57=2,"ST ",""),IF(AV57=2,"LA ",""),IF(AW57=2,"10","")) | AT57: =IF(AND('Уровни соло'!$W25="+",'Уровни соло'!$AB2<>""),1,"") | AU57: ='Уровни соло'!$Y25 -> 1 | AV57: ='Уровни соло'!$Z25 -> 1 | AW57: ='Уровни соло'!$AA25 -> 0 | AY57: =_xlfn.FORMULATEXT(AU57) -> =$'Уровни соло'.$Y25 | BA57: $'Классы соло'.$W25 | BB57: =SEARCH("соло",BA57) -> 10 | BC57: =IF(BB57>0,"$'Классы соло'.$T2<>''","$'Классы пары'.$T2<>''") -> $'Классы соло'.$T2<>'' | BE57: $'Классы соло'.$AB2<>"");1;"")
I58: Клюшин Николай | J58: Клюшин Николай | L58: Клюшин Николай | N58: М-категория | O58: Клюшин Николай | Z58: 1 | AA58: Юниоры-1 E соло Ж | AB58: 33 | AC58: =IF(AT58=1,AB58,"") | AD58: =IF(AND(AC58<>"",TRIM(AF58)<>""),1,"") | AE58: =IF(AD58=1,SUMPRODUCT(-(AC$3:AC$303<=AC58),-(AD$3:AD$303=1)),"") | AF58: =CONCATENATE(IF(AU58=1,"ST ",""),IF(AV58=1,"LA ",""),IF(AW58=1,"10","")) -> ST LA | AG58: =IF(AND(AC58<>"",TRIM(AI58)<>""),2,"") | AH58: =IF(AG58=2,SUMPRODUCT(-(AC$3:AC$303<=AC58),-(AG$3:AG$303=2)),"") | AI58: =CONCATENATE(IF(AU58=2,"ST ",""),IF(AV58=2,"LA ",""),IF(AW58=2,"10","")) | AT58: =IF(AND('Уровни соло'!$E26="+",'Уровни соло'!$AB2<>""),1,"") | AU58: ='Уровни соло'!$G26 -> 1 | AV58: ='Уровни соло'!$H26 -> 1 | AW58: ='Уровни соло'!$I26 -> 0 | AY58: =_xlfn.FORMULATEXT(AU58) -> =$'Уровни соло'.$G26 | BA58: $'Классы соло'.$E26 | BB58: =SEARCH("соло",BA58) -> 10 | BC58: =IF(BB58>0,"$'Классы соло'.$T2<>''","$'Классы пары'.$T2<>''") -> $'Классы соло'.$T2<>'' | BE58: $'Классы соло'.$AB2<>"");1;"")
I59: Баев Александр | J59: Баев Александр | L59: Баев Александр | N59: М-категория | O59: Баев Александр | Z59: 1 | AA59: Юниоры-1+2 E соло Ж | AB59: 34 | AC59: =IF(AT59=1,AB59,"") | AD59: =IF(AND(AC59<>"",TRIM(AF59)<>""),1,"") | AE59: =IF(AD59=1,SUMPRODUCT(-(AC$3:AC$303<=AC59),-(AD$3:AD$303=1)),"") | AF59: =CONCATENATE(IF(AU59=1,"ST ",""),IF(AV59=1,"LA ",""),IF(AW59=1,"10","")) -> ST LA | AG59: =IF(AND(AC59<>"",TRIM(AI59)<>""),2,"") | AH59: =IF(AG59=2,SUMPRODUCT(-(AC$3:AC$303<=AC59),-(AG$3:AG$303=2)),"") | AI59: =CONCATENATE(IF(AU59=2,"ST ",""),IF(AV59=2,"LA ",""),IF(AW59=2,"10","")) | AT59: =IF(AND('Уровни соло'!$K26="+",'Уровни соло'!$AB2<>""),1,"") | AU59: ='Уровни соло'!$M26 -> 1 | AV59: ='Уровни соло'!$N26 -> 1 | AW59: ='Уровни соло'!$O26 -> 0 | AY59: =_xlfn.FORMULATEXT(AU59) -> =$'Уровни соло'.$M26 | BA59: $'Классы соло'.$K26 | BB59: =SEARCH("соло",BA59) -> 10 | BC59: =IF(BB59>0,"$'Классы соло'.$T2<>''","$'Классы пары'.$T2<>''") -> $'Классы соло'.$T2<>'' | BE59: $'Классы соло'.$AB2<>"");1;"")
I60: Беляев Алексей | J60: Беляев Алексей | K60: Член Президума | L60: Беляев Алексей | N60: М-категория | O60: Беляев Алексей | Z60: 1 | AA60: Юниоры-1 E+D соло Ж | AB60: 35 | AC60: =IF(AT60=1,AB60,"") | AD60: =IF(AND(AC60<>"",TRIM(AF60)<>""),1,"") | AE60: =IF(AD60=1,SUMPRODUCT(-(AC$3:AC$303<=AC60),-(AD$3:AD$303=1)),"") | AF60: =CONCATENATE(IF(AU60=1,"ST ",""),IF(AV60=1,"LA ",""),IF(AW60=1,"10","")) -> ST LA | AG60: =IF(AND(AC60<>"",TRIM(AI60)<>""),2,"") | AH60: =IF(AG60=2,SUMPRODUCT(-(AC$3:AC$303<=AC60),-(AG$3:AG$303=2)),"") | AI60: =CONCATENATE(IF(AU60=2,"ST ",""),IF(AV60=2,"LA ",""),IF(AW60=2,"10","")) | AT60: =IF(AND('Уровни соло'!$Q26="+",'Уровни соло'!$AB2<>""),1,"") | AU60: ='Уровни соло'!$S26 -> 1 | AV60: ='Уровни соло'!$T26 -> 1 | AW60: ='Уровни соло'!$U26 -> 0 | AY60: =_xlfn.FORMULATEXT(AU60) -> =$'Уровни соло'.$S26 | BA60: $'Классы соло'.$Q26 | BB60: =SEARCH("соло",BA60) -> 10 | BC60: =IF(BB60>0,"$'Классы соло'.$T2<>''","$'Классы пары'.$T2<>''") -> $'Классы соло'.$T2<>'' | BE60: $'Классы соло'.$AB2<>"");1;"")
I61: Крылов Иван | J61: Крылов Иван | K61: Член Президума | L61: Крылов Иван | N61: М-категория | O61: Крылов Иван | Z61: 1 | AA61: Юниоры-1+2 E+D соло Ж | AB61: 36 | AC61: =IF(AT61=1,AB61,"") | AD61: =IF(AND(AC61<>"",TRIM(AF61)<>""),1,"") | AE61: =IF(AD61=1,SUMPRODUCT(-(AC$3:AC$303<=AC61),-(AD$3:AD$303=1)),"") | AF61: =CONCATENATE(IF(AU61=1,"ST ",""),IF(AV61=1,"LA ",""),IF(AW61=1,"10","")) -> ST LA | AG61: =IF(AND(AC61<>"",TRIM(AI61)<>""),2,"") | AH61: =IF(AG61=2,SUMPRODUCT(-(AC$3:AC$303<=AC61),-(AG$3:AG$303=2)),"") | AI61: =CONCATENATE(IF(AU61=2,"ST ",""),IF(AV61=2,"LA ",""),IF(AW61=2,"10","")) | AT61: =IF(AND('Уровни соло'!$W26="+",'Уровни соло'!$AB2<>""),1,"") | AU61: ='Уровни соло'!$Y26 -> 1 | AV61: ='Уровни соло'!$Z26 -> 1 | AW61: ='Уровни соло'!$AA26 -> 0 | AY61: =_xlfn.FORMULATEXT(AU61) -> =$'Уровни соло'.$Y26 | BA61: $'Классы соло'.$W26 | BB61: =SEARCH("соло",BA61) -> 10 | BC61: =IF(BB61>0,"$'Классы соло'.$T2<>''","$'Классы пары'.$T2<>''") -> $'Классы соло'.$T2<>'' | BE61: $'Классы соло'.$AB2<>"");1;"")
I62: Михайлов Илья | J62: Михайлов Илья | L62: Михайлов Илья | N62: М-категория | O62: Михайлов Илья | Z62: 1 | AA62: Юниоры-2 E соло Ж | AB62: 37 | AC62: =IF(AT62=1,AB62,"") | AD62: =IF(AND(AC62<>"",TRIM(AF62)<>""),1,"") | AE62: =IF(AD62=1,SUMPRODUCT(-(AC$3:AC$303<=AC62),-(AD$3:AD$303=1)),"") | AF62: =CONCATENATE(IF(AU62=1,"ST ",""),IF(AV62=1,"LA ",""),IF(AW62=1,"10","")) -> ST LA | AG62: =IF(AND(AC62<>"",TRIM(AI62)<>""),2,"") | AH62: =IF(AG62=2,SUMPRODUCT(-(AC$3:AC$303<=AC62),-(AG$3:AG$303=2)),"") | AI62: =CONCATENATE(IF(AU62=2,"ST ",""),IF(AV62=2,"LA ",""),IF(AW62=2,"10","")) | AT62: =IF(AND('Уровни соло'!$E27="+",'Уровни соло'!$AB2<>""),1,"") | AU62: ='Уровни соло'!$G27 -> 1 | AV62: ='Уровни соло'!$H27 -> 1 | AW62: ='Уровни соло'!$I27 -> 0 | AY62: =_xlfn.FORMULATEXT(AU62) -> =$'Уровни соло'.$G27 | BA62: $'Классы соло'.$E27 | BB62: =SEARCH("соло",BA62) -> 10 | BC62: =IF(BB62>0,"$'Классы соло'.$T2<>''","$'Классы пары'.$T2<>''") -> $'Классы соло'.$T2<>'' | BE62: $'Классы соло'.$AB2<>"");1;"")
I63: Попов Виктор | J63: Попов Виктор | K63: Член Президума | L63: Попов Виктор | N63: М-категория | O63: Попов Виктор | Z63: 1 | AA63: Юниоры-2+Молодежь E соло Ж | AB63: 38 | AC63: =IF(AT63=1,AB63,"") | AD63: =IF(AND(AC63<>"",TRIM(AF63)<>""),1,"") | AE63: =IF(AD63=1,SUMPRODUCT(-(AC$3:AC$303<=AC63),-(AD$3:AD$303=1)),"") | AF63: =CONCATENATE(IF(AU63=1,"ST ",""),IF(AV63=1,"LA ",""),IF(AW63=1,"10","")) -> ST LA | AG63: =IF(AND(AC63<>"",TRIM(AI63)<>""),2,"") | AH63: =IF(AG63=2,SUMPRODUCT(-(AC$3:AC$303<=AC63),-(AG$3:AG$303=2)),"") | AI63: =CONCATENATE(IF(AU63=2,"ST ",""),IF(AV63=2,"LA ",""),IF(AW63=2,"10","")) | AT63: =IF(AND('Уровни соло'!$K27="+",'Уровни соло'!$AB2<>""),1,"") | AU63: ='Уровни соло'!$M27 -> 1 | AV63: ='Уровни соло'!$N27 -> 1 | AW63: ='Уровни соло'!$O27 -> 0 | AY63: =_xlfn.FORMULATEXT(AU63) -> =$'Уровни соло'.$M27 | BA63: $'Классы соло'.$K27 | BB63: =SEARCH("соло",BA63) -> 10 | BC63: =IF(BB63>0,"$'Классы соло'.$T2<>''","$'Классы пары'.$T2<>''") -> $'Классы соло'.$T2<>'' | BE63: $'Классы соло'.$AB2<>"");1;"")
I64: Попов Станислав | J64: Попов Станислав | K64: Член Президума | L64: Попов Станислав | N64: М-категория | O64: Попов Станислав | Z64: 1 | AA64: Юниоры-2 E+D соло Ж | AB64: 39 | AC64: =IF(AT64=1,AB64,"") | AD64: =IF(AND(AC64<>"",TRIM(AF64)<>""),1,"") | AE64: =IF(AD64=1,SUMPRODUCT(-(AC$3:AC$303<=AC64),-(AD$3:AD$303=1)),"") | AF64: =CONCATENATE(IF(AU64=1,"ST ",""),IF(AV64=1,"LA ",""),IF(AW64=1,"10","")) -> ST LA | AG64: =IF(AND(AC64<>"",TRIM(AI64)<>""),2,"") | AH64: =IF(AG64=2,SUMPRODUCT(-(AC$3:AC$303<=AC64),-(AG$3:AG$303=2)),"") | AI64: =CONCATENATE(IF(AU64=2,"ST ",""),IF(AV64=2,"LA ",""),IF(AW64=2,"10","")) | AT64: =IF(AND('Уровни соло'!$Q27="+",'Уровни соло'!$AB2<>""),1,"") | AU64: ='Уровни соло'!$S27 -> 1 | AV64: ='Уровни соло'!$T27 -> 1 | AW64: ='Уровни соло'!$U27 -> 0 | AY64: =_xlfn.FORMULATEXT(AU64) -> =$'Уровни соло'.$S27 | BA64: $'Классы соло'.$Q27 | BB64: =SEARCH("соло",BA64) -> 10 | BC64: =IF(BB64>0,"$'Классы соло'.$T2<>''","$'Классы пары'.$T2<>''") -> $'Классы соло'.$T2<>'' | BE64: $'Классы соло'.$AB2<>"");1;"")
I65: Плетнев Леонид | J65: Плетнев Леонид | L65: Плетнев Леонид | N65: М-категория | O65: Плетнев Леонид | Z65: 1 | AA65: Юниоры-2+Молодежь E+D соло Ж | AB65: 40 | AC65: =IF(AT65=1,AB65,"") | AD65: =IF(AND(AC65<>"",TRIM(AF65)<>""),1,"") | AE65: =IF(AD65=1,SUMPRODUCT(-(AC$3:AC$303<=AC65),-(AD$3:AD$303=1)),"") | AF65: =CONCATENATE(IF(AU65=1,"ST ",""),IF(AV65=1,"LA ",""),IF(AW65=1,"10","")) -> ST LA | AG65: =IF(AND(AC65<>"",TRIM(AI65)<>""),2,"") | AH65: =IF(AG65=2,SUMPRODUCT(-(AC$3:AC$303<=AC65),-(AG$3:AG$303=2)),"") | AI65: =CONCATENATE(IF(AU65=2,"ST ",""),IF(AV65=2,"LA ",""),IF(AW65=2,"10","")) | AT65: =IF(AND('Уровни соло'!$W27="+",'Уровни соло'!$AB2<>""),1,"") | AU65: ='Уровни соло'!$Y27 -> 1 | AV65: ='Уровни соло'!$Z27 -> 1 | AW65: ='Уровни соло'!$AA27 -> 0 | AY65: =_xlfn.FORMULATEXT(AU65) -> =$'Уровни соло'.$Y27 | BA65: $'Классы соло'.$W27 | BB65: =SEARCH("соло",BA65) -> 10 | BC65: =IF(BB65>0,"$'Классы соло'.$T2<>''","$'Классы пары'.$T2<>''") -> $'Классы соло'.$T2<>'' | BE65: $'Классы соло'.$AB2<>"");1;"")
I66: Гунько Геннадий | J66: Гунько Геннадий | L66: Гунько Геннадий | N66: М-категория | O66: Гунько Геннадий | Z66: 1 | AA66: Молодежь E соло Ж | AB66: 41 | AC66: =IF(AT66=1,AB66,"") | AD66: =IF(AND(AC66<>"",TRIM(AF66)<>""),1,"") | AE66: =IF(AD66=1,SUMPRODUCT(-(AC$3:AC$303<=AC66),-(AD$3:AD$303=1)),"") | AF66: =CONCATENATE(IF(AU66=1,"ST ",""),IF(AV66=1,"LA ",""),IF(AW66=1,"10","")) -> ST LA | AG66: =IF(AND(AC66<>"",TRIM(AI66)<>""),2,"") | AH66: =IF(AG66=2,SUMPRODUCT(-(AC$3:AC$303<=AC66),-(AG$3:AG$303=2)),"") | AI66: =CONCATENATE(IF(AU66=2,"ST ",""),IF(AV66=2,"LA ",""),IF(AW66=2,"10","")) | AT66: =IF(AND('Уровни соло'!$E28="+",'Уровни соло'!$AB2<>""),1,"") | AU66: ='Уровни соло'!$G28 -> 1 | AV66: ='Уровни соло'!$H28 -> 1 | AW66: ='Уровни соло'!$I28 -> 0 | AY66: =_xlfn.FORMULATEXT(AU66) -> =$'Уровни соло'.$G28 | BA66: $'Классы соло'.$E28 | BB66: =SEARCH("соло",BA66) -> 10 | BC66: =IF(BB66>0,"$'Классы соло'.$T2<>''","$'Классы пары'.$T2<>''") -> $'Классы соло'.$T2<>'' | BE66: $'Классы соло'.$AB2<>"");1;"")
Z67: 1 | AA67: Молодежь+Взрослые E соло Ж | AB67: 42 | AC67: =IF(AT67=1,AB67,"") | AD67: =IF(AND(AC67<>"",TRIM(AF67)<>""),1,"") | AE67: =IF(AD67=1,SUMPRODUCT(-(AC$3:AC$303<=AC67),-(AD$3:AD$303=1)),"") | AF67: =CONCATENATE(IF(AU67=1,"ST ",""),IF(AV67=1,"LA ",""),IF(AW67=1,"10","")) -> ST LA | AG67: =IF(AND(AC67<>"",TRIM(AI67)<>""),2,"") | AH67: =IF(AG67=2,SUMPRODUCT(-(AC$3:AC$303<=AC67),-(AG$3:AG$303=2)),"") | AI67: =CONCATENATE(IF(AU67=2,"ST ",""),IF(AV67=2,"LA ",""),IF(AW67=2,"10","")) | AT67: =IF(AND('Уровни соло'!$K28="+",'Уровни соло'!$AB2<>""),1,"") | AU67: ='Уровни соло'!$M28 -> 1 | AV67: ='Уровни соло'!$N28 -> 1 | AW67: ='Уровни соло'!$O28 -> 0 | AY67: =_xlfn.FORMULATEXT(AU67) -> =$'Уровни соло'.$M28 | BA67: $'Классы соло'.$K28 | BB67: =SEARCH("соло",BA67) -> 10 | BC67: =IF(BB67>0,"$'Классы соло'.$T2<>''","$'Классы пары'.$T2<>''") -> $'Классы соло'.$T2<>'' | BE67: $'Классы соло'.$AB2<>"");1;"")
Z68: 1 | AA68: Молодежь E+D соло Ж | AB68: 43 | AC68: =IF(AT68=1,AB68,"") | AD68: =IF(AND(AC68<>"",TRIM(AF68)<>""),1,"") | AE68: =IF(AD68=1,SUMPRODUCT(-(AC$3:AC$303<=AC68),-(AD$3:AD$303=1)),"") | AF68: =CONCATENATE(IF(AU68=1,"ST ",""),IF(AV68=1,"LA ",""),IF(AW68=1,"10","")) -> ST LA | AG68: =IF(AND(AC68<>"",TRIM(AI68)<>""),2,"") | AH68: =IF(AG68=2,SUMPRODUCT(-(AC$3:AC$303<=AC68),-(AG$3:AG$303=2)),"") | AI68: =CONCATENATE(IF(AU68=2,"ST ",""),IF(AV68=2,"LA ",""),IF(AW68=2,"10","")) | AT68: =IF(AND('Уровни соло'!$Q28="+",'Уровни соло'!$AB2<>""),1,"") | AU68: ='Уровни соло'!$S28 -> 1 | AV68: ='Уровни соло'!$T28 -> 1 | AW68: ='Уровни соло'!$U28 -> 0 | AY68: =_xlfn.FORMULATEXT(AU68) -> =$'Уровни соло'.$S28 | BA68: $'Классы соло'.$Q28 | BB68: =SEARCH("соло",BA68) -> 10 | BC68: =IF(BB68>0,"$'Классы соло'.$T2<>''","$'Классы пары'.$T2<>''") -> $'Классы соло'.$T2<>'' | BE68: $'Классы соло'.$AB2<>"");1;"")
Z69: 1 | AA69: Молодежь+Взрослые E+D соло Ж | AB69: 44 | AC69: =IF(AT69=1,AB69,"") | AD69: =IF(AND(AC69<>"",TRIM(AF69)<>""),1,"") | AE69: =IF(AD69=1,SUMPRODUCT(-(AC$3:AC$303<=AC69),-(AD$3:AD$303=1)),"") | AF69: =CONCATENATE(IF(AU69=1,"ST ",""),IF(AV69=1,"LA ",""),IF(AW69=1,"10","")) -> ST LA | AG69: =IF(AND(AC69<>"",TRIM(AI69)<>""),2,"") | AH69: =IF(AG69=2,SUMPRODUCT(-(AC$3:AC$303<=AC69),-(AG$3:AG$303=2)),"") | AI69: =CONCATENATE(IF(AU69=2,"ST ",""),IF(AV69=2,"LA ",""),IF(AW69=2,"10","")) | AT69: =IF(AND('Уровни соло'!$W28="+",'Уровни соло'!$AB2<>""),1,"") | AU69: ='Уровни соло'!$Y28 -> 1 | AV69: ='Уровни соло'!$Z28 -> 1 | AW69: ='Уровни соло'!$AA28 -> 0 | AY69: =_xlfn.FORMULATEXT(AU69) -> =$'Уровни соло'.$Y28 | BA69: $'Классы соло'.$W28 | BB69: =SEARCH("соло",BA69) -> 10 | BC69: =IF(BB69>0,"$'Классы соло'.$T2<>''","$'Классы пары'.$T2<>''") -> $'Классы соло'.$T2<>'' | BE69: $'Классы соло'.$AB2<>"");1;"")
Z70: 1 | AA70: Взрослые E соло Ж | AB70: 45 | AC70: =IF(AT70=1,AB70,"") | AD70: =IF(AND(AC70<>"",TRIM(AF70)<>""),1,"") | AE70: =IF(AD70=1,SUMPRODUCT(-(AC$3:AC$303<=AC70),-(AD$3:AD$303=1)),"") | AF70: =CONCATENATE(IF(AU70=1,"ST ",""),IF(AV70=1,"LA ",""),IF(AW70=1,"10","")) -> ST LA | AG70: =IF(AND(AC70<>"",TRIM(AI70)<>""),2,"") | AH70: =IF(AG70=2,SUMPRODUCT(-(AC$3:AC$303<=AC70),-(AG$3:AG$303=2)),"") | AI70: =CONCATENATE(IF(AU70=2,"ST ",""),IF(AV70=2,"LA ",""),IF(AW70=2,"10","")) | AT70: =IF(AND('Уровни соло'!$E29="+",'Уровни соло'!$AB2<>""),1,"") | AU70: ='Уровни соло'!$G29 -> 1 | AV70: ='Уровни соло'!$H29 -> 1 | AW70: ='Уровни соло'!$I29 -> 0 | AY70: =_xlfn.FORMULATEXT(AU70) -> =$'Уровни соло'.$G29 | BA70: $'Классы соло'.$E29 | BB70: =SEARCH("соло",BA70) -> 10 | BC70: =IF(BB70>0,"$'Классы соло'.$T2<>''","$'Классы пары'.$T2<>''") -> $'Классы соло'.$T2<>'' | BE70: $'Классы соло'.$AB2<>"");1;"")
Z71: 1 | AA71: Взрослые E+D соло Ж | AB71: 46 | AC71: =IF(AT71=1,AB71,"") | AD71: =IF(AND(AC71<>"",TRIM(AF71)<>""),1,"") | AE71: =IF(AD71=1,SUMPRODUCT(-(AC$3:AC$303<=AC71),-(AD$3:AD$303=1)),"") | AF71: =CONCATENATE(IF(AU71=1,"ST ",""),IF(AV71=1,"LA ",""),IF(AW71=1,"10","")) -> ST LA | AG71: =IF(AND(AC71<>"",TRIM(AI71)<>""),2,"") | AH71: =IF(AG71=2,SUMPRODUCT(-(AC$3:AC$303<=AC71),-(AG$3:AG$303=2)),"") | AI71: =CONCATENATE(IF(AU71=2,"ST ",""),IF(AV71=2,"LA ",""),IF(AW71=2,"10","")) | AT71: =IF(AND('Уровни соло'!$Q29="+",'Уровни соло'!$AB2<>""),1,"") | AU71: ='Уровни соло'!$S29 -> 1 | AV71: ='Уровни соло'!$T29 -> 1 | AW71: ='Уровни соло'!$U29 -> 0 | AY71: =_xlfn.FORMULATEXT(AU71) -> =$'Уровни соло'.$S29 | BA71: $'Классы соло'.$Q29 | BB71: =SEARCH("соло",BA71) -> 10 | BC71: =IF(BB71>0,"$'Классы соло'.$T2<>''","$'Классы пары'.$T2<>''") -> $'Классы соло'.$T2<>'' | BE71: $'Классы соло'.$AB2<>"");1;"")
Z72: 1 | AA72: Ювеналы-1 E | AB72: 121 | AC72: =IF(AT72=1,AB72,"") | AD72: =IF(AND(AC72<>"",TRIM(AF72)<>""),1,"") | AE72: =IF(AD72=1,SUMPRODUCT(-(AC$3:AC$303<=AC72),-(AD$3:AD$303=1)),"") | AF72: =CONCATENATE(IF(AU72=1,"ST ",""),IF(AV72=1,"LA ",""),IF(AW72=1,"10","")) -> ST LA | AG72: =IF(AND(AC72<>"",TRIM(AI72)<>""),2,"") | AH72: =IF(AG72=2,SUMPRODUCT(-(AC$3:AC$303<=AC72),-(AG$3:AG$303=2)),"") | AI72: =CONCATENATE(IF(AU72=2,"ST ",""),IF(AV72=2,"LA ",""),IF(AW72=2,"10","")) | AT72: =IF(AND('Уровни пары'!$E24="+",'Уровни пары'!$AB2<>""),1,"") | AU72: ='Уровни пары'!$G24 -> 1 | AV72: ='Уровни пары'!$H24 -> 1 | AW72: ='Уровни пары'!$I24 -> 0 | AY72: =_xlfn.FORMULATEXT(AU72) -> =$'Уровни пары'.$G24 | BA72: $'Классы пары'.$E24 | BB72: =SEARCH("соло",BA72) -> #VALUE! | BC72: =IF(BB72>0,"$'Классы соло'.$T2<>''","$'Классы пары'.$T2<>''") -> #VALUE! | BE72: $'Классы пары'.$AB2<>"");1;"")
Z73: 1 | AA73: Ювеналы-1+2 E | AB73: 122 | AC73: =IF(AT73=1,AB73,"") | AD73: =IF(AND(AC73<>"",TRIM(AF73)<>""),1,"") | AE73: =IF(AD73=1,SUMPRODUCT(-(AC$3:AC$303<=AC73),-(AD$3:AD$303=1)),"") | AF73: =CONCATENATE(IF(AU73=1,"ST ",""),IF(AV73=1,"LA ",""),IF(AW73=1,"10","")) -> ST LA | AG73: =IF(AND(AC73<>"",TRIM(AI73)<>""),2,"") | AH73: =IF(AG73=2,SUMPRODUCT(-(AC$3:AC$303<=AC73),-(AG$3:AG$303=2)),"") | AI73: =CONCATENATE(IF(AU73=2,"ST ",""),IF(AV73=2,"LA ",""),IF(AW73=2,"10","")) | AT73: =IF(AND('Уровни пары'!$K24="+",'Уровни пары'!$AB2<>""),1,"") | AU73: ='Уровни пары'!$M24 -> 1 | AV73: ='Уровни пары'!$N24 -> 1 | AW73: ='Уровни пары'!$O24 -> 0 | AY73: =_xlfn.FORMULATEXT(AU73) -> =$'Уровни пары'.$M24 | BA73: $'Классы пары'.$K24 | BB73: =SEARCH("соло",BA73) -> #VALUE! | BC73: =IF(BB73>0,"$'Классы соло'.$T2<>''","$'Классы пары'.$T2<>''") -> #VALUE! | BE73: $'Классы пары'.$AB2<>"");1;"")
Z74: 1 | AA74: Ювеналы-1 E+D | AB74: 123 | AC74: =IF(AT74=1,AB74,"") | AD74: =IF(AND(AC74<>"",TRIM(AF74)<>""),1,"") | AE74: =IF(AD74=1,SUMPRODUCT(-(AC$3:AC$303<=AC74),-(AD$3:AD$303=1)),"") | AF74: =CONCATENATE(IF(AU74=1,"ST ",""),IF(AV74=1,"LA ",""),IF(AW74=1,"10","")) -> ST LA | AG74: =IF(AND(AC74<>"",TRIM(AI74)<>""),2,"") | AH74: =IF(AG74=2,SUMPRODUCT(-(AC$3:AC$303<=AC74),-(AG$3:AG$303=2)),"") | AI74: =CONCATENATE(IF(AU74=2,"ST ",""),IF(AV74=2,"LA ",""),IF(AW74=2,"10","")) | AT74: =IF(AND('Уровни пары'!$Q24="+",'Уровни пары'!$AB2<>""),1,"") | AU74: ='Уровни пары'!$S24 -> 1 | AV74: ='Уровни пары'!$T24 -> 1 | AW74: ='Уровни пары'!$U24 -> 0 | AY74: =_xlfn.FORMULATEXT(AU74) -> =$'Уровни пары'.$S24 | BA74: $'Классы пары'.$Q24 | BB74: =SEARCH("соло",BA74) -> #VALUE! | BC74: =IF(BB74>0,"$'Классы соло'.$T2<>''","$'Классы пары'.$T2<>''") -> #VALUE! | BE74: $'Классы пары'.$AB2<>"");1;"")
Z75: 1 | AA75: Ювеналы-1+2 E+D | AB75: 124 | AC75: =IF(AT75=1,AB75,"") | AD75: =IF(AND(AC75<>"",TRIM(AF75)<>""),1,"") | AE75: =IF(AD75=1,SUMPRODUCT(-(AC$3:AC$303<=AC75),-(AD$3:AD$303=1)),"") | AF75: =CONCATENATE(IF(AU75=1,"ST ",""),IF(AV75=1,"LA ",""),IF(AW75=1,"10","")) -> ST LA | AG75: =IF(AND(AC75<>"",TRIM(AI75)<>""),2,"") | AH75: =IF(AG75=2,SUMPRODUCT(-(AC$3:AC$303<=AC75),-(AG$3:AG$303=2)),"") | AI75: =CONCATENATE(IF(AU75=2,"ST ",""),IF(AV75=2,"LA ",""),IF(AW75=2,"10","")) | AT75: =IF(AND('Уровни пары'!$W24="+",'Уровни пары'!$AB2<>""),1,"") | AU75: ='Уровни пары'!$Y24 -> 1 | AV75: ='Уровни пары'!$Z24 -> 1 | AW75: ='Уровни пары'!$AA24 -> 0 | AY75: =_xlfn.FORMULATEXT(AU75) -> =$'Уровни пары'.$Y24 | BA75: $'Классы пары'.$W24 | BB75: =SEARCH("соло",BA75) -> #VALUE! | BC75: =IF(BB75>0,"$'Классы соло'.$T2<>''","$'Классы пары'.$T2<>''") -> #VALUE! | BE75: $'Классы пары'.$AB2<>"");1;"")
Z76: 1 | AA76: Ювеналы-2 E | AB76: 125 | AC76: =IF(AT76=1,AB76,"") | AD76: =IF(AND(AC76<>"",TRIM(AF76)<>""),1,"") | AE76: =IF(AD76=1,SUMPRODUCT(-(AC$3:AC$303<=AC76),-(AD$3:AD$303=1)),"") | AF76: =CONCATENATE(IF(AU76=1,"ST ",""),IF(AV76=1,"LA ",""),IF(AW76=1,"10","")) -> ST LA | AG76: =IF(AND(AC76<>"",TRIM(AI76)<>""),2,"") | AH76: =IF(AG76=2,SUMPRODUCT(-(AC$3:AC$303<=AC76),-(AG$3:AG$303=2)),"") | AI76: =CONCATENATE(IF(AU76=2,"ST ",""),IF(AV76=2,"LA ",""),IF(AW76=2,"10","")) | AT76: =IF(AND('Уровни пары'!$E25="+",'Уровни пары'!$AB2<>""),1,"") | AU76: ='Уровни пары'!$G25 -> 1 | AV76: ='Уровни пары'!$H25 -> 1 | AW76: ='Уровни пары'!$I25 -> 0 | AY76: =_xlfn.FORMULATEXT(AU76) -> =$'Уровни пары'.$G25 | BA76: $'Классы пары'.$E25 | BB76: =SEARCH("соло",BA76) -> #VALUE! | BC76: =IF(BB76>0,"$'Классы соло'.$T2<>''","$'Классы пары'.$T2<>''") -> #VALUE! | BE76: $'Классы пары'.$AB2<>"");1;"")
Z77: 1 | AA77: Ювеналы-2+Юниоры-1 E | AB77: 126 | AC77: =IF(AT77=1,AB77,"") | AD77: =IF(AND(AC77<>"",TRIM(AF77)<>""),1,"") | AE77: =IF(AD77=1,SUMPRODUCT(-(AC$3:AC$303<=AC77),-(AD$3:AD$303=1)),"") | AF77: =CONCATENATE(IF(AU77=1,"ST ",""),IF(AV77=1,"LA ",""),IF(AW77=1,"10","")) -> ST LA | AG77: =IF(AND(AC77<>"",TRIM(AI77)<>""),2,"") | AH77: =IF(AG77=2,SUMPRODUCT(-(AC$3:AC$303<=AC77),-(AG$3:AG$303=2)),"") | AI77: =CONCATENATE(IF(AU77=2,"ST ",""),IF(AV77=2,"LA ",""),IF(AW77=2,"10","")) | AT77: =IF(AND('Уровни пары'!$K25="+",'Уровни пары'!$AB2<>""),1,"") | AU77: ='Уровни пары'!$M25 -> 1 | AV77: ='Уровни пары'!$N25 -> 1 | AW77: ='Уровни пары'!$O25 -> 0 | AY77: =_xlfn.FORMULATEXT(AU77) -> =$'Уровни пары'.$M25 | BA77: $'Классы пары'.$K25 | BB77: =SEARCH("соло",BA77) -> #VALUE! | BC77: =IF(BB77>0,"$'Классы соло'.$T2<>''","$'Классы пары'.$T2<>''") -> #VALUE! | BE77: $'Классы пары'.$AB2<>"");1;"")
Z78: 1 | AA78: Ювеналы-2 E+D | AB78: 127 | AC78: =IF(AT78=1,AB78,"") | AD78: =IF(AND(AC78<>"",TRIM(AF78)<>""),1,"") | AE78: =IF(AD78=1,SUMPRODUCT(-(AC$3:AC$303<=AC78),-(AD$3:AD$303=1)),"") | AF78: =CONCATENATE(IF(AU78=1,"ST ",""),IF(AV78=1,"LA ",""),IF(AW78=1,"10","")) -> ST LA | AG78: =IF(AND(AC78<>"",TRIM(AI78)<>""),2,"") | AH78: =IF(AG78=2,SUMPRODUCT(-(AC$3:AC$303<=AC78),-(AG$3:AG$303=2)),"") | AI78: =CONCATENATE(IF(AU78=2,"ST ",""),IF(AV78=2,"LA ",""),IF(AW78=2,"10","")) | AT78: =IF(AND('Уровни пары'!$Q25="+",'Уровни пары'!$AB2<>""),1,"") | AU78: ='Уровни пары'!$S25 -> 1 | AV78: ='Уровни пары'!$T25 -> 1 | AW78: ='Уровни пары'!$U25 -> 0 | AY78: =_xlfn.FORMULATEXT(AU78) -> =$'Уровни пары'.$S25 | BA78: $'Классы пары'.$Q25 | BB78: =SEARCH("соло",BA78) -> #VALUE! | BC78: =IF(BB78>0,"$'Классы соло'.$T2<>''","$'Классы пары'.$T2<>''") -> #VALUE! | BE78: $'Классы пары'.$AB2<>"");1;"")
Z79: 1 | AA79: Ювеналы-2+Юниоры-1 E+D | AB79: 128 | AC79: =IF(AT79=1,AB79,"") | AD79: =IF(AND(AC79<>"",TRIM(AF79)<>""),1,"") | AE79: =IF(AD79=1,SUMPRODUCT(-(AC$3:AC$303<=AC79),-(AD$3:AD$303=1)),"") | AF79: =CONCATENATE(IF(AU79=1,"ST ",""),IF(AV79=1,"LA ",""),IF(AW79=1,"10","")) -> ST LA | AG79: =IF(AND(AC79<>"",TRIM(AI79)<>""),2,"") | AH79: =IF(AG79=2,SUMPRODUCT(-(AC$3:AC$303<=AC79),-(AG$3:AG$303=2)),"") | AI79: =CONCATENATE(IF(AU79=2,"ST ",""),IF(AV79=2,"LA ",""),IF(AW79=2,"10","")) | AT79: =IF(AND('Уровни пары'!$W25="+",'Уровни пары'!$AB2<>""),1,"") | AU79: ='Уровни пары'!$Y25 -> 1 | AV79: ='Уровни пары'!$Z25 -> 1 | AW79: ='Уровни пары'!$AA25 -> 0 | AY79: =_xlfn.FORMULATEXT(AU79) -> =$'Уровни пары'.$Y25 | BA79: $'Классы пары'.$W25 | BB79: =SEARCH("соло",BA79) -> #VALUE! | BC79: =IF(BB79>0,"$'Классы соло'.$T2<>''","$'Классы пары'.$T2<>''") -> #VALUE! | BE79: $'Классы пары'.$AB2<>"");1;"")
Z80: 1 | AA80: Юниоры-1 E | AB80: 129 | AC80: =IF(AT80=1,AB80,"") | AD80: =IF(AND(AC80<>"",TRIM(AF80)<>""),1,"") | AE80: =IF(AD80=1,SUMPRODUCT(-(AC$3:AC$303<=AC80),-(AD$3:AD$303=1)),"") | AF80: =CONCATENATE(IF(AU80=1,"ST ",""),IF(AV80=1,"LA ",""),IF(AW80=1,"10","")) -> ST LA | AG80: =IF(AND(AC80<>"",TRIM(AI80)<>""),2,"") | AH80: =IF(AG80=2,SUMPRODUCT(-(AC$3:AC$303<=AC80),-(AG$3:AG$303=2)),"") | AI80: =CONCATENATE(IF(AU80=2,"ST ",""),IF(AV80=2,"LA ",""),IF(AW80=2,"10","")) | AT80: =IF(AND('Уровни пары'!$E26="+",'Уровни пары'!$AB2<>""),1,"") | AU80: ='Уровни пары'!$G26 -> 1 | AV80: ='Уровни пары'!$H26 -> 1 | AW80: ='Уровни пары'!$I26 -> 0 | AY80: =_xlfn.FORMULATEXT(AU80) -> =$'Уровни пары'.$G26 | BA80: $'Классы пары'.$E26 | BB80: =SEARCH("соло",BA80) -> #VALUE! | BC80: =IF(BB80>0,"$'Классы соло'.$T2<>''","$'Классы пары'.$T2<>''") -> #VALUE! | BE80: $'Классы пары'.$AB2<>"");1;"")
Z81: 1 | AA81: Юниоры-1+2 E | AB81: 130 | AC81: =IF(AT81=1,AB81,"") | AD81: =IF(AND(AC81<>"",TRIM(AF81)<>""),1,"") | AE81: =IF(AD81=1,SUMPRODUCT(-(AC$3:AC$303<=AC81),-(AD$3:AD$303=1)),"") | AF81: =CONCATENATE(IF(AU81=1,"ST ",""),IF(AV81=1,"LA ",""),IF(AW81=1,"10","")) -> ST LA | AG81: =IF(AND(AC81<>"",TRIM(AI81)<>""),2,"") | AH81: =IF(AG81=2,SUMPRODUCT(-(AC$3:AC$303<=AC81),-(AG$3:AG$303=2)),"") | AI81: =CONCATENATE(IF(AU81=2,"ST ",""),IF(AV81=2,"LA ",""),IF(AW81=2,"10","")) | AT81: =IF(AND('Уровни пары'!$K26="+",'Уровни пары'!$AB2<>""),1,"") | AU81: ='Уровни пары'!$M26 -> 1 | AV81: ='Уровни пары'!$N26 -> 1 | AW81: ='Уровни пары'!$O26 -> 0 | AY81: =_xlfn.FORMULATEXT(AU81) -> =$'Уровни пары'.$M26 | BA81: $'Классы пары'.$K26 | BB81: =SEARCH("соло",BA81) -> #VALUE! | BC81: =IF(BB81>0,"$'Классы соло'.$T2<>''","$'Классы пары'.$T2<>''") -> #VALUE! | BE81: $'Классы пары'.$AB2<>"");1;"")
Z82: 1 | AA82: Юниоры-1 E+D | AB82: 131 | AC82: =IF(AT82=1,AB82,"") | AD82: =IF(AND(AC82<>"",TRIM(AF82)<>""),1,"") | AE82: =IF(AD82=1,SUMPRODUCT(-(AC$3:AC$303<=AC82),-(AD$3:AD$303=1)),"") | AF82: =CONCATENATE(IF(AU82=1,"ST ",""),IF(AV82=1,"LA ",""),IF(AW82=1,"10","")) -> ST LA | AG82: =IF(AND(AC82<>"",TRIM(AI82)<>""),2,"") | AH82: =IF(AG82=2,SUMPRODUCT(-(AC$3:AC$303<=AC82),-(AG$3:AG$303=2)),"") | AI82: =CONCATENATE(IF(AU82=2,"ST ",""),IF(AV82=2,"LA ",""),IF(AW82=2,"10","")) | AT82: =IF(AND('Уровни пары'!$Q26="+",'Уровни пары'!$AB2<>""),1,"") | AU82: ='Уровни пары'!$S26 -> 1 | AV82: ='Уровни пары'!$T26 -> 1 | AW82: ='Уровни пары'!$U26 -> 0 | AY82: =_xlfn.FORMULATEXT(AU82) -> =$'Уровни пары'.$S26 | BA82: $'Классы пары'.$Q26 | BB82: =SEARCH("соло",BA82) -> #VALUE! | BC82: =IF(BB82>0,"$'Классы соло'.$T2<>''","$'Классы пары'.$T2<>''") -> #VALUE! | BE82: $'Классы пары'.$AB2<>"");1;"")
Z83: 1 | AA83: Юниоры-1+2 E+D | AB83: 132 | AC83: =IF(AT83=1,AB83,"") | AD83: =IF(AND(AC83<>"",TRIM(AF83)<>""),1,"") | AE83: =IF(AD83=1,SUMPRODUCT(-(AC$3:AC$303<=AC83),-(AD$3:AD$303=1)),"") | AF83: =CONCATENATE(IF(AU83=1,"ST ",""),IF(AV83=1,"LA ",""),IF(AW83=1,"10","")) -> ST LA | AG83: =IF(AND(AC83<>"",TRIM(AI83)<>""),2,"") | AH83: =IF(AG83=2,SUMPRODUCT(-(AC$3:AC$303<=AC83),-(AG$3:AG$303=2)),"") | AI83: =CONCATENATE(IF(AU83=2,"ST ",""),IF(AV83=2,"LA ",""),IF(AW83=2,"10","")) | AT83: =IF(AND('Уровни пары'!$W26="+",'Уровни пары'!$AB2<>""),1,"") | AU83: ='Уровни пары'!$Y26 -> 1 | AV83: ='Уровни пары'!$Z26 -> 1 | AW83: ='Уровни пары'!$AA26 -> 0 | AY83: =_xlfn.FORMULATEXT(AU83) -> =$'Уровни пары'.$Y26 | BA83: $'Классы пары'.$W26 | BB83: =SEARCH("соло",BA83) -> #VALUE! | BC83: =IF(BB83>0,"$'Классы соло'.$T2<>''","$'Классы пары'.$T2<>''") -> #VALUE! | BE83: $'Классы пары'.$AB2<>"");1;"")
Z84: 1 | AA84: Юниоры-2 E | AB84: 133 | AC84: =IF(AT84=1,AB84,"") | AD84: =IF(AND(AC84<>"",TRIM(AF84)<>""),1,"") | AE84: =IF(AD84=1,SUMPRODUCT(-(AC$3:AC$303<=AC84),-(AD$3:AD$303=1)),"") | AF84: =CONCATENATE(IF(AU84=1,"ST ",""),IF(AV84=1,"LA ",""),IF(AW84=1,"10","")) -> ST LA | AG84: =IF(AND(AC84<>"",TRIM(AI84)<>""),2,"") | AH84: =IF(AG84=2,SUMPRODUCT(-(AC$3:AC$303<=AC84),-(AG$3:AG$303=2)),"") | AI84: =CONCATENATE(IF(AU84=2,"ST ",""),IF(AV84=2,"LA ",""),IF(AW84=2,"10","")) | AT84: =IF(AND('Уровни пары'!$E27="+",'Уровни пары'!$AB2<>""),1,"") | AU84: ='Уровни пары'!$G27 -> 1 | AV84: ='Уровни пары'!$H27 -> 1 | AW84: ='Уровни пары'!$I27 -> 0 | AY84: =_xlfn.FORMULATEXT(AU84) -> =$'Уровни пары'.$G27 | BA84: $'Классы пары'.$E27 | BB84: =SEARCH("соло",BA84) -> #VALUE! | BC84: =IF(BB84>0,"$'Классы соло'.$T2<>''","$'Классы пары'.$T2<>''") -> #VALUE! | BE84: $'Классы пары'.$AB2<>"");1;"")
Z85: 1 | AA85: Юниоры-2+Молодежь E | AB85: 134 | AC85: =IF(AT85=1,AB85,"") | AD85: =IF(AND(AC85<>"",TRIM(AF85)<>""),1,"") | AE85: =IF(AD85=1,SUMPRODUCT(-(AC$3:AC$303<=AC85),-(AD$3:AD$303=1)),"") | AF85: =CONCATENATE(IF(AU85=1,"ST ",""),IF(AV85=1,"LA ",""),IF(AW85=1,"10","")) -> ST LA | AG85: =IF(AND(AC85<>"",TRIM(AI85)<>""),2,"") | AH85: =IF(AG85=2,SUMPRODUCT(-(AC$3:AC$303<=AC85),-(AG$3:AG$303=2)),"") | AI85: =CONCATENATE(IF(AU85=2,"ST ",""),IF(AV85=2,"LA ",""),IF(AW85=2,"10","")) | AT85: =IF(AND('Уровни пары'!$K27="+",'Уровни пары'!$AB2<>""),1,"") | AU85: ='Уровни пары'!$M27 -> 1 | AV85: ='Уровни пары'!$N27 -> 1 | AW85: ='Уровни пары'!$O27 -> 0 | AY85: =_xlfn.FORMULATEXT(AU85) -> =$'Уровни пары'.$M27 | BA85: $'Классы пары'.$K27 | BB85: =SEARCH("соло",BA85) -> #VALUE! | BC85: =IF(BB85>0,"$'Классы соло'.$T2<>''","$'Классы пары'.$T2<>''") -> #VALUE! | BE85: $'Классы пары'.$AB2<>"");1;"")
Z86: 1 | AA86: Юниоры-2 E+D | AB86: 135 | AC86: =IF(AT86=1,AB86,"") | AD86: =IF(AND(AC86<>"",TRIM(AF86)<>""),1,"") | AE86: =IF(AD86=1,SUMPRODUCT(-(AC$3:AC$303<=AC86),-(AD$3:AD$303=1)),"") | AF86: =CONCATENATE(IF(AU86=1,"ST ",""),IF(AV86=1,"LA ",""),IF(AW86=1,"10","")) -> ST LA | AG86: =IF(AND(AC86<>"",TRIM(AI86)<>""),2,"") | AH86: =IF(AG86=2,SUMPRODUCT(-(AC$3:AC$303<=AC86),-(AG$3:AG$303=2)),"") | AI86: =CONCATENATE(IF(AU86=2,"ST ",""),IF(AV86=2,"LA ",""),IF(AW86=2,"10","")) | AT86: =IF(AND('Уровни пары'!$Q27="+",'Уровни пары'!$AB2<>""),1,"") | AU86: ='Уровни пары'!$S27 -> 1 | AV86: ='Уровни пары'!$T27 -> 1 | AW86: ='Уровни пары'!$U27 -> 0 | AY86: =_xlfn.FORMULATEXT(AU86) -> =$'Уровни пары'.$S27 | BA86: $'Классы пары'.$Q27 | BB86: =SEARCH("соло",BA86) -> #VALUE! | BC86: =IF(BB86>0,"$'Классы соло'.$T2<>''","$'Классы пары'.$T2<>''") -> #VALUE! | BE86: $'Классы пары'.$AB2<>"");1;"")
Z87: 1 | AA87: Юниоры-2+Молодежь E+D | AB87: 136 | AC87: =IF(AT87=1,AB87,"") | AD87: =IF(AND(AC87<>"",TRIM(AF87)<>""),1,"") | AE87: =IF(AD87=1,SUMPRODUCT(-(AC$3:AC$303<=AC87),-(AD$3:AD$303=1)),"") | AF87: =CONCATENATE(IF(AU87=1,"ST ",""),IF(AV87=1,"LA ",""),IF(AW87=1,"10","")) -> ST LA | AG87: =IF(AND(AC87<>"",TRIM(AI87)<>""),2,"") | AH87: =IF(AG87=2,SUMPRODUCT(-(AC$3:AC$303<=AC87),-(AG$3:AG$303=2)),"") | AI87: =CONCATENATE(IF(AU87=2,"ST ",""),IF(AV87=2,"LA ",""),IF(AW87=2,"10","")) | AT87: =IF(AND('Уровни пары'!$W27="+",'Уровни пары'!$AB2<>""),1,"") | AU87: ='Уровни пары'!$Y27 -> 1 | AV87: ='Уровни пары'!$Z27 -> 1 | AW87: ='Уровни пары'!$AA27 -> 0 | AY87: =_xlfn.FORMULATEXT(AU87) -> =$'Уровни пары'.$Y27 | BA87: $'Классы пары'.$W27 | BB87: =SEARCH("соло",BA87) -> #VALUE! | BC87: =IF(BB87>0,"$'Классы соло'.$T2<>''","$'Классы пары'.$T2<>''") -> #VALUE! | BE87: $'Классы пары'.$AB2<>"");1;"")
Z88: 1 | AA88: Молодежь E | AB88: 137 | AC88: =IF(AT88=1,AB88,"") | AD88: =IF(AND(AC88<>"",TRIM(AF88)<>""),1,"") | AE88: =IF(AD88=1,SUMPRODUCT(-(AC$3:AC$303<=AC88),-(AD$3:AD$303=1)),"") | AF88: =CONCATENATE(IF(AU88=1,"ST ",""),IF(AV88=1,"LA ",""),IF(AW88=1,"10","")) -> ST LA | AG88: =IF(AND(AC88<>"",TRIM(AI88)<>""),2,"") | AH88: =IF(AG88=2,SUMPRODUCT(-(AC$3:AC$303<=AC88),-(AG$3:AG$303=2)),"") | AI88: =CONCATENATE(IF(AU88=2,"ST ",""),IF(AV88=2,"LA ",""),IF(AW88=2,"10","")) | AT88: =IF(AND('Уровни пары'!$E28="+",'Уровни пары'!$AB2<>""),1,"") | AU88: ='Уровни пары'!$G28 -> 1 | AV88: ='Уровни пары'!$H28 -> 1 | AW88: ='Уровни пары'!$I28 -> 0 | AY88: =_xlfn.FORMULATEXT(AU88) -> =$'Уровни пары'.$G28 | BA88: $'Классы пары'.$E28 | BB88: =SEARCH("соло",BA88) -> #VALUE! | BC88: =IF(BB88>0,"$'Классы соло'.$T2<>''","$'Классы пары'.$T2<>''") -> #VALUE! | BE88: $'Классы пары'.$AB2<>"");1;"")
Z89: 1 | AA89: Молодежь+Взрослые E | AB89: 138 | AC89: =IF(AT89=1,AB89,"") | AD89: =IF(AND(AC89<>"",TRIM(AF89)<>""),1,"") | AE89: =IF(AD89=1,SUMPRODUCT(-(AC$3:AC$303<=AC89),-(AD$3:AD$303=1)),"") | AF89: =CONCATENATE(IF(AU89=1,"ST ",""),IF(AV89=1,"LA ",""),IF(AW89=1,"10","")) -> ST LA | AG89: =IF(AND(AC89<>"",TRIM(AI89)<>""),2,"") | AH89: =IF(AG89=2,SUMPRODUCT(-(AC$3:AC$303<=AC89),-(AG$3:AG$303=2)),"") | AI89: =CONCATENATE(IF(AU89=2,"ST ",""),IF(AV89=2,"LA ",""),IF(AW89=2,"10","")) | AT89: =IF(AND('Уровни пары'!$K28="+",'Уровни пары'!$AB2<>""),1,"") | AU89: ='Уровни пары'!$M28 -> 1 | AV89: ='Уровни пары'!$N28 -> 1 | AW89: ='Уровни пары'!$O28 -> 0 | AY89: =_xlfn.FORMULATEXT(AU89) -> =$'Уровни пары'.$M28 | BA89: $'Классы пары'.$K28 | BB89: =SEARCH("соло",BA89) -> #VALUE! | BC89: =IF(BB89>0,"$'Классы соло'.$T2<>''","$'Классы пары'.$T2<>''") -> #VALUE! | BE89: $'Классы пары'.$AB2<>"");1;"")
Z90: 1 | AA90: Молодежь E+D | AB90: 139 | AC90: =IF(AT90=1,AB90,"") | AD90: =IF(AND(AC90<>"",TRIM(AF90)<>""),1,"") | AE90: =IF(AD90=1,SUMPRODUCT(-(AC$3:AC$303<=AC90),-(AD$3:AD$303=1)),"") | AF90: =CONCATENATE(IF(AU90=1,"ST ",""),IF(AV90=1,"LA ",""),IF(AW90=1,"10","")) -> ST LA | AG90: =IF(AND(AC90<>"",TRIM(AI90)<>""),2,"") | AH90: =IF(AG90=2,SUMPRODUCT(-(AC$3:AC$303<=AC90),-(AG$3:AG$303=2)),"") | AI90: =CONCATENATE(IF(AU90=2,"ST ",""),IF(AV90=2,"LA ",""),IF(AW90=2,"10","")) | AT90: =IF(AND('Уровни пары'!$Q28="+",'Уровни пары'!$AB2<>""),1,"") | AU90: ='Уровни пары'!$S28 -> 1 | AV90: ='Уровни пары'!$T28 -> 1 | AW90: ='Уровни пары'!$U28 -> 0 | AY90: =_xlfn.FORMULATEXT(AU90) -> =$'Уровни пары'.$S28 | BA90: $'Классы пары'.$Q28 | BB90: =SEARCH("соло",BA90) -> #VALUE! | BC90: =IF(BB90>0,"$'Классы соло'.$T2<>''","$'Классы пары'.$T2<>''") -> #VALUE! | BE90: $'Классы пары'.$AB2<>"");1;"")
Z91: 1 | AA91: Молодежь+Взрослые E+D | AB91: 140 | AC91: =IF(AT91=1,AB91,"") | AD91: =IF(AND(AC91<>"",TRIM(AF91)<>""),1,"") | AE91: =IF(AD91=1,SUMPRODUCT(-(AC$3:AC$303<=AC91),-(AD$3:AD$303=1)),"") | AF91: =CONCATENATE(IF(AU91=1,"ST ",""),IF(AV91=1,"LA ",""),IF(AW91=1,"10","")) -> ST LA | AG91: =IF(AND(AC91<>"",TRIM(AI91)<>""),2,"") | AH91: =IF(AG91=2,SUMPRODUCT(-(AC$3:AC$303<=AC91),-(AG$3:AG$303=2)),"") | AI91: =CONCATENATE(IF(AU91=2,"ST ",""),IF(AV91=2,"LA ",""),IF(AW91=2,"10","")) | AT91: =IF(AND('Уровни пары'!$W28="+",'Уровни пары'!$AB2<>""),1,"") | AU91: ='Уровни пары'!$Y28 -> 1 | AV91: ='Уровни пары'!$Z28 -> 1 | AW91: ='Уровни пары'!$AA28 -> 0 | AY91: =_xlfn.FORMULATEXT(AU91) -> =$'Уровни пары'.$Y28 | BA91: $'Классы пары'.$W28 | BB91: =SEARCH("соло",BA91) -> #VALUE! | BC91: =IF(BB91>0,"$'Классы соло'.$T2<>''","$'Классы пары'.$T2<>''") -> #VALUE! | BE91: $'Классы пары'.$AB2<>"");1;"")
Z92: 1 | AA92: Взрослые E | AB92: 141 | AC92: =IF(AT92=1,AB92,"") | AD92: =IF(AND(AC92<>"",TRIM(AF92)<>""),1,"") | AE92: =IF(AD92=1,SUMPRODUCT(-(AC$3:AC$303<=AC92),-(AD$3:AD$303=1)),"") | AF92: =CONCATENATE(IF(AU92=1,"ST ",""),IF(AV92=1,"LA ",""),IF(AW92=1,"10","")) -> ST LA | AG92: =IF(AND(AC92<>"",TRIM(AI92)<>""),2,"") | AH92: =IF(AG92=2,SUMPRODUCT(-(AC$3:AC$303<=AC92),-(AG$3:AG$303=2)),"") | AI92: =CONCATENATE(IF(AU92=2,"ST ",""),IF(AV92=2,"LA ",""),IF(AW92=2,"10","")) | AT92: =IF(AND('Уровни пары'!$E29="+",'Уровни пары'!$AB2<>""),1,"") | AU92: ='Уровни пары'!$G29 -> 1 | AV92: ='Уровни пары'!$H29 -> 1 | AW92: ='Уровни пары'!$I29 -> 0 | AY92: =_xlfn.FORMULATEXT(AU92) -> =$'Уровни пары'.$G29 | BA92: $'Классы пары'.$E29 | BB92: =SEARCH("соло",BA92) -> #VALUE! | BC92: =IF(BB92>0,"$'Классы соло'.$T2<>''","$'Классы пары'.$T2<>''") -> #VALUE! | BE92: $'Классы пары'.$AB2<>"");1;"")
Z93: 1 | AA93: Взрослые E+D | AB93: 142 | AC93: =IF(AT93=1,AB93,"") | AD93: =IF(AND(AC93<>"",TRIM(AF93)<>""),1,"") | AE93: =IF(AD93=1,SUMPRODUCT(-(AC$3:AC$303<=AC93),-(AD$3:AD$303=1)),"") | AF93: =CONCATENATE(IF(AU93=1,"ST ",""),IF(AV93=1,"LA ",""),IF(AW93=1,"10","")) -> ST LA | AG93: =IF(AND(AC93<>"",TRIM(AI93)<>""),2,"") | AH93: =IF(AG93=2,SUMPRODUCT(-(AC$3:AC$303<=AC93),-(AG$3:AG$303=2)),"") | AI93: =CONCATENATE(IF(AU93=2,"ST ",""),IF(AV93=2,"LA ",""),IF(AW93=2,"10","")) | AT93: =IF(AND('Уровни пары'!$Q29="+",'Уровни пары'!$AB2<>""),1,"") | AU93: ='Уровни пары'!$S29 -> 1 | AV93: ='Уровни пары'!$T29 -> 1 | AW93: ='Уровни пары'!$U29 -> 0 | AY93: =_xlfn.FORMULATEXT(AU93) -> =$'Уровни пары'.$S29 | BA93: $'Классы пары'.$Q29 | BB93: =SEARCH("соло",BA93) -> #VALUE! | BC93: =IF(BB93>0,"$'Классы соло'.$T2<>''","$'Классы пары'.$T2<>''") -> #VALUE! | BE93: $'Классы пары'.$AB2<>"");1;"")
Z94: 1 | AA94: Ювеналы-1 D соло Ж | AB94: 47 | AC94: =IF(AT94=1,AB94,"") | AD94: =IF(AND(AC94<>"",TRIM(AF94)<>""),1,"") | AE94: =IF(AD94=1,SUMPRODUCT(-(AC$3:AC$303<=AC94),-(AD$3:AD$303=1)),"") | AF94: =CONCATENATE(IF(AU94=1,"ST ",""),IF(AV94=1,"LA ",""),IF(AW94=1,"10","")) -> ST LA | AG94: =IF(AND(AC94<>"",TRIM(AI94)<>""),2,"") | AH94: =IF(AG94=2,SUMPRODUCT(-(AC$3:AC$303<=AC94),-(AG$3:AG$303=2)),"") | AI94: =CONCATENATE(IF(AU94=2,"ST ",""),IF(AV94=2,"LA ",""),IF(AW94=2,"10","")) | AT94: =IF(AND('Уровни соло'!$E34="+",'Уровни соло'!$AB2<>""),1,"") | AU94: ='Уровни соло'!$G34 -> 1 | AV94: ='Уровни соло'!$H34 -> 1 | AW94: ='Уровни соло'!$I34 -> 0 | AY94: =_xlfn.FORMULATEXT(AU94) -> =$'Уровни соло'.$G34 | BA94: $'Классы соло'.$E34 | BB94: =SEARCH("соло",BA94) -> 10 | BC94: =IF(BB94>0,"$'Классы соло'.$T2<>''","$'Классы пары'.$T2<>''") -> $'Классы соло'.$T2<>'' | BE94: $'Классы соло'.$AB2<>"");1;"")
Z95: 1 | AA95: Ювеналы-1+2 D соло Ж | AB95: 48 | AC95: =IF(AT95=1,AB95,"") | AD95: =IF(AND(AC95<>"",TRIM(AF95)<>""),1,"") | AE95: =IF(AD95=1,SUMPRODUCT(-(AC$3:AC$303<=AC95),-(AD$3:AD$303=1)),"") | AF95: =CONCATENATE(IF(AU95=1,"ST ",""),IF(AV95=1,"LA ",""),IF(AW95=1,"10","")) -> ST LA | AG95: =IF(AND(AC95<>"",TRIM(AI95)<>""),2,"") | AH95: =IF(AG95=2,SUMPRODUCT(-(AC$3:AC$303<=AC95),-(AG$3:AG$303=2)),"") | AI95: =CONCATENATE(IF(AU95=2,"ST ",""),IF(AV95=2,"LA ",""),IF(AW95=2,"10","")) | AT95: =IF(AND('Уровни соло'!$K34="+",'Уровни соло'!$AB2<>""),1,"") | AU95: ='Уровни соло'!$M34 -> 1 | AV95: ='Уровни соло'!$N34 -> 1 | AW95: ='Уровни соло'!$O34 -> 0 | AY95: =_xlfn.FORMULATEXT(AU95) -> =$'Уровни соло'.$M34 | BA95: $'Классы соло'.$K34 | BB95: =SEARCH("соло",BA95) -> 10 | BC95: =IF(BB95>0,"$'Классы соло'.$T2<>''","$'Классы пары'.$T2<>''") -> $'Классы соло'.$T2<>'' | BE95: $'Классы соло'.$AB2<>"");1;"")
Z96: 1 | AA96: Ювеналы-1+2 D+C соло Ж | AB96: 49 | AC96: =IF(AT96=1,AB96,"") | AD96: =IF(AND(AC96<>"",TRIM(AF96)<>""),1,"") | AE96: =IF(AD96=1,SUMPRODUCT(-(AC$3:AC$303<=AC96),-(AD$3:AD$303=1)),"") | AF96: =CONCATENATE(IF(AU96=1,"ST ",""),IF(AV96=1,"LA ",""),IF(AW96=1,"10","")) -> ST LA | AG96: =IF(AND(AC96<>"",TRIM(AI96)<>""),2,"") | AH96: =IF(AG96=2,SUMPRODUCT(-(AC$3:AC$303<=AC96),-(AG$3:AG$303=2)),"") | AI96: =CONCATENATE(IF(AU96=2,"ST ",""),IF(AV96=2,"LA ",""),IF(AW96=2,"10","")) | AT96: =IF(AND('Уровни соло'!$W34="+",'Уровни соло'!$AB2<>""),1,"") | AU96: ='Уровни соло'!$Y34 -> 1 | AV96: ='Уровни соло'!$Z34 -> 1 | AW96: ='Уровни соло'!$AA34 -> 0 | AY96: =_xlfn.FORMULATEXT(AU96) -> =$'Уровни соло'.$Y34 | BA96: $'Классы соло'.$W34 | BB96: =SEARCH("соло",BA96) -> 10 | BC96: =IF(BB96>0,"$'Классы соло'.$T2<>''","$'Классы пары'.$T2<>''") -> $'Классы соло'.$T2<>'' | BE96: $'Классы соло'.$AB2<>"");1;"")
Z97: 1 | AA97: Ювеналы-2 D соло Ж | AB97: 50 | AC97: =IF(AT97=1,AB97,"") | AD97: =IF(AND(AC97<>"",TRIM(AF97)<>""),1,"") | AE97: =IF(AD97=1,SUMPRODUCT(-(AC$3:AC$303<=AC97),-(AD$3:AD$303=1)),"") | AF97: =CONCATENATE(IF(AU97=1,"ST ",""),IF(AV97=1,"LA ",""),IF(AW97=1,"10","")) -> ST LA | AG97: =IF(AND(AC97<>"",TRIM(AI97)<>""),2,"") | AH97: =IF(AG97=2,SUMPRODUCT(-(AC$3:AC$303<=AC97),-(AG$3:AG$303=2)),"") | AI97: =CONCATENATE(IF(AU97=2,"ST ",""),IF(AV97=2,"LA ",""),IF(AW97=2,"10","")) | AT97: =IF(AND('Уровни соло'!$E35="+",'Уровни соло'!$AB2<>""),1,"") | AU97: ='Уровни соло'!$G35 -> 1 | AV97: ='Уровни соло'!$H35 -> 1 | AW97: ='Уровни соло'!$I35 -> 0 | AY97: =_xlfn.FORMULATEXT(AU97) -> =$'Уровни соло'.$G35 | BA97: $'Классы соло'.$E35 | BB97: =SEARCH("соло",BA97) -> 10 | BC97: =IF(BB97>0,"$'Классы соло'.$T2<>''","$'Классы пары'.$T2<>''") -> $'Классы соло'.$T2<>'' | BE97: $'Классы соло'.$AB2<>"");1;"")
Z98: 1 | AA98: Ювеналы-2+Юниоры-1 D соло Ж | AB98: 51 | AC98: =IF(AT98=1,AB98,"") | AD98: =IF(AND(AC98<>"",TRIM(AF98)<>""),1,"") | AE98: =IF(AD98=1,SUMPRODUCT(-(AC$3:AC$303<=AC98),-(AD$3:AD$303=1)),"") | AF98: =CONCATENATE(IF(AU98=1,"ST ",""),IF(AV98=1,"LA ",""),IF(AW98=1,"10","")) -> ST LA | AG98: =IF(AND(AC98<>"",TRIM(AI98)<>""),2,"") | AH98: =IF(AG98=2,SUMPRODUCT(-(AC$3:AC$303<=AC98),-(AG$3:AG$303=2)),"") | AI98: =CONCATENATE(IF(AU98=2,"ST ",""),IF(AV98=2,"LA ",""),IF(AW98=2,"10","")) | AT98: =IF(AND('Уровни соло'!$K35="+",'Уровни соло'!$AB2<>""),1,"") | AU98: ='Уровни соло'!$M35 -> 1 | AV98: ='Уровни соло'!$N35 -> 1 | AW98: ='Уровни соло'!$O35 -> 0 | AY98: =_xlfn.FORMULATEXT(AU98) -> =$'Уровни соло'.$M35 | BA98: $'Классы соло'.$K35 | BB98: =SEARCH("соло",BA98) -> 10 | BC98: =IF(BB98>0,"$'Классы соло'.$T2<>''","$'Классы пары'.$T2<>''") -> $'Классы соло'.$T2<>'' | BE98: $'Классы соло'.$AB2<>"");1;"")
Z99: 1 | AA99: Ювеналы-2 D+C соло Ж | AB99: 52 | AC99: =IF(AT99=1,AB99,"") | AD99: =IF(AND(AC99<>"",TRIM(AF99)<>""),1,"") | AE99: =IF(AD99=1,SUMPRODUCT(-(AC$3:AC$303<=AC99),-(AD$3:AD$303=1)),"") | AF99: =CONCATENATE(IF(AU99=1,"ST ",""),IF(AV99=1,"LA ",""),IF(AW99=1,"10","")) -> ST LA | AG99: =IF(AND(AC99<>"",TRIM(AI99)<>""),2,"") | AH99: =IF(AG99=2,SUMPRODUCT(-(AC$3:AC$303<=AC99),-(AG$3:AG$303=2)),"") | AI99: =CONCATENATE(IF(AU99=2,"ST ",""),IF(AV99=2,"LA ",""),IF(AW99=2,"10","")) | AT99: =IF(AND('Уровни соло'!$Q35="+",'Уровни соло'!$AB2<>""),1,"") | AU99: ='Уровни соло'!$S35 -> 1 | AV99: ='Уровни соло'!$T35 -> 1 | AW99: ='Уровни соло'!$U35 -> 0 | AY99: =_xlfn.FORMULATEXT(AU99) -> =$'Уровни соло'.$S35 | BA99: $'Классы соло'.$Q35 | BB99: =SEARCH("соло",BA99) -> 10 | BC99: =IF(BB99>0,"$'Классы соло'.$T2<>''","$'Классы пары'.$T2<>''") -> $'Классы соло'.$T2<>'' | BE99: $'Классы соло'.$AB2<>"");1;"")
Z100: 1 | AA100: Ювеналы-2+Юниоры-1 D+C соло Ж | AB100: 53 | AC100: =IF(AT100=1,AB100,"") | AD100: =IF(AND(AC100<>"",TRIM(AF100)<>""),1,"") | AE100: =IF(AD100=1,SUMPRODUCT(-(AC$3:AC$303<=AC100),-(AD$3:AD$303=1)),"") | AF100: =CONCATENATE(IF(AU100=1,"ST ",""),IF(AV100=1,"LA ",""),IF(AW100=1,"10","")) -> ST LA | AG100: =IF(AND(AC100<>"",TRIM(AI100)<>""),2,"") | AH100: =IF(AG100=2,SUMPRODUCT(-(AC$3:AC$303<=AC100),-(AG$3:AG$303=2)),"") | AI100: =CONCATENATE(IF(AU100=2,"ST ",""),IF(AV100=2,"LA ",""),IF(AW100=2,"10","")) | AT100: =IF(AND('Уровни соло'!$W35="+",'Уровни соло'!$AB2<>""),1,"") | AU100: ='Уровни соло'!$Y35 -> 1 | AV100: ='Уровни соло'!$Z35 -> 1 | AW100: ='Уровни соло'!$AA35 -> 0 | AY100: =_xlfn.FORMULATEXT(AU100) -> =$'Уровни соло'.$Y35 | BA100: $'Классы соло'.$W35 | BB100: =SEARCH("соло",BA100) -> 10 | BC100: =IF(BB100>0,"$'Классы соло'.$T2<>''","$'Классы пары'.$T2<>''") -> $'Классы соло'.$T2<>'' | BE100: $'Классы соло'.$AB2<>"");1;"")
...
