Workbook

Sheet Пояснения
A1: Пояснения к заполнению заявки на регистрацию и формирование положения фестиваля
A3: Данная форма позволяет автоматизировать вышеуказанные процессы.
A4: Поля для внесения информации делятся на три типа:
B5: 1. Поля требующие внесения определенной информации по шаблону: в самих полях серым курсивом показан формат или пример заполнения. Все эти поля обязательны к заполнению, за исключением данных о членах Руководства жюри — если членов руководства меньше, чем в форме, то лишние поля можно не заполнять
B6: 2. Поля, в которых внесена типовая информация, которая при необходимости может быть дополнена.
B7: 3. Поля, в которых требуется лишь проставить знак «+»: Эти поля используются для варианта «выбрано-не выбрано». ВНИМАНИЕ!!! В связи с использованием платформы EXCEL, для подтверждения выбора в данном поле внесенный знак «+» следует подтвердить нажатием клавиши «Enter»
A9: Для упрощения и ускорения процесса все листы защищены от непреднамеренного внесения данных, поэтому для перемещения от поля к полю лучше использовать кнопку «TAB» или «стрелки перемещения»
A11: 1. Начинаем с заполнения листа «Общие данные», где вносятся все основные данные по фестивалю
A13: 2. Затем заполняются листы, в которых выбираются категории, которые включены в фестиваль. Заполняем только листы, соответствующие Вашему мероприятию
B14: Листы для заполнения по порядку слева-направо:
B15: КРТ — заполняются данные только по форме КРТ
B16: Рейтинги пары — рейтинговые номинации пар
B17: Rising Stars — «Восходящие звезды» только для пар
B18: Уровни пары — данные по уровневым категориям пар
B19: Рейтинги соло — заполняются данные только по номинациям солистов в рейтинговой форме
B20: Rising Stars соло — соревнования Rising Stars среди солистов
B21: Уровни соло — данные по классификационным соревнованиям солистов
B22: Главные Фестивали — заполняется только в случае когда в рамках фестиваля проводятся Главные Фестивали по отдельным категориям (кроме команд)
B23: ПРОФЕССИОНАЛЫ — заполняется для любых категорий Профессионалы в рамках фестиваля
B24: American Smooth — заполняется для соответствующих категорий. (Примечание: В столбце возрастная категория необходимо внести название категории)
B25: ШБТ, Кубки танцев — заполняется при включении регистрации школы танца в общую регистрацию, также используется для регистрации кубков по отдельным танцам для всех категорий участников

Sheet Общие данные
B1: Заявка на формирование положения фестиваля и регистрации
C3: начало | E3: конец Для 2-х дневного | M3: Версия от 10.10.2026
B4: Дата проведения | C4: 00.00.0000 | I4: Организация осуществляющая общее руководство, | J4: Например: НТС, ОФСТ, РО Орловской области
I5: и сайт данной организации:
C6: Отметить «+» один вариант
B7: Статус | C7: Региональное мероприятие | L7: Категория фестиваля
C8: Межрегиональный Этап Рейтинга НТС | L8: (оставить одну)
C9: Всероссийский Этап Рейтинга НТС | L9: A
C10: Международный Этап Рейтинга НТС | L10: B
C11: Отметить «+» если на фестивале проводятся категории соответствующего ранга | L11: C
B12: Ранг | C12: Главный Уровневый Фестиваль РО/региональной организации
C13: Главный Рейтинговый Фестиваль РО/региональной организации
E15: Название фестиваля без кавычек | F15: Название фестиваля без кавычек
B18: Место проведения фестиваля
B20: Страна | C20: Россия | F20: Регион | G20: Регион | K20: Город | L20: Город
B22: Адрес | C22: Адрес | K22: Место | L22: Место
B24: Проезд | C24: Проезд
B29: Непосредственный организатор фестиваля | J29: Региональное отделение/организация | K29: например: РО города Севастополя
B31: Клуб | C31: например: ТК «Вдохновение» | J31: Ответственное лицо | K31: Фамилия Имя
B33: Контактные данные | C33: электронная почта: mail@mail.ru, телефон: +7 (000) 000-00-00
B36: Руководство жюри фестиваля (указывается Фамилия Имя)
C38: Председатель жюри | E38: Фамилия Имя | H38: =IF(ISNA(Рабочий!J1),"Проверьте, пожалуйста, правильность написания 'Фамилии Имени'. Если все верно, то о эксперт не может быть председателем жюри Этапов Рейтинга. Для региональных фестивалей внесите, пожалуйста, в данное поле должность и категорию эксперта",Рабочий!K1)
C41: Председатель жюри | E41: Фамилия Имя | H41: =IF(ISNA(Рабочий!J4),"Проверьте, пожалуйста, правильность написания 'Фамилии Имени'. Если все верно, то о эксперт не может быть председателем жюри Этапов Рейтинга. Для региональных фестивалей внесите, пожалуйста, в данное поле должность и категорию эксперта",Рабочий!K4)
C44: Заместитель председателя жюри | E44: Фамилия Имя | H44: =IF(ISNA(Рабочий!J7),"Проверьте, пожалуйста, правильность написания 'Фамилии Имени'. Если все верно, то об эксперте отсутствуют данные о статусе (должность, категория), внесите, пожалуйста их в данное поле",Рабочий!K7)
C47: Заместитель председателя жюри | E47: Фамилия Имя | H47: =IF(ISNA(Рабочий!J10),"Проверьте, пожалуйста, правильность написания 'Фамилии Имени'. Если все верно, то об эксперте отсутствуют данные о статусе (должность, категория), внесите, пожалуйста их в данное поле",Рабочий!K10)
B50: Заместитель председателя жюри на правах организатора | E50: Фамилия Имя | H50: =IF(ISNA(Рабочий!J13),"Проверьте, пожалуйста, правильность написания 'Фамилии Имени'. Если все верно, то о судье отсутствуют данные о статусе (должность, судейская категория), внесите, пожалуйста их в данное поле",Рабочий!K13)
C53: Главный секретарь | E53: Фамилия Имя | H53: =IF(ISNA(Рабочий!J16),"Проверьте, пожалуйста, правильность написания 'Фамилии Имени'. Если все верно, то об эксперте отсутствуют данные о статусе (должность, категория), внесите, пожалуйста их в данное поле",Рабочий!K16)
C56: Главный секретарь | E56: Фамилия Имя | H56: =IF(ISNA(Рабочий!J19),"Проверьте, пожалуйста, правильность написания 'Фамилии Имени'. Если все верно, то об эксперте отсутствуют данные о статусе (должность, категория), внесите, пожалуйста их в данное поле",Рабочий!K19)
B60: Жюри фестиваля
D62: Порядок формирования | E62: Жюри формируется по усмотрению организатора фестиваля при согласовании с Председателем Коллегии жюри, прежде всего, из членов коллегии, имеющих право работы на межрегиональных, всероссийских и международных фестивалей Номинация на фестиваль: Руководители региональных отделений , чьи пары участвуют в данном фестивале, могут номинировать членов жюри при согласовании с организатором фестиваля. Командировочные расходы по проезду и проживанию иногородних членов жюри номинированных от регионального отделения, региональной организации не более двух в один день фестиваля за счёт организатора фестиваля, при условии не менее пяти пар на одного члена жюри от организации. В ином случае командировочные расходы за счёт командирующих организаций или по согласованию с организатором фестиваля.
D64: Порядок согласования жюри | E64: Согласование формирования жюри фестиваля с организатором проходит до (дата) по e-mail: (адрес почты) или телефону (номер телефона)
D66: Дата заезда | E66: 00.00.0000 | J66: Дата отъезда | K66: 00.00.0000
D69: Председатель счетной комиссии | E69: Фамилия Имя | H69: =Рабочий!P1
B72: Заезд, проживание, предварительная регистрация участников
D74: Дата заезда | E74: 00.00.0000
D76: Дата отъезда | E76: 00.00.0000
B78: Информация по размещению и бронированию гостиницы | E78: Информация по размещению и бронированию гостиницы
B80: Заключительный день Предварительной регистрации | E80: 00.00.0000 | G80: =IF(E80<>"00.00.0000",CONCATENATE(" ",TEXT(E80,"DDDD")," до 23:59:59")," до 23:59:59") -> до 23:59:59 | J80: Начало регистрации В день мероприятия за | K80: 0.0625 | L80: окончание за | M80: 0.020833333
B83: Прочие условия | I83: Сайт фестиваля | J83: https://sait.ru
D85: Финансовые условия | E85: стоимость участия, билеты сопровождающих
...

Sheet Реквизиты
D2: Форма проведения | E2: Реквизиты платной регистрации | G2: Поставить «+» если форма используется
B5: Страница заполняется только при проведении предварительной регистрации с оплатой по QR-коду
E8: Юридическое название организатора
E9: ИНН организатора | L9: «N+E», «D»
E10: КПП организатора (для юр.лиц — организаций) | L10: «N+E», «D», «C»
E11: Юридический адрес организатора | L11: «N+E», «D», «C», «B»
E12: Название банка | L12: «N+E», «D», «C», «B», «A»
E13: БИК банка | L13: «N+E», «D», «C», «B», «A+S+I»
E14: Расчетный счет | L14: «N+E», «D», «C», «B», «A+S+I»
E15: Корр. Счет | L15: «N+E», «D», «C», «B», «A+S+I»

Sheet КРТ
D2: Форма проведения | E2: КРТ (пары) | K2: Поставить «+» если форма используется
B5: Заполните, пожалуйста, необходимые поля. Заполняться могут только поля с белым фоном!!! Для платной регистрации вместо «+» проставляется стоимость участия х2 — за пару
C7: Возрастные категории | E7: Уточнение по статусу, рангу для категории | F7: ST | G7: День | H7: LA | I7: День | J7: 10 танцев | K7: Допуск
E8: (поле необязательно для заполнения) | F8: (+ если есть) | G8: (1 или 2) | H8: (+ если есть) | I8: (1 или 2) | J8: (+ если есть) | K8: по возрасту
B9: =CONCATENATE(IF(F9<>"",G9,0),IF(H9<>"",I9,0),0) -> 110 | C9: Ювеналы-1 | F9: + | G9: 1 | H9: + | I9: 1 | J9: + | P9: «N+E», «D»
B10: =CONCATENATE(IF(F10<>"",G10,0),IF(H10<>"",I10,0),0) -> 110 | C10: Ювеналы-2 | F10: + | G10: 1 | H10: + | I10: 1 | J10: + | K10: +Юв-1 | P10: «N+E», «D», «C»
B11: =CONCATENATE(IF(F11<>"",G11,0),IF(H11<>"",I11,0),0) -> 110 | C11: Юниоры-1 | F11: + | G11: 1 | H11: + | I11: 1 | J11: + | K11: +Юв-2 | P11: «N+E», «D», «C», «B»
B12: =CONCATENATE(IF(F12<>"",G12,0),IF(H12<>"",I12,0),0) -> 110 | C12: Юниоры-2 | F12: + | G12: 1 | H12: + | I12: 1 | J12: + | K12: +Юн-1 | P12: «N+E», «D», «C», «B», «A»
B13: =CONCATENATE(IF(F13<>"",G13,0),IF(H13<>"",I13,0),0) -> 110 | C13: Молодежь-1 | F13: + | G13: 1 | H13: + | I13: 1 | J13: + | K13: +Юн-2 | P13: «N+E», «D», «C», «B», «A+S+I»
B14: =CONCATENATE(IF(F14<>"",G14,0),IF(H14<>"",I14,0),0) -> 110 | C14: Молодежь-2 | F14: + | G14: 1 | H14: + | I14: 1 | J14: + | K14: +Мол-1 | P14: «N+E», «D», «C», «B», «A+S+I»
B15: =CONCATENATE(IF(F15<>"",G15,0),IF(H15<>"",I15,0),0) -> 110 | C15: Взрослые | F15: + | G15: 1 | H15: + | I15: 1 | J15: + | K15: +Мол-2 | P15: «N+E», «D», «C», «B», «A+S+I»
F16: =COUNTBLANK(F9:F15) -> 0 | H16: =COUNTBLANK(H9:H15) -> 0 | J16: =COUNTBLANK(J9:J15) -> 0
C17: Способ проведения
D18: С одним финалом | G18: + | H18: С финалом в каждом танце начиная с ¼ финала
C23: Условия зачета и награждение
C24: Ранжирование производится в каждом заявленном виде танцев в каждой возрастной группе. Лучшие 6-8 пар в каждом уровне программы сложности каждой возрастной группе в стандарте и латине награждаются дипломами. 1-3 места в возрастной группе во всех заявленных видах награждаются медалями, кубками, все финалисты награждаются дипломами.

Sheet Рейтинги пары
D2: Форма проведения | E2: Рейтинговая (пары) | K2: Поставить «+» если форма используется
B5: Заполните, пожалуйста, необходимые поля. Заполняться могут только поля с белым фоном!!! Для платной регистрации вместо «+» проставляется стоимость участия х2 — за пару
C7: Возрастные категории | E7: Уточнение по статусу, рангу для категории | F7: ST | G7: День | H7: LA | I7: День | J7: 10 танцев | K7: День | L7: Допуск
E8: (поле необязательно для заполнения) | F8: (+ если есть) | G8: (1 или 2) | H8: (+ если есть) | I8: (1 или 2) | J8: (+ если есть) | K8: (1 или 2) | L8: по возрасту
B9: =CONCATENATE(IF(F9<>"",G9,0),IF(H9<>"",I9,0),IF(J9<>"",K9,0)) -> 110 | C9: Ювеналы-1 | F9: + | G9: 1 | H9: + | I9: 1
B10: =CONCATENATE(IF(F10<>"",G10,0),IF(H10<>"",I10,0),IF(J10<>"",K10,0)) -> 110 | C10: Ювеналы-2 | F10: + | G10: 1 | H10: + | I10: 1 | L10: +Юв-1
B11: =CONCATENATE(IF(F11<>"",G11,0),IF(H11<>"",I11,0),IF(J11<>"",K11,0)) -> 110 | C11: Юниоры-1 | F11: + | G11: 1 | H11: + | I11: 1 | L11: +Юв-2
B12: =CONCATENATE(IF(F12<>"",G12,0),IF(H12<>"",I12,0),IF(J12<>"",K12,0)) -> 110 | C12: Юниоры-2 | F12: + | G12: 1 | H12: + | I12: 1 | L12: +Юн-1
B13: =CONCATENATE(IF(F13<>"",G13,0),IF(H13<>"",I13,0),IF(J13<>"",K13,0)) -> 110 | C13: Молодежь-1 | F13: + | G13: 1 | H13: + | I13: 1 | L13: +Юн-2
B14: =CONCATENATE(IF(F14<>"",G14,0),IF(H14<>"",I14,0),IF(J14<>"",K14,0)) -> 110 | C14: Молодежь-2 | F14: + | G14: 1 | H14: + | I14: 1 | L14: +Мол-1
B15: =CONCATENATE(IF(F15<>"",G15,0),IF(H15<>"",I15,0),IF(J15<>"",K15,0)) -> 110 | C15: Взрослые | F15: + | G15: 1 | H15: + | I15: 1 | L15: +Мол-2
B16: =CONCATENATE(IF(F16<>"",G16,0),IF(H16<>"",I16,0),IF(J16<>"",K16,0)) -> 110 | C16: Сеньоры | F16: + | G16: 1 | H16: + | I16: 1
C18: Способ проведения
C19: + | D19: С одним финалом | H19: С финалом в каждом танце начиная с ¼ финала
C24: Условия зачета и награждения
C25: Ранжирование производится в каждом виде и в каждой возрастной группе: Финалисты награждаются дипломами. 1-3 места в возрастной группе в каждом виде танцев награждаются кубками, медалями.

Sheet Rising Stars
D2: Форма проведения | E2: Рейтинговая, Rising Stars (пары) | K2: Поставить «+» если форма используется
B5: Заполните, пожалуйста, необходимые поля. Заполняться могут только поля с белым фоном!!! Для платной регистрации вместо «+» проставляется стоимость участия х2 — за пару
C7: Возрастные категории | E7: Уточнение по статусу, рангу для категории | F7: ST | G7: День | H7: LA | I7: День | J7: Допуск
E8: (поле необязательно для заполнения) | F8: (+ если есть) | G8: (1 или 2) | H8: (+ если есть) | I8: (1 или 2) | J8: по возрасту
B9: =CONCATENATE(IF(F9<>"",G9,0),IF(H9<>"",I9,0),0) -> 110 | C9: Ювеналы-2 RS | F9: + | G9: 1 | H9: + | I9: 1 | J9: +Юв-1
B10: =CONCATENATE(IF(F10<>"",G10,0),IF(H10<>"",I10,0),0) -> 110 | C10: Юниоры-1 RS | F10: + | G10: 1 | H10: + | I10: 1 | J10: +Юв-2
B11: =CONCATENATE(IF(F11<>"",G11,0),IF(H11<>"",I11,0),0) -> 110 | C11: Юниоры-2 RS | F11: + | G11: 1 | H11: + | I11: 1 | J11: +Юн-1
B12: =CONCATENATE(IF(F12<>"",G12,0),IF(H12<>"",I12,0),0) -> 110 | C12: Молодежь-1 RS | F12: + | G12: 1 | H12: + | I12: 1 | J12: +Юн-2
B13: =CONCATENATE(IF(F13<>"",G13,0),IF(H13<>"",I13,0),0) -> 110 | C13: Молодежь-2 RS | F13: + | G13: 1 | H13: + | I13: 1 | J13: +Мол-1
B14: =CONCATENATE(IF(F14<>"",G14,0),IF(H14<>"",I14,0),0) -> 110 | C14: Взрослые RS | F14: + | G14: 1 | H14: + | I14: 1 | J14: +Мол-2
C19: Условия зачета и награждения
C20: Ранжирование производится в стандарте, латине в каждой возрастной группе: Финалисты награждаются дипломами. 1-3 места в возрастной группе в каждом виде танцев награждаются кубками, медалями.

Sheet Уровни пары
G2: Форма проведения | J2: Уровневая | Y2: Поставить «+» если форма используется
E5: Пояснение к таблице: | F5: - Только категории, отображенные зеленым цветом войдут в программу фестиваля. Чтобы убрать/добавить категорию из программы необходимо убрать/поставить символ "+" в клетку перед ее названием (для платной регистрации — стоимость участия x2 — за пару)
F6: - При добавлении смежных категорий необходимо помнить, что в таблице к основному возрасту всегда добавляется возраст старше, к основному уровню добавляется уровень старше
F7: - Разрешены для правки только клетки с белым(!!!) фоном.
F8: - Темно-серый фон в клетках, где категория противоречит правилам
F9: - Выбор программы: в столбце программы ставится день, в который проходит данная программа, если данной программы нет на турнире — ячейка должна быть пустой | X9: День проведения одновременно для всех категорий | AB9: 1
C10: Программа сложности N
C11: Возраст | E11: N | F11: Категории (только N) | G11: День | K11: Смеж возр | L11: Категории со смежными возрастами | M11: День | Q11: Смеж ур | R11: Категории со смежными уровнями | S11: День | W11: Смеж ур+возр | X11: Категории со смежными уровнями и возрастами | Y11: День
G12: ST | H12: LA | I12: 10 | M12: ST | N12: LA | O12: 10 | S12: ST | T12: LA | U12: 10 | Y12: ST | Z12: LA | AA12: 10
C13: N 7 и моложе | F13: N 7 и моложе | G13: =$AB$9 -> 1 | H13: =$AB$9 -> 1 | K13: X | Q13: X | W13: X
C14: Ювеналы-1 | F14: Ювеналы-1 N | G14: =$AB$9 -> 1 | H14: =$AB$9 -> 1 | L14: Ювеналы-1+2 N | M14: =$AB$9 -> 1 | N14: =$AB$9 -> 1 | R14: Ювеналы-1 N+E | S14: =$AB$9 -> 1 | T14: =$AB$9 -> 1 | X14: Ювеналы-1+2 N+E | Y14: =$AB$9 -> 1 | Z14: =$AB$9 -> 1
C15: Ювеналы-2 | F15: Ювеналы-2 N | G15: =$AB$9 -> 1 | H15: =$AB$9 -> 1 | L15: Ювеналы-2+Юниоры-1 N | M15: =$AB$9 -> 1 | N15: =$AB$9 -> 1 | R15: Ювеналы-2 N+E | S15: =$AB$9 -> 1 | T15: =$AB$9 -> 1 | X15: Ювеналы-2+Юниоры-1 N+E | Y15: =$AB$9 -> 1 | Z15: =$AB$9 -> 1
C16: Юниоры-1 | F16: Юниоры-1 N | G16: =$AB$9 -> 1 | H16: =$AB$9 -> 1 | L16: Юниоры-1+2 N | M16: =$AB$9 -> 1 | N16: =$AB$9 -> 1 | R16: Юниоры-1 N+E | S16: =$AB$9 -> 1 | T16: =$AB$9 -> 1 | X16: Юниоры-1+2 N+E | Y16: =$AB$9 -> 1 | Z16: =$AB$9 -> 1
C17: Юниоры-2 | F17: Юниоры-2 N | G17: =$AB$9 -> 1 | H17: =$AB$9 -> 1 | L17: Юниоры-2+Молодежь N | M17: =$AB$9 -> 1 | N17: =$AB$9 -> 1 | R17: Юниоры-2 N+E | S17: =$AB$9 -> 1 | T17: =$AB$9 -> 1 | X17: Юниоры-2+Молодежь N+E | Y17: =$AB$9 -> 1 | Z17: =$AB$9 -> 1
C18: Молодежь | F18: Молодежь N | G18: =$AB$9 -> 1 | H18: =$AB$9 -> 1 | L18: Молодежь+Взрослые N | M18: =$AB$9 -> 1 | N18: =$AB$9 -> 1 | R18: Молодежь N+E | S18: =$AB$9 -> 1 | T18: =$AB$9 -> 1 | X18: Молодежь+Взрослые N+E | Y18: =$AB$9 -> 1 | Z18: =$AB$9 -> 1
C19: Взрослые | F19: Взрослые N | G19: =$AB$9 -> 1 | H19: =$AB$9 -> 1 | K19: X | R19: Взрослые N+E | S19: =$AB$9 -> 1 | T19: =$AB$9 -> 1 | W19: X
C21: Программа сложности E
C22: Возраст | E22: E | F22: Категории (только E) | G22: День | K22: Смеж возр | L22: Категории со смежными возрастами | M22: День | Q22: Смеж ур | R22: Категории со смежными уровнями | S22: День | W22: Смеж ур+возр | X22: Категории со смежными уровнями и возрастами | Y22: День
G23: ST | H23: LA | I23: 10 | M23: ST | N23: LA | O23: 10 | S23: ST | T23: LA | U23: 10 | Y23: ST | Z23: LA | AA23: 10
C24: Ювеналы-1 | F24: Ювеналы-1 E | G24: =$AB$9 -> 1 | H24: =$AB$9 -> 1 | L24: Ювеналы-1+2 E | M24: =$AB$9 -> 1 | N24: =$AB$9 -> 1 | R24: Ювеналы-1 E+D | S24: =$AB$9 -> 1 | T24: =$AB$9 -> 1 | X24: Ювеналы-1+2 E+D | Y24: =$AB$9 -> 1 | Z24: =$AB$9 -> 1
C25: Ювеналы-2 | F25: Ювеналы-2 E | G25: =$AB$9 -> 1 | H25: =$AB$9 -> 1 | L25: Ювеналы-2+Юниоры-1 E | M25: =$AB$9 -> 1 | N25: =$AB$9 -> 1 | R25: Ювеналы-2 E+D | S25: =$AB$9 -> 1 | T25: =$AB$9 -> 1 | X25: Ювеналы-2+Юниоры-1 E+D | Y25: =$AB$9 -> 1 | Z25: =$AB$9 -> 1
C26: Юниоры-1 | F26: Юниоры-1 E | G26: =$AB$9 -> 1 | H26: =$AB$9 -> 1 | L26: Юниоры-1+2 E | M26: =$AB$9 -> 1 | N26: =$AB$9 -> 1 | R26: Юниоры-1 E+D | S26: =$AB$9 -> 1 | T26: =$AB$9 -> 1 | X26: Юниоры-1+2 E+D | Y26: =$AB$9 -> 1 | Z26: =$AB$9 -> 1
C27: Юниоры-2 | F27: Юниоры-2 E | G27: =$AB$9 -> 1 | H27: =$AB$9 -> 1 | L27: Юниоры-2+Молодежь E | M27: =$AB$9 -> 1 | N27: =$AB$9 -> 1 | R27: Юниоры-2 E+D | S27: =$AB$9 -> 1 | T27: =$AB$9 -> 1 | X27: Юниоры-2+Молодежь E+D | Y27: =$AB$9 -> 1 | Z27: =$AB$9 -> 1
C28: Молодежь | F28: Молодежь E | G28: =$AB$9 -> 1 | H28: =$AB$9 -> 1 | L28: Молодежь+Взрослые E | M28: =$AB$9 -> 1 | N28: =$AB$9 -> 1 | R28: Молодежь E+D | S28: =$AB$9 -> 1 | T28: =$AB$9 -> 1 | X28: Молодежь+Взрослые E+D | Y28: =$AB$9 -> 1 | Z28: =$AB$9 -> 1
C29: Взрослые | F29: Взрослые E | G29: =$AB$9 -> 1 | H29: =$AB$9 -> 1 | K29: X | R29: Взрослые E+D | S29: =$AB$9 -> 1 | T29: =$AB$9 -> 1 | W29: X
C31: Программа сложности D
C32: Возраст | E32: D | F32: Категории (только D) | G32: День | K32: Смеж возр | L32: Категории со смежными возрастами | M32: День | Q32: Смеж ур | R32: Категории со смежными уровнями | S32: День | W32: Смеж ур+возр | X32: Категории со смежными уровнями и возрастами | Y32: День
G33: ST | H33: LA | I33: 10 | M33: ST | N33: LA | O33: 10 | S33: ST | T33: LA | U33: 10 | Y33: ST | Z33: LA | AA33: 10
C34: Ювеналы-1 | F34: Ювеналы-1 D | G34: =$AB$9 -> 1 | H34: =$AB$9 -> 1 | L34: Ювеналы-1+2 D | M34: =$AB$9 -> 1 | N34: =$AB$9 -> 1 | Q34: X | X34: Ювеналы-1+2 D+C | Y34: =$AB$9 -> 1 | Z34: =$AB$9 -> 1
C35: Ювеналы-2 | F35: Ювеналы-2 D | G35: =$AB$9 -> 1 | H35: =$AB$9 -> 1 | L35: Ювеналы-2+Юниоры-1 D | M35: =$AB$9 -> 1 | N35: =$AB$9 -> 1 | R35: Ювеналы-2 D+C | S35: =$AB$9 -> 1 | T35: =$AB$9 -> 1 | X35: Ювеналы-2+Юниоры-1 D+C | Y35: =$AB$9 -> 1 | Z35: =$AB$9 -> 1
C36: Юниоры-1 | F36: Юниоры-1 D | G36: =$AB$9 -> 1 | H36: =$AB$9 -> 1 | L36: Юниоры-1+2 D | M36: =$AB$9 -> 1 | N36: =$AB$9 -> 1 | R36: Юниоры-1 D+C | S36: =$AB$9 -> 1 | T36: =$AB$9 -> 1 | X36: Юниоры-1+2 D+C | Y36: =$AB$9 -> 1 | Z36: =$AB$9 -> 1
C37: Юниоры-2 | F37: Юниоры-2 D | G37: =$AB$9 -> 1 | H37: =$AB$9 -> 1 | L37: Юниоры-2+Молодежь D | M37: =$AB$9 -> 1 | N37: =$AB$9 -> 1 | R37: Юниоры-2 D+C | S37: =$AB$9 -> 1 | T37: =$AB$9 -> 1 | X37: Юниоры-2+Молодежь D+C | Y37: =$AB$9 -> 1 | Z37: =$AB$9 -> 1
C38: Молодежь | F38: Молодежь D | G38: =$AB$9 -> 1 | H38: =$AB$9 -> 1 | L38: Молодежь+Взрослые D | M38: =$AB$9 -> 1 | N38: =$AB$9 -> 1 | R38: Молодежь D+C | S38: =$AB$9 -> 1 | T38: =$AB$9 -> 1 | X38: Молодежь+Взрослые D+C | Y38: =$AB$9 -> 1 | Z38: =$AB$9 -> 1
C39: Взрослые | F39: Взрослые D | G39: =$AB$9 -> 1 | H39: =$AB$9 -> 1 | K39: X | R39: Взрослые D+C | S39: =$AB$9 -> 1 | T39: =$AB$9 -> 1 | W39: X
C41: Программа сложности C
C42: Возраст | E42: C | F42: Категории (только C) | G42: День | K42: Смеж возр | L42: Категории со смежными возрастами | M42: День | Q42: Смеж ур | R42: Категории со смежными уровнями | S42: День | W42: Смеж ур+возр | X42: Категории со смежными уровнями и возрастами | Y42: День
G43: ST | H43: LA | I43: 10 | M43: ST | N43: LA | O43: 10 | S43: ST | T43: LA | U43: 10 | Y43: ST | Z43: LA | AA43: 10
C44: Ювеналы-1 | E44: X | K44: X | Q44: X | W44: X
C45: Ювеналы-2 | F45: Ювеналы-2 C | G45: =$AB$9 -> 1 | H45: =$AB$9 -> 1 | L45: Ювеналы-2+Юниоры-1 C | M45: =$AB$9 -> 1 | N45: =$AB$9 -> 1 | Q45: X | X45: Ювеналы-2+Юниоры-1 C+B | Y45: =$AB$9 -> 1 | Z45: =$AB$9 -> 1
C46: Юниоры-1 | F46: Юниоры-1 C | G46: =$AB$9 -> 1 | H46: =$AB$9 -> 1 | L46: Юниоры-1+2 C | M46: =$AB$9 -> 1 | N46: =$AB$9 -> 1 | R46: Юниоры-1 C+B | S46: =$AB$9 -> 1 | T46: =$AB$9 -> 1 | X46: Юниоры-1+2 C+B | Y46: =$AB$9 -> 1 | Z46: =$AB$9 -> 1
...

Sheet Рейтинги соло
D2: Форма проведения | E2: Рейтинговая (соло Ж) | K2: Поставить «+» если форма используется
B5: Заполните, пожалуйста, необходимые поля. Заполняться могут только поля с белым фоном!!! Если категория указывается в статусе региональной, то EADC необходимо убрать, статус EADC возможен только на этапах Рейтинга НТС Для платной регистрации вместо «+» проставляется стоимость участия — за солиста
C7: Возрастные категории | E7: Уточнение по статусу, рангу для категории | F7: ST | G7: День | H7: LA | I7: День | J7: 10 танцев | K7: День | L7: Допуск
E8: (поле необязательно для заполнения) | F8: (+ если есть) | G8: (1 или 2) | H8: (+ если есть) | I8: (1 или 2) | J8: (+ если есть) | K8: (1 или 2) | L8: по возрасту
B9: =CONCATENATE(IF(F9<>"",G9,0),IF(H9<>"",I9,0),IF(J9<>"",K9,0)) -> 110 | C9: Ювеналы-1 соло Ж | E9: EADC | F9: + | G9: 1 | H9: + | I9: 1
B10: =CONCATENATE(IF(F10<>"",G10,0),IF(H10<>"",I10,0),IF(J10<>"",K10,0)) -> 110 | C10: Ювеналы-2 соло Ж | E10: EADC | F10: + | G10: 1 | H10: + | I10: 1 | L10: +Юв-1
B11: =CONCATENATE(IF(F11<>"",G11,0),IF(H11<>"",I11,0),IF(J11<>"",K11,0)) -> 110 | C11: Юниоры-1 соло Ж | E11: EADC | F11: + | G11: 1 | H11: + | I11: 1 | L11: +Юв-2
B12: =CONCATENATE(IF(F12<>"",G12,0),IF(H12<>"",I12,0),IF(J12<>"",K12,0)) -> 110 | C12: Юниоры-2 соло Ж | E12: EADC | F12: + | G12: 1 | H12: + | I12: 1 | L12: +Юн-1
B13: =CONCATENATE(IF(F13<>"",G13,0),IF(H13<>"",I13,0),IF(J13<>"",K13,0)) -> 110 | C13: Молодежь-1 соло Ж | E13: EADC | F13: + | G13: 1 | H13: + | I13: 1 | L13: +Юн-2
B14: =CONCATENATE(IF(F14<>"",G14,0),IF(H14<>"",I14,0),IF(J14<>"",K14,0)) -> 110 | C14: Молодежь-2 соло Ж | E14: EADC | F14: + | G14: 1 | H14: + | I14: 1 | L14: +Мол-1
B15: =CONCATENATE(IF(F15<>"",G15,0),IF(H15<>"",I15,0),IF(J15<>"",K15,0)) -> 110 | C15: Взрослые соло Ж | E15: EADC | F15: + | G15: 1 | H15: + | I15: 1 | L15: +Мол-2
B16: =CONCATENATE(IF(F16<>"",G16,0),IF(H16<>"",I16,0),IF(J16<>"",K16,0)) -> 110 | C16: Сеньоры соло Ж | E16: EADC | F16: + | G16: 1 | H16: + | I16: 1
C18: Способ проведения
D19: С одним финалом | G19: + | H19: С финалом в каждом танце начиная с полуфинала
C24: Условия зачета и награждения
C25: Ранжирование производится в стандарте, латине в каждой возрастной группе: Финалисты награждаются дипломами. 1-3 места в возрастной группе в каждом виде танцев награждаются кубками, медалями.

Sheet Rising Stars соло
D2: Форма проведения | E2: Рейтинговая, Rising Stars (соло) | K2: Поставить «+» если форма используется
B5: Заполните, пожалуйста, необходимые поля. Заполняться могут только поля с белым фоном!!! Если категория указывается в статусе региональной, то EADC необходимо убрать, статус EADC возможен только на этапах Рейтинга НТС Для платной регистрации вместо «+» проставляется стоимость участия — за солиста
C7: Возрастные категории | E7: Уточнение по статусу, рангу для категории | F7: ST | G7: День | H7: LA | I7: День | J7: Допуск
E8: (поле необязательно для заполнения) | F8: (+ если есть) | G8: (1 или 2) | H8: (+ если есть) | I8: (1 или 2) | J8: по возрасту
B9: =CONCATENATE(IF(F9<>"",G9,0),IF(H9<>"",I9,0),0) -> 110 | C9: Ювеналы-2 соло Ж RS | E9: EADC | F9: + | G9: 1 | H9: + | I9: 1 | J9: +Юв-1
B10: =CONCATENATE(IF(F10<>"",G10,0),IF(H10<>"",I10,0),0) -> 110 | C10: Юниоры-1 соло Ж RS | E10: EADC | F10: + | G10: 1 | H10: + | I10: 1 | J10: +Юв-2
B11: =CONCATENATE(IF(F11<>"",G11,0),IF(H11<>"",I11,0),0) -> 110 | C11: Юниоры-2 соло Ж RS | E11: EADC | F11: + | G11: 1 | H11: + | I11: 1 | J11: +Юн-1
B12: =CONCATENATE(IF(F12<>"",G12,0),IF(H12<>"",I12,0),0) -> 110 | C12: Молодежь-1 соло Ж RS | E12: EADC | F12: + | G12: 1 | H12: + | I12: 1 | J12: +Юн-2
B13: =CONCATENATE(IF(F13<>"",G13,0),IF(H13<>"",I13,0),0) -> 110 | C13: Молодежь-2 соло Ж RS | E13: EADC | F13: + | G13: 1 | H13: + | I13: 1 | J13: +Мол-1
B14: =CONCATENATE(IF(F14<>"",G14,0),IF(H14<>"",I14,0),0) -> 110 | C14: Взрослые соло Ж RS | E14: EADC | F14: + | G14: 1 | H14: + | I14: 1 | J14: +Мол-2
C18: Способ проведения соревнований
C19: + | D19: С одним финалом | H19: С финалом в каждом танце начиная с первого тура
C24: Условия зачета и награждения
C25: Ранжирование производится в стандарте, латине в каждой возрастной группе: Финалисты награждаются дипломами. 1-3 места в возрастной группе в каждом виде танцев награждаются кубками, медалями.

Sheet Уровни соло
G2: Форма проведения | J2: Уровневая (соло Ж) | Y2: Поставить «+» если форма используется
E5: Пояснение к таблице: | F5: - Только категории, отображенные зеленым цветом войдут в программу фестиваля. Чтобы убрать/добавить категорию из программы необходимо убрать/поставить символ "+" в клетку перед с ее названием. (для платной регистрации — стоимость участия за солиста)
F6: - При добавлении смежных категорий необходимо помнить, что в таблице к основному возрасту всегда добавляется возраст старше, к основному уровню добавляется уровень старше
F7: - Разрешены для правки только клетки с белым(!!!) фоном.
F8: - Темно-серый фон в клетках, где категория противоречит правилам
F9: - Выбор программы: в столбце программы ставится день, в который проходит данная программа, если данной программы нет на турнире — ячейка должна быть пустой | X9: День проведения одновременно для всех сольных категорий | AB9: 1
C10: Программа сложности N
C11: Возраст | E11: N | F11: Категории (только N) | G11: День | K11: Смеж возр | L11: Категории со смежными возрастами | M11: День | Q11: Смеж Ур | R11: Категории со смежными уровнями | S11: День | W11: Смеж ур+возр | X11: Категория со смежными уровнями и возрастами | Y11: День
G12: ST | H12: LA | I12: 10 | M12: ST | N12: LA | O12: 10 | S12: ST | T12: LA | U12: 10 | Y12: ST | Z12: LA | AA12: 10
C13: N 7 и моложе | F13: N 7 и моложе соло Ж | G13: =$AB$9 -> 1 | H13: =$AB$9 -> 1 | K13: X | Q13: X | W13: X
C14: Ювеналы-1 | F14: Ювеналы-1 N соло Ж | G14: =$AB$9 -> 1 | H14: =$AB$9 -> 1 | L14: Ювеналы-1+2 N соло Ж | M14: =$AB$9 -> 1 | N14: =$AB$9 -> 1 | R14: Ювеналы-1 N+E соло Ж | S14: =$AB$9 -> 1 | T14: =$AB$9 -> 1 | X14: Ювеналы-1+2 N+E соло Ж | Y14: =$AB$9 -> 1 | Z14: =$AB$9 -> 1
C15: Ювеналы-2 | F15: Ювеналы-2 N соло Ж | G15: =$AB$9 -> 1 | H15: =$AB$9 -> 1 | L15: Ювеналы-2+Юниоры-1 N соло Ж | M15: =$AB$9 -> 1 | N15: =$AB$9 -> 1 | R15: Ювеналы-2 N+E соло Ж | S15: =$AB$9 -> 1 | T15: =$AB$9 -> 1 | X15: Ювеналы-2+Юниоры-1 N+E соло Ж | Y15: =$AB$9 -> 1 | Z15: =$AB$9 -> 1
C16: Юниоры-1 | F16: Юниоры-1 N соло Ж | G16: =$AB$9 -> 1 | H16: =$AB$9 -> 1 | L16: Юниоры-1+2 N соло Ж | M16: =$AB$9 -> 1 | N16: =$AB$9 -> 1 | R16: Юниоры-1 N+E соло Ж | S16: =$AB$9 -> 1 | T16: =$AB$9 -> 1 | X16: Юниоры-1+2 N+E соло Ж | Y16: =$AB$9 -> 1 | Z16: =$AB$9 -> 1
C17: Юниоры-2 | F17: Юниоры-2 N соло Ж | G17: =$AB$9 -> 1 | H17: =$AB$9 -> 1 | L17: Юниоры-2+Молодежь N соло Ж | M17: =$AB$9 -> 1 | N17: =$AB$9 -> 1 | R17: Юниоры-2 N+E соло Ж | S17: =$AB$9 -> 1 | T17: =$AB$9 -> 1 | X17: Юниоры-2+Молодежь N+E соло Ж | Y17: =$AB$9 -> 1 | Z17: =$AB$9 -> 1
C18: Молодежь | F18: Молодежь N соло Ж | G18: =$AB$9 -> 1 | H18: =$AB$9 -> 1 | L18: Молодежь+Взрослые N соло Ж | M18: =$AB$9 -> 1 | N18: =$AB$9 -> 1 | R18: Молодежь N+E соло Ж | S18: =$AB$9 -> 1 | T18: =$AB$9 -> 1 | X18: Молодежь+Взрослые N+E соло Ж | Y18: =$AB$9 -> 1 | Z18: =$AB$9 -> 1
C19: Взрослые | F19: Взрослые N соло Ж | G19: =$AB$9 -> 1 | H19: =$AB$9 -> 1 | K19: X | R19: Взрослые N+E соло Ж | S19: =$AB$9 -> 1 | T19: =$AB$9 -> 1 | W19: X
C21: Программа сложности E
C22: Возраст | E22: E | F22: Категории (только E класс) | G22: День | K22: Смеж возр | L22: Категории со смежными возрастами | M22: День | Q22: Смеж Ур | R22: Категории со смежными уровнями | S22: День | W22: Смеж ур+возр | X22: Категория со смежными уровнями и возрастами | Y22: День
G23: ST | H23: LA | I23: 10 | M23: ST | N23: LA | O23: 10 | S23: ST | T23: LA | U23: 10 | Y23: ST | Z23: LA | AA23: 10
C24: Ювеналы-1 | F24: Ювеналы-1 E соло Ж | G24: =$AB$9 -> 1 | H24: =$AB$9 -> 1 | L24: Ювеналы-1+2 E соло Ж | M24: =$AB$9 -> 1 | N24: =$AB$9 -> 1 | R24: Ювеналы-1 E+D соло Ж | S24: =$AB$9 -> 1 | T24: =$AB$9 -> 1 | X24: Ювеналы-1+2 E+D соло Ж | Y24: =$AB$9 -> 1 | Z24: =$AB$9 -> 1
C25: Ювеналы-2 | F25: Ювеналы-2 E соло Ж | G25: =$AB$9 -> 1 | H25: =$AB$9 -> 1 | L25: Ювеналы-2+Юниоры-1 E соло Ж | M25: =$AB$9 -> 1 | N25: =$AB$9 -> 1 | R25: Ювеналы-2 E+D соло Ж | S25: =$AB$9 -> 1 | T25: =$AB$9 -> 1 | X25: Ювеналы-2+Юниоры-1 E+D соло Ж | Y25: =$AB$9 -> 1 | Z25: =$AB$9 -> 1
C26: Юниоры-1 | F26: Юниоры-1 E соло Ж | G26: =$AB$9 -> 1 | H26: =$AB$9 -> 1 | L26: Юниоры-1+2 E соло Ж | M26: =$AB$9 -> 1 | N26: =$AB$9 -> 1 | R26: Юниоры-1 E+D соло Ж | S26: =$AB$9 -> 1 | T26: =$AB$9 -> 1 | X26: Юниоры-1+2 E+D соло Ж | Y26: =$AB$9 -> 1 | Z26: =$AB$9 -> 1
C27: Юниоры-2 | F27: Юниоры-2 E соло Ж | G27: =$AB$9 -> 1 | H27: =$AB$9 -> 1 | L27: Юниоры-2+Молодежь E соло Ж | M27: =$AB$9 -> 1 | N27: =$AB$9 -> 1 | R27: Юниоры-2 E+D соло Ж | S27: =$AB$9 -> 1 | T27: =$AB$9 -> 1 | X27: Юниоры-2+Молодежь E+D соло Ж | Y27: =$AB$9 -> 1 | Z27: =$AB$9 -> 1
C28: Молодежь | F28: Молодежь E соло Ж | G28: =$AB$9 -> 1 | H28: =$AB$9 -> 1 | L28: Молодежь+Взрослые E соло Ж | M28: =$AB$9 -> 1 | N28: =$AB$9 -> 1 | R28: Молодежь E+D соло Ж | S28: =$AB$9 -> 1 | T28: =$AB$9 -> 1 | X28: Молодежь+Взрослые E+D соло Ж | Y28: =$AB$9 -> 1 | Z28: =$AB$9 -> 1
C29: Взрослые | F29: Взрослые E соло Ж | G29: =$AB$9 -> 1 | H29: =$AB$9 -> 1 | K29: X | R29: Взрослые E+D соло Ж | S29: =$AB$9 -> 1 | T29: =$AB$9 -> 1 | W29: X
C31: Программа сложности D
C32: Возраст | E32: D | F32: Категории (только D класс) | G32: День | K32: Смеж возр | L32: Категории со смежными возрастами | M32: День | Q32: Смеж Ур | R32: Категории со смежными уровнями | S32: День | W32: Смеж ур+возр | X32: Категория со смежными уровнями и возрастами | Y32: День
G33: ST | H33: LA | I33: 10 | M33: ST | N33: LA | O33: 10 | S33: ST | T33: LA | U33: 10 | Y33: ST | Z33: LA | AA33: 10
C34: Ювеналы-1 | F34: Ювеналы-1 D соло Ж | G34: =$AB$9 -> 1 | H34: =$AB$9 -> 1 | L34: Ювеналы-1+2 D соло Ж | M34: =$AB$9 -> 1 | N34: =$AB$9 -> 1 | Q34: X | X34: Ювеналы-1+2 D+C соло Ж | Y34: =$AB$9 -> 1 | Z34: =$AB$9 -> 1
C35: Ювеналы-2 | F35: Ювеналы-2 D соло Ж | G35: =$AB$9 -> 1 | H35: =$AB$9 -> 1 | L35: Ювеналы-2+Юниоры-1 D соло Ж | M35: =$AB$9 -> 1 | N35: =$AB$9 -> 1 | R35: Ювеналы-2 D+C соло Ж | S35: =$AB$9 -> 1 | T35: =$AB$9 -> 1 | X35: Ювеналы-2+Юниоры-1 D+C соло Ж | Y35: =$AB$9 -> 1 | Z35: =$AB$9 -> 1
C36: Юниоры-1 | F36: Юниоры-1 D соло Ж | G36: =$AB$9 -> 1 | H36: =$AB$9 -> 1 | L36: Юниоры-1+2 D соло Ж | M36: =$AB$9 -> 1 | N36: =$AB$9 -> 1 | R36: Юниоры-1 D+C соло Ж | S36: =$AB$9 -> 1 | T36: =$AB$9 -> 1 | X36: Юниоры-1+2 D+C соло Ж | Y36: =$AB$9 -> 1 | Z36: =$AB$9 -> 1
C37: Юниоры-2 | F37: Юниоры-2 D соло Ж | G37: =$AB$9 -> 1 | H37: =$AB$9 -> 1 | L37: Юниоры-2+Молодежь D соло Ж | M37: =$AB$9 -> 1 | N37: =$AB$9 -> 1 | R37: Юниоры-2 D+C соло Ж | S37: =$AB$9 -> 1 | T37: =$AB$9 -> 1 | X37: Юниоры-2+Молодежь D+C соло Ж | Y37: =$AB$9 -> 1 | Z37: =$AB$9 -> 1
C38: Молодежь | F38: Молодежь D соло Ж | G38: =$AB$9 -> 1 | H38: =$AB$9 -> 1 | L38: Молодежь+Взрослые D соло Ж | M38: =$AB$9 -> 1 | N38: =$AB$9 -> 1 | R38: Молодежь D+C соло Ж | S38: =$AB$9 -> 1 | T38: =$AB$9 -> 1 | X38: Молодежь+Взрослые D+C соло Ж | Y38: =$AB$9 -> 1 | Z38: =$AB$9 -> 1
C39: Взрослые | F39: Взрослые D соло Ж | G39: =$AB$9 -> 1 | H39: =$AB$9 -> 1 | K39: X | R39: Взрослые D+C соло Ж | S39: =$AB$9 -> 1 | T39: =$AB$9 -> 1 | W39: X
C41: Программа сложности C
C42: Возраст | E42: C | F42: Категории (только C класс) | G42: День | K42: Смеж возр | L42: Категории со смежными возрастами | M42: День | Q42: Смеж Ур | R42: Категории со смежными уровнями | S42: День | W42: Смеж ур+возр | X42: Категория со смежными уровнями и возрастами | Y42: День
G43: ST | H43: LA | I43: 10 | M43: ST | N43: LA | O43: 10 | S43: ST | T43: LA | U43: 10 | Y43: ST | Z43: LA | AA43: 10
C44: Ювеналы-1 | E44: X | K44: X | Q44: X | W44: X
C45: Ювеналы-2 | F45: Ювеналы-2 C соло Ж | G45: =$AB$9 -> 1 | H45: =$AB$9 -> 1 | L45: Ювеналы-2+Юниоры-1 C соло Ж | M45: =$AB$9 -> 1 | N45: =$AB$9 -> 1 | X45: Ювеналы-2+Юниоры-1 C+B соло Ж | Y45: =$AB$9 -> 1 | Z45: =$AB$9 -> 1
C46: Юниоры-1 | F46: Юниоры-1 C соло Ж | G46: =$AB$9 -> 1 | H46: =$AB$9 -> 1 | L46: Юниоры-1+2 C соло Ж | M46: =$AB$9 -> 1 | N46: =$AB$9 -> 1 | R46: Юниоры-1 C+B соло Ж | S46: =$AB$9 -> 1 | T46: =$AB$9 -> 1 | X46: Юниоры-1+2 C+B соло Ж | Y46: =$AB$9 -> 1 | Z46: =$AB$9 -> 1
...

Sheet ШБТ, Кубки танцев
G2: Форма проведения | H2: Школа танца, кубки танцев | W2: Поставить «+» если форма используется
B5: - в графу название вписываем название категории утвержденное в РО/организации (оно должно содержать возраст участия в данной категории) - возраст указываем в годах (например от 0 до 7) - ступень необходимо оставить одну для каждой строки - если категория проводится и для пар и для соло — оставляем + в каждой ячейке - для платной регистрации нельзя одну строку использовать для соло и пар, так как для пар указывается стоимость х2 - если проводится и зачет и конкурс оставляем + в каждой графе Зачет и Конкурс (или стоимость для платной регистрации) - конкурсы по отдельным танцам — если проводятся оставляем + в графе Цена (или стоимость для платной регистрации) - оставляем названия танцев, по которым проводятся конкурсы по отдельным танцам - в ячейки конкурсов по отдельным танцам можно вписать названия других танцев, по которым проходят кубки в соответствии с правилами
S6: День участия для всей ШБТ | Z6: 1
B7: Название | D7: Возраст (включительно) | H7: Ступень-Уровень | K7: Пары | L7: Соло | N7: День | P7: Зачет | Q7: Конкурс | S7: Конкурсы по отдельным танцам
D8: от | F8: до | H8: от | I8: до | S8: цена | U8: танцы
H9: ШБТ | I9: ШБТ | K9: + | L9: + | N9: =$Z$6 -> 1 | P9: + | Q9: + | S9: + | U9: W | V9: Q | W9: Ch | X9: Jv
H11: ШБТ | I11: ШБТ | K11: + | L11: + | N11: =$Z$6 -> 1 | P11: + | Q11: + | S11: + | U11: W | V11: Q | W11: Ch | X11: Jv
H13: ШБТ | I13: ШБТ | K13: + | L13: + | N13: =$Z$6 -> 1 | P13: + | Q13: + | S13: + | U13: W | V13: Q | W13: Ch | X13: Jv
H15: ШБТ | I15: ШБТ | K15: + | L15: + | N15: =$Z$6 -> 1 | P15: + | Q15: + | S15: + | U15: W | V15: Q | W15: Ch | X15: Jv
H17: ШБТ | I17: ШБТ | K17: + | L17: + | N17: =$Z$6 -> 1 | P17: + | Q17: + | S17: + | U17: W | V17: Q | W17: Ch | X17: Jv
H19: ШБТ | I19: ШБТ | K19: + | L19: + | N19: =$Z$6 -> 1 | P19: + | Q19: + | S19: + | U19: W | V19: Q | W19: Ch | X19: Jv
H21: ШБТ | I21: ШБТ | K21: + | L21: + | N21: =$Z$6 -> 1 | P21: + | Q21: + | S21: + | U21: W | V21: Q | W21: Ch | X21: Jv
H23: ШБТ | I23: ШБТ | K23: + | L23: + | N23: =$Z$6 -> 1 | P23: + | Q23: + | S23: + | U23: W | V23: Q | W23: Ch | X23: Jv
H25: ШБТ | I25: ШБТ | K25: + | L25: + | N25: =$Z$6 -> 1 | P25: + | Q25: + | S25: + | U25: W | V25: Q | W25: Ch | X25: Jv
H27: ШБТ | I27: ШБТ | K27: + | L27: + | N27: =$Z$6 -> 1 | P27: + | Q27: + | S27: + | U27: W | V27: Q | W27: Ch | X27: Jv
H29: ШБТ | I29: ШБТ | K29: + | L29: + | N29: =$Z$6 -> 1 | P29: + | Q29: + | S29: + | U29: W | V29: Q | W29: Ch | X29: Jv
H31: ШБТ | I31: ШБТ | K31: + | L31: + | N31: =$Z$6 -> 1 | P31: + | Q31: + | S31: + | U31: W | V31: Q | W31: Ch | X31: Jv
... H103: ШБТ | I103: ШБТ | K103: + | L103: + | N103: =$Z$6 -> 1 | P103: + | Q103: + | S103: + | U103: W | V103: Q | W103: Ch | X103: Jv

Sheet Главные Фестивали
D2: Форма проведения | E2: Главные фестивали (пары) | K2: Поставить «+» если форма используется
B5: Заполните, пожалуйста, необходимые поля. Заполняться могут только поля с белым фоном!!!
C7: Возрастные категории | E7: Уточнение по статусу, рангу для категории | F7: ST | G7: День | H7: LA | I7: День | J7: 10 танцев | K7: День
F8: (+ если есть) | G8: (1 или 2) | H8: (+ если есть) | I8: (1 или 2) | J8: (+ если есть) | K8: (1 или 2)
B9: =CONCATENATE(IF(F9<>"",G9,0),IF(H9<>"",I9,0),IF(J9<>"",K9,0)) -> 112 | C9: Ювеналы-1 | E9: Главный Фестиваль НТС | F9: + | G9: 1 | H9: + | I9: 1 | J9: + | K9: 2
B10: =CONCATENATE(IF(F10<>"",G10,0),IF(H10<>"",I10,0),IF(J10<>"",K10,0)) -> 112 | C10: Ювеналы-2 | E10: Главный Фестиваль НТС | F10: + | G10: 1 | H10: + | I10: 1 | J10: + | K10: 2
B11: =CONCATENATE(IF(F11<>"",G11,0),IF(H11<>"",I11,0),IF(J11<>"",K11,0)) -> 112 | C11: Юниоры-1 | E11: Главный Фестиваль НТС | F11: + | G11: 1 | H11: + | I11: 1 | J11: + | K11: 2
B12: =CONCATENATE(IF(F12<>"",G12,0),IF(H12<>"",I12,0),IF(J12<>"",K12,0)) -> 112 | C12: Юниоры-2 | E12: Главный Фестиваль НТС | F12: + | G12: 1 | H12: + | I12: 1 | J12: + | K12: 2
B13: =CONCATENATE(IF(F13<>"",G13,0),IF(H13<>"",I13,0),IF(J13<>"",K13,0)) -> 112 | C13: Молодежь-1 | E13: Главный Фестиваль НТС | F13: + | G13: 1 | H13: + | I13: 1 | J13: + | K13: 2
B14: =CONCATENATE(IF(F14<>"",G14,0),IF(H14<>"",I14,0),IF(J14<>"",K14,0)) -> 112 | C14: Молодежь-2 | E14: Главный Фестиваль НТС | F14: + | G14: 1 | H14: + | I14: 1 | J14: + | K14: 2
B15: =CONCATENATE(IF(F15<>"",G15,0),IF(H15<>"",I15,0),IF(J15<>"",K15,0)) -> 111 | C15: Взрослые | E15: Главный Фестиваль НТС | F15: + | G15: 1 | H15: + | I15: 1 | J15: + | K15: 1
B16: =CONCATENATE(IF(F16<>"",G16,0),IF(H16<>"",I16,0),IF(J16<>"",K16,0)) -> 111 | C16: Сеньоры | E16: Главный Фестиваль НТС | F16: + | G16: 1 | H16: + | I16: 1 | J16: + | K16: 1
B18: Руководство жюри главных фестивалей
C20: Председатель жюри | E20: Фамилия Имя | H20: =IF(ISNA(Рабочий!J20),"Проверьте, пожалуйста, правильность написания 'Фамилии Имени'. Если все верно, то о судье отсутствуют данные о статусе (должность, судейская категория), внесите, пожалуйста их в данное поле",Рабочий!K20)
C23: Заместитель председателя жюри | E23: Фамилия Имя | H23: =IF(ISNA(Рабочий!J23),"Проверьте, пожалуйста, правильность написания 'Фамилии Имени'. Если все верно, то о судье отсутствуют данные о статусе (должность, судейская категория), внесите, пожалуйста их в данное поле",Рабочий!K23)
C26: Заместитель председателя жюри | E26: Фамилия Имя | H26: =IF(ISNA(Рабочий!J26),"Проверьте, пожалуйста, правильность написания 'Фамилии Имени'. Если все верно, то о судье отсутствуют данные о статусе (должность, судейская категория), внесите, пожалуйста их в данное поле",Рабочий!K26)
C29: Главный секретарь | E29: Фамилия Имя | H29: =IF(ISNA(Рабочий!J29),"Проверьте, пожалуйста, правильность написания 'Фамилии Имени'. Если все верно, то о судье отсутствуют данные о статусе (должность, судейская категория), внесите, пожалуйста их в данное поле",Рабочий!K29)
C32: Способ проведения
C33: начиная с ¼ финала фестиваль в каждом возрасте и программе проходит по отдельным танцам, то есть с финалом в каждом отдельном танце, при этом программа исполняется без сокращений.
C35: Допуск по возрастам
C36: В рейтинговых фестивалях допускается участие танцоров на одну возрастную группу выше
C38: Условия зачета и награждения
C39: Ранжирование определяется в каждой возрастной группе: Финалисты награждаются дипломами. 1-3 места в возрастной группе в каждом виде танцев награждаются кубками, медалями.

Sheet ПРОФЕССИОНАЛЫ
D2: Форма проведения | E2: Профессионалы | K2: Поставить «+» если форма используется
B5: Заполните, пожалуйста, необходимые поля. Заполняться могут только поля с белым фоном!!!
C7: Возрастные категории | E7: Уточнение по статусу, рангу для категории | F7: ST | G7: День | H7: LA | I7: День | J7: 10 танцев | K7: День
F8: (+ если есть) | G8: (1 или 2) | H8: (+ если есть) | I8: (1 или 2) | J8: (+ если есть) | K8: (1 или 2)
B9: =CONCATENATE(IF(F9<>"",G9,0),IF(H9<>"",I9,0),IF(J9<>"",K9,0)) -> 111 | C9: Профессионалы | E9: Гран-При НТС | F9: + | G9: 1 | H9: + | I9: 1 | J9: + | K9: 1
B10: =CONCATENATE(IF(F10<>"",G10,0),IF(H10<>"",I10,0),IF(J10<>"",K10,0)) -> 111 | C10: Профессионалы | E10: Главный Фестиваль НТС | F10: + | G10: 1 | H10: + | I10: 1 | J10: + | K10: 1
B12: Руководство жюри
C14: Председатель жюри | E14: Фамилия Имя | H14: =IF(ISNA(Рабочий!J30),"Проверьте, пожалуйста, правильность написания 'Фамилии Имени'. Если все верно, то о судье отсутствуют данные о статусе (должность, судейская категория), внесите, пожалуйста их в данное поле",Рабочий!K30)
C17: Заместитель председателя жюри | E17: Фамилия Имя | H17: =IF(ISNA(Рабочий!J33),"Проверьте, пожалуйста, правильность написания 'Фамилии Имени'. Если все верно, то о судье отсутствуют данные о статусе (должность, судейская категория), внесите, пожалуйста их в данное поле",Рабочий!K33)
H19: `
C20: Главный секретарь | E20: Фамилия Имя | H20: =IF(ISNA(Рабочий!J36),"Проверьте, пожалуйста, правильность написания 'Фамилии Имени'. Если все верно, то о судье отсутствуют данные о статусе (должность, судейская категория), внесите, пожалуйста их в данное поле",Рабочий!K36)
C23: Условия зачета и награждения
C24: Ранжирование производится в каждой возрастной группе: Финалисты награждаются дипломами. 1-3 места в возрастной группе в каждом виде спортивных танцев награждаются кубками, медалями.

Sheet American Smooth
D2: Форма проведения | E2: American Smooth | K2: Поставить «+» если форма используется
B5: Заполните, пожалуйста, необходимые поля. Заполняться могут только поля с белым фоном!!!
C7: Возрастные категории | E7: Уточнение по статусу, рангу для категории | F7: (+ если есть) | G7: День
G8: (1 или 2)
B9: =CONCATENATE(IF(F9<>"",G9,0),"00") -> 000 | C9: Ювеналы | G9: 1
B10: =CONCATENATE(IF(F10<>"",G10,0),"00") -> 000 | C10: Юниоры | G10: 1
B11: =CONCATENATE(IF(F11<>"",G11,0),"00") -> 000 | C11: Молодежь | G11: 1
B12: =CONCATENATE(IF(F12<>"",G12,0),"00") -> 000 | C12: Взрослые | G12: 1
B13: =CONCATENATE(IF(F13<>"",G13,0),"00") -> 000 | C13: Профессионалы | G13: 1
B14: =CONCATENATE(IF(F14<>"",G14,0),"00") -> 000 | G14: 1
B15: =CONCATENATE(IF(F15<>"",G15,0),"00") -> 000 | G15: 1
B16: =CONCATENATE(IF(F16<>"",G16,0),"00") -> 000 | G16: 1
B18: Руководство жюри American Smooth
C20: Председатель жюри | E20: Фамилия Имя | H20: =IF(ISNA(Рабочий!M57),"Проверьте, пожалуйста, правильность написания 'Фамилии Имени'. Если все верно, то о судье отсутствуют данные о статусе (должность, судейская категория), внесите, пожалуйста их в данное поле",Рабочий!N57) -> М-категория
C23: Заместитель председателя жюри | E23: Фамилия Имя | H23: =IF(ISNA(Рабочий!M60),"Проверьте, пожалуйста, правильность написания 'Фамилии Имени'. Если все верно, то о судье отсутствуют данные о статусе (должность, судейская категория), внесите, пожалуйста их в данное поле",Рабочий!N60) -> М-категория
C26: Заместитель председателя жюри | E26: Фамилия Имя | H26: =IF(ISNA(Рабочий!M63),"Проверьте, пожалуйста, правильность написания 'Фамилии Имени'. Если все верно, то о судье отсутствуют данные о статусе (должность, судейская категория), внесите, пожалуйста их в данное поле",Рабочий!N63) -> М-категория
C29: Главный секретарь | E29: Фамилия Имя | H29: =IF(ISNA(Рабочий!M66),"Проверьте, пожалуйста, правильность написания 'Фамилии Имени'. Если все верно, то о судье отсутствуют данные о статусе (должность, судейская категория), внесите, пожалуйста их в данное поле",Рабочий!N66) -> М-категория
C32: Способ проведения соревнований
C33: начиная с ¼ финала турнир в каждом возрасте и программе проходит по отдельным танцам, то есть с финалом в каждом отдельном танце, при этом программа исполняется без сокращений.
C35: Допуск по возрастам
C36: в соответствии с правилами РТС в рейтинговых соревнованиях допускается участие танцоров на одну возрастную группу выше
C38: Условия зачета и награждения
C39: Личное первенство определяется в каждой возрастной группе: Финалисты награждаются дипломами. 1-3 места в возрастной группе в каждом виде спортивных танцев награждаются кубками, медалями.

Sheet American Smooth соло
D2: Форма проведения | E2: American Smooth соло | K2: Поставить «+» если форма используется
B5: Заполните, пожалуйста, необходимые поля. Заполняться могут только поля с белым фоном!!!
C7: Возрастные категории | E7: Уточнение по статусу, рангу для категории | F7: (+ если есть) | G7: День
G8: (1 или 2)
B9: =CONCATENATE(IF(F9<>"",G9,0),"00") -> 000 | C9: Ювеналы соло Ж | G9: 1
B10: =CONCATENATE(IF(F10<>"",G10,0),"00") -> 000 | C10: Юниоры соло Ж | G10: 1
B11: =CONCATENATE(IF(F11<>"",G11,0),"00") -> 000 | C11: Молодежь соло Ж | G11: 1
B12: =CONCATENATE(IF(F12<>"",G12,0),"00") -> 000 | C12: Взрослые соло Ж | G12: 1
B13: =CONCATENATE(IF(F13<>"",G13,0),"00") -> 000 | G13: 1
B14: =CONCATENATE(IF(F14<>"",G14,0),"00") -> 000 | G14: 1
B15: =CONCATENATE(IF(F15<>"",G15,0),"00") -> 000 | G15: 1
B16: =CONCATENATE(IF(F16<>"",G16,0),"00") -> 000 | G16: 1
B18: Руководство жюри American Smooth
C20: Председатель жюри | E20: Фамилия Имя | H20: =IF(ISNA(Рабочий!M57),"Проверьте, пожалуйста, правильность написания 'Фамилии Имени'. Если все верно, то о судье отсутствуют данные о статусе (должность, судейская категория), внесите, пожалуйста их в данное поле",Рабочий!N57) -> М-категория
C23: Заместитель председателя жюри | E23: Фамилия Имя | H23: =IF(ISNA(Рабочий!M60),"Проверьте, пожалуйста, правильность написания 'Фамилии Имени'. Если все верно, то о судье отсутствуют данные о статусе (должность, судейская категория), внесите, пожалуйста их в данное поле",Рабочий!N60) -> М-категория
C26: Заместитель председателя жюри | E26: Фамилия Имя | H26: =IF(ISNA(Рабочий!M63),"Проверьте, пожалуйста, правильность написания 'Фамилии Имени'. Если все верно, то о судье отсутствуют данные о статусе (должность, судейская категория), внесите, пожалуйста их в данное поле",Рабочий!N63) -> М-категория
C29: Главный секретарь | E29: Фамилия Имя | H29: =IF(ISNA(Рабочий!M66),"Проверьте, пожалуйста, правильность написания 'Фамилии Имени'. Если все верно, то о судье отсутствуют данные о статусе (должность, судейская категория), внесите, пожалуйста их в данное поле",Рабочий!N66) -> М-категория
C32: Способ проведения соревнований
C33: начиная с ¼ финала турнир в каждом возрасте и программе проходит по отдельным танцам, то есть с финалом в каждом отдельном танце, при этом программа исполняется без сокращений.
C35: Допуск по возрастам
C36: в соответствии с правилами РТС в рейтинговых соревнованиях допускается участие танцоров на одну возрастную группу выше
C38: Условия зачета и награждения
C39: Личное первенство определяется в каждой возрастной группе: Финалисты награждаются дипломами. 1-3 места в возрастной группе в каждом виде спортивных танцев награждаются кубками, медалями.

Sheet Программа 1 день
A1: Для заполнения таблицы для дополнительного зала прокрутите страницу вправо ==>
D2: Программа 00.00.0000 | M2: =D2 -> Программа 00.00.0000
D3: =IF('Общие данные'!H89<>"",'Общие данные'!E89,"") | M3: ДОПОЛНИТЕЛЬНЫЙ ЗАЛ
B4: Скрыть строку | C4: Индекс категории | D4: Категория | E4: Виды соревнований | F4: Отделения (вставить время начала в формате ЧЧ:ММ, ненужные удалить) | M4: Категория | N4: Виды соревнований | O4: Отделения (вставить время начала в формате ЧЧ:ММ, ненужные удалить)
E5: рег | F5: =CONCATENATE(TEXT(F6-'Общие данные'!$K$80,"HH:MM")," - ",TEXT(F6-'Общие данные'!$M$80,"HH:MM")) -> 08:00 - 09:00 | G5: =CONCATENATE(TEXT(G6-'Общие данные'!$K$80,"HH:MM")," - ",TEXT(G6-'Общие данные'!$M$80,"HH:MM")) -> 22:30 - 23:30 | H5: =CONCATENATE(TEXT(H6-'Общие данные'!$K$80,"HH:MM")," - ",TEXT(H6-'Общие данные'!$M$80,"HH:MM")) -> 22:30 - 23:30 | I5: =CONCATENATE(TEXT(I6-'Общие данные'!$K$80,"HH:MM")," - ",TEXT(I6-'Общие данные'!$M$80,"HH:MM")) -> 22:30 - 23:30 | J5: =CONCATENATE(TEXT(J6-'Общие данные'!$K$80,"HH:MM")," - ",TEXT(J6-'Общие данные'!$M$80,"HH:MM")) -> 22:30 - 23:30 | K5: =CONCATENATE(TEXT(K6-'Общие данные'!$K$80,"HH:MM")," - ",TEXT(K6-'Общие данные'!$M$80,"HH:MM")) -> 18:00 - 19:00 | N5: рег | O5: =CONCATENATE(TEXT(O6-'Общие данные'!$K$80,"HH:MM")," - ",TEXT(O6-'Общие данные'!$M$80,"HH:MM")) -> 08:00 - 09:00 | P5: =CONCATENATE(TEXT(P6-'Общие данные'!$K$80,"HH:MM")," - ",TEXT(P6-'Общие данные'!$M$80,"HH:MM")) -> 22:30 - 23:30 | Q5: =CONCATENATE(TEXT(Q6-'Общие данные'!$K$80,"HH:MM")," - ",TEXT(Q6-'Общие данные'!$M$80,"HH:MM")) -> 22:30 - 23:30 | R5: =CONCATENATE(TEXT(R6-'Общие данные'!$K$80,"HH:MM")," - ",TEXT(R6-'Общие данные'!$M$80,"HH:MM")) -> 22:30 - 23:30 | S5: =CONCATENATE(TEXT(S6-'Общие данные'!$K$80,"HH:MM")," - ",TEXT(S6-'Общие данные'!$M$80,"HH:MM")) -> 22:30 - 23:30 | T5: =CONCATENATE(TEXT(T6-'Общие данные'!$K$80,"HH:MM")," - ",TEXT(T6-'Общие данные'!$M$80,"HH:MM")) -> 18:00 - 19:00
E6: нач | F6: 0.39583333 | G6: 0 | H6: 0 | I6: 0 | J6: 0 | K6: 0.8125 | N6: нач | O6: 0.39583333 | P6: 0 | Q6: 0 | R6: 0 | S6: 0 | T6: 0.8125
B7: =IF(C7<=Рабочий!AE$1,INDEX(Рабочий!$Z$3:$Z$303,MATCH(C7,Рабочий!$AE$3:$AE$303,0)),0) -> 0 | C7: 1 | D7: =IF(C7<=Рабочий!AE$1,INDEX(Рабочий!$AA$3:$AA$303,MATCH(C7,Рабочий!$AE$3:$AE$303,0)),"") | E7: =IF(D7<>"",INDEX(Рабочий!$AF$3:$AF$303,MATCH(C7,Рабочий!$AE$3:$AE$303,0)),"") | M7: =D7 | N7: =E7
B8: =IF(C8<=Рабочий!AE$1,INDEX(Рабочий!$Z$3:$Z$303,MATCH(C8,Рабочий!$AE$3:$AE$303,0)),0) -> 0 | C8: =C7+1 -> 2 | D8: =IF(C8<=Рабочий!AE$1,INDEX(Рабочий!$AA$3:$AA$303,MATCH(C8,Рабочий!$AE$3:$AE$303,0)),"") | E8: =IF(D8<>"",INDEX(Рабочий!$AF$3:$AF$303,MATCH(C8,Рабочий!$AE$3:$AE$303,0)),"") | M8: =D8 | N8: =E8
B9: =IF(C9<=Рабочий!AE$1,INDEX(Рабочий!$Z$3:$Z$303,MATCH(C9,Рабочий!$AE$3:$AE$303,0)),0) -> 0 | C9: =C8+1 -> 3 | D9: =IF(C9<=Рабочий!AE$1,INDEX(Рабочий!$AA$3:$AA$303,MATCH(C9,Рабочий!$AE$3:$AE$303,0)),"") | E9: =IF(D9<>"",INDEX(Рабочий!$AF$3:$AF$303,MATCH(C9,Рабочий!$AE$3:$AE$303,0)),"") | M9: =D9 | N9: =E9
B10: =IF(C10<=Рабочий!AE$1,INDEX(Рабочий!$Z$3:$Z$303,MATCH(C10,Рабочий!$AE$3:$AE$303,0)),0) -> 0 | C10: =C9+1 -> 4 | D10: =IF(C10<=Рабочий!AE$1,INDEX(Рабочий!$AA$3:$AA$303,MATCH(C10,Рабочий!$AE$3:$AE$303,0)),"") | E10: =IF(D10<>"",INDEX(Рабочий!$AF$3:$AF$303,MATCH(C10,Рабочий!$AE$3:$AE$303,0)),"") | M10: =D10 | N10: =E10
B11: =IF(C11<=Рабочий!AE$1,INDEX(Рабочий!$Z$3:$Z$303,MATCH(C11,Рабочий!$AE$3:$AE$303,0)),0) -> 0 | C11: =C10+1 -> 5 | D11: =IF(C11<=Рабочий!AE$1,INDEX(Рабочий!$AA$3:$AA$303,MATCH(C11,Рабочий!$AE$3:$AE$303,0)),"") | E11: =IF(D11<>"",INDEX(Рабочий!$AF$3:$AF$303,MATCH(C11,Рабочий!$AE$3:$AE$303,0)),"") | M11: =D11 | N11: =E11
B12: =IF(C12<=Рабочий!AE$1,INDEX(Рабочий!$Z$3:$Z$303,MATCH(C12,Рабочий!$AE$3:$AE$303,0)),0) -> 0 | C12: =C11+1 -> 6 | D12: =IF(C12<=Рабочий!AE$1,INDEX(Рабочий!$AA$3:$AA$303,MATCH(C12,Рабочий!$AE$3:$AE$303,0)),"") | E12: =IF(D12<>"",INDEX(Рабочий!$AF$3:$AF$303,MATCH(C12,Рабочий!$AE$3:$AE$303,0)),"") | M12: =D12 | N12: =E12
B13: =IF(C13<=Рабочий!AE$1,INDEX(Рабочий!$Z$3:$Z$303,MATCH(C13,Рабочий!$AE$3:$AE$303,0)),0) -> 0 | C13: =C12+1 -> 7 | D13: =IF(C13<=Рабочий!AE$1,INDEX(Рабочий!$AA$3:$AA$303,MATCH(C13,Рабочий!$AE$3:$AE$303,0)),"") | E13: =IF(D13<>"",INDEX(Рабочий!$AF$3:$AF$303,MATCH(C13,Рабочий!$AE$3:$AE$303,0)),"") | M13: =D13 | N13: =E13
B14: =IF(C14<=Рабочий!AE$1,INDEX(Рабочий!$Z$3:$Z$303,MATCH(C14,Рабочий!$AE$3:$AE$303,0)),0) -> 0 | C14: =C13+1 -> 8 | D14: =IF(C14<=Рабочий!AE$1,INDEX(Рабочий!$AA$3:$AA$303,MATCH(C14,Рабочий!$AE$3:$AE$303,0)),"") | E14: =IF(D14<>"",INDEX(Рабочий!$AF$3:$AF$303,MATCH(C14,Рабочий!$AE$3:$AE$303,0)),"") | M14: =D14 | N14: =E14
B15: =IF(C15<=Рабочий!AE$1,INDEX(Рабочий!$Z$3:$Z$303,MATCH(C15,Рабочий!$AE$3:$AE$303,0)),0) -> 0 | C15: =C14+1 -> 9 | D15: =IF(C15<=Рабочий!AE$1,INDEX(Рабочий!$AA$3:$AA$303,MATCH(C15,Рабочий!$AE$3:$AE$303,0)),"") | E15: =IF(D15<>"",INDEX(Рабочий!$AF$3:$AF$303,MATCH(C15,Рабочий!$AE$3:$AE$303,0)),"") | M15: =D15 | N15: =E15
B16: =IF(C16<=Рабочий!AE$1,INDEX(Рабочий!$Z$3:$Z$303,MATCH(C16,Рабочий!$AE$3:$AE$303,0)),0) -> 0 | C16: =C15+1 -> 10 | D16: =IF(C16<=Рабочий!AE$1,INDEX(Рабочий!$AA$3:$AA$303,MATCH(C16,Рабочий!$AE$3:$AE$303,0)),"") | E16: =IF(D16<>"",INDEX(Рабочий!$AF$3:$AF$303,MATCH(C16,Рабочий!$AE$3:$AE$303,0)),"") | M16: =D16 | N16: =E16
B17: =IF(C17<=Рабочий!AE$1,INDEX(Рабочий!$Z$3:$Z$303,MATCH(C17,Рабочий!$AE$3:$AE$303,0)),0) -> 0 | C17: =C16+1 -> 11 | D17: =IF(C17<=Рабочий!AE$1,INDEX(Рабочий!$AA$3:$AA$303,MATCH(C17,Рабочий!$AE$3:$AE$303,0)),"") | E17: =IF(D17<>"",INDEX(Рабочий!$AF$3:$AF$303,MATCH(C17,Рабочий!$AE$3:$AE$303,0)),"") | M17: =D17 | N17: =E17
B18: =IF(C18<=Рабочий!AE$1,INDEX(Рабочий!$Z$3:$Z$303,MATCH(C18,Рабочий!$AE$3:$AE$303,0)),0) -> 0 | C18: =C17+1 -> 12 | D18: =IF(C18<=Рабочий!AE$1,INDEX(Рабочий!$AA$3:$AA$303,MATCH(C18,Рабочий!$AE$3:$AE$303,0)),"") | E18: =IF(D18<>"",INDEX(Рабочий!$AF$3:$AF$303,MATCH(C18,Рабочий!$AE$3:$AE$303,0)),"") | M18: =D18 | N18: =E18
B19: =IF(C19<=Рабочий!AE$1,INDEX(Рабочий!$Z$3:$Z$303,MATCH(C19,Рабочий!$AE$3:$AE$303,0)),0) -> 0 | C19: =C18+1 -> 13 | D19: =IF(C19<=Рабочий!AE$1,INDEX(Рабочий!$AA$3:$AA$303,MATCH(C19,Рабочий!$AE$3:$AE$303,0)),"") | E19: =IF(D19<>"",INDEX(Рабочий!$AF$3:$AF$303,MATCH(C19,Рабочий!$AE$3:$AE$303,0)),"") | M19: =D19 | N19: =E19
... B153: =IF(C153<=Рабочий!AE$1,INDEX(Рабочий!$Z$3:$Z$303,MATCH(C153,Рабочий!$AE$3:$AE$303,0)),0) -> 0 | C153: =C152+1 -> 147 | D153: =IF(C153<=Рабочий!AE$1,INDEX(Рабочий!$AA$3:$AA$303,MATCH(C153,Рабочий!$AE$3:$AE$303,0)),"") | E153: =IF(D153<>"",INDEX(Рабочий!$AF$3:$AF$303,MATCH(C153,Рабочий!$AE$3:$AE$303,0)),"") | M153: =D153 | N153: =E153

Sheet Программа 2 день
A1: Для заполнения таблицы для дополнительного зала прокрутите страницу вправо ==>
D2: Программа 00.00.0000 | M2: =D2 -> Программа 00.00.0000
D3: =IF('Общие данные'!H89<>"",'Общие данные'!E89,"") | M3: ДОПОЛНИТЕЛЬНЫЙ ЗАЛ
B4: Скрыть строку | C4: Индекс категории | D4: Категория | E4: Виды соревнований | F4: Отделения (вставить время начала в формате ЧЧ:ММ, ненужные удалить) | M4: Категория | N4: Виды соревнований | O4: Отделения (вставить время начала в формате ЧЧ:ММ, ненужные удалить)
E5: рег | F5: 08:00 - 08:45 | G5: 22:30 - 23:15 | H5: 22:30 - 23:15 | I5: 22:30 - 23:15 | J5: 22:30 - 23:15 | K5: 18:00 - 18:45 | N5: рег | O5: 08:00 - 08:45 | P5: 22:30 - 23:15 | Q5: 22:30 - 23:15 | R5: 22:30 - 23:15 | S5: 22:30 - 23:15 | T5: 18:00 - 18:45
E6: нач | F6: 0.39583333 | G6: 0 | H6: 0 | I6: 0 | J6: 0 | K6: 0.8125 | N6: нач | O6: 0.39583333 | P6: 0 | Q6: 0 | R6: 0 | S6: 0 | T6: 0.8125
B7: =IF(C7<=Рабочий!AH$1,INDEX(Рабочий!$Z$3:$Z$303,MATCH(C7,Рабочий!$AH$3:$AH$303,0)),0) -> 0 | C7: 1 | D7: =IF(C7<=Рабочий!AH$1,INDEX(Рабочий!$AA$3:$AA$303,MATCH(C7,Рабочий!$AH$3:$AH$303,0)),"") | E7: =IF(D7<>"",INDEX(Рабочий!$AI$3:$AI$303,MATCH(C7,Рабочий!$AH$3:$AH$303,0)),"") | M7: =D7 | N7: =E7
B8: =IF(C8<=Рабочий!AH$1,INDEX(Рабочий!$Z$3:$Z$303,MATCH(C8,Рабочий!$AH$3:$AH$303,0)),0) -> 0 | C8: =C7+1 -> 2 | D8: =IF(C8<=Рабочий!AH$1,INDEX(Рабочий!$AA$3:$AA$303,MATCH(C8,Рабочий!$AH$3:$AH$303,0)),"") | E8: =IF(D8<>"",INDEX(Рабочий!$AI$3:$AI$303,MATCH(C8,Рабочий!$AH$3:$AH$303,0)),"") | M8: =D8 | N8: =E8
B9: =IF(C9<=Рабочий!AH$1,INDEX(Рабочий!$Z$3:$Z$303,MATCH(C9,Рабочий!$AH$3:$AH$303,0)),0) -> 0 | C9: =C8+1 -> 3 | D9: =IF(C9<=Рабочий!AH$1,INDEX(Рабочий!$AA$3:$AA$303,MATCH(C9,Рабочий!$AH$3:$AH$303,0)),"") | E9: =IF(D9<>"",INDEX(Рабочий!$AI$3:$AI$303,MATCH(C9,Рабочий!$AH$3:$AH$303,0)),"") | M9: =D9 | N9: =E9
B10: =IF(C10<=Рабочий!AH$1,INDEX(Рабочий!$Z$3:$Z$303,MATCH(C10,Рабочий!$AH$3:$AH$303,0)),0) -> 0 | C10: =C9+1 -> 4 | D10: =IF(C10<=Рабочий!AH$1,INDEX(Рабочий!$AA$3:$AA$303,MATCH(C10,Рабочий!$AH$3:$AH$303,0)),"") | E10: =IF(D10<>"",INDEX(Рабочий!$AI$3:$AI$303,MATCH(C10,Рабочий!$AH$3:$AH$303,0)),"") | M10: =D10 | N10: =E10
B11: =IF(C11<=Рабочий!AH$1,INDEX(Рабочий!$Z$3:$Z$303,MATCH(C11,Рабочий!$AH$3:$AH$303,0)),0) -> 0 | C11: =C10+1 -> 5 | D11: =IF(C11<=Рабочий!AH$1,INDEX(Рабочий!$AA$3:$AA$303,MATCH(C11,Рабочий!$AH$3:$AH$303,0)),"") | E11: =IF(D11<>"",INDEX(Рабочий!$AI$3:$AI$303,MATCH(C11,Рабочий!$AH$3:$AH$303,0)),"") | M11: =D11 | N11: =E11
B12: =IF(C12<=Рабочий!AH$1,INDEX(Рабочий!$Z$3:$Z$303,MATCH(C12,Рабочий!$AH$3:$AH$303,0)),0) -> 0 | C12: =C11+1 -> 6 | D12: =IF(C12<=Рабочий!AH$1,INDEX(Рабочий!$AA$3:$AA$303,MATCH(C12,Рабочий!$AH$3:$AH$303,0)),"") | E12: =IF(D12<>"",INDEX(Рабочий!$AI$3:$AI$303,MATCH(C12,Рабочий!$AH$3:$AH$303,0)),"") | M12: =D12 | N12: =E12
B13: =IF(C13<=Рабочий!AH$1,INDEX(Рабочий!$Z$3:$Z$303,MATCH(C13,Рабочий!$AH$3:$AH$303,0)),0) -> 0 | C13: =C12+1 -> 7 | D13: =IF(C13<=Рабочий!AH$1,INDEX(Рабочий!$AA$3:$AA$303,MATCH(C13,Рабочий!$AH$3:$AH$303,0)),"") | E13: =IF(D13<>"",INDEX(Рабочий!$AI$3:$AI$303,MATCH(C13,Рабочий!$AH$3:$AH$303,0)),"") | M13: =D13 | N13: =E13
B14: =IF(C14<=Рабочий!AH$1,INDEX(Рабочий!$Z$3:$Z$303,MATCH(C14,Рабочий!$AH$3:$AH$303,0)),0) -> 0 | C14: =C13+1 -> 8 | D14: =IF(C14<=Рабочий!AH$1,INDEX(Рабочий!$AA$3:$AA$303,MATCH(C14,Рабочий!$AH$3:$AH$303,0)),"") | E14: =IF(D14<>"",INDEX(Рабочий!$AI$3:$AI$303,MATCH(C14,Рабочий!$AH$3:$AH$303,0)),"") | M14: =D14 | N14: =E14
B15: =IF(C15<=Рабочий!AH$1,INDEX(Рабочий!$Z$3:$Z$303,MATCH(C15,Рабочий!$AH$3:$AH$303,0)),0) -> 0 | C15: =C14+1 -> 9 | D15: =IF(C15<=Рабочий!AH$1,INDEX(Рабочий!$AA$3:$AA$303,MATCH(C15,Рабочий!$AH$3:$AH$303,0)),"") | E15: =IF(D15<>"",INDEX(Рабочий!$AI$3:$AI$303,MATCH(C15,Рабочий!$AH$3:$AH$303,0)),"") | M15: =D15 | N15: =E15
B16: =IF(C16<=Рабочий!AH$1,INDEX(Рабочий!$Z$3:$Z$303,MATCH(C16,Рабочий!$AH$3:$AH$303,0)),0) -> 0 | C16: =C15+1 -> 10 | D16: =IF(C16<=Рабочий!AH$1,INDEX(Рабочий!$AA$3:$AA$303,MATCH(C16,Рабочий!$AH$3:$AH$303,0)),"") | E16: =IF(D16<>"",INDEX(Рабочий!$AI$3:$AI$303,MATCH(C16,Рабочий!$AH$3:$AH$303,0)),"") | M16: =D16 | N16: =E16
B17: =IF(C17<=Рабочий!AH$1,INDEX(Рабочий!$Z$3:$Z$303,MATCH(C17,Рабочий!$AH$3:$AH$303,0)),0) -> 0 | C17: =C16+1 -> 11 | D17: =IF(C17<=Рабочий!AH$1,INDEX(Рабочий!$AA$3:$AA$303,MATCH(C17,Рабочий!$AH$3:$AH$303,0)),"") | E17: =IF(D17<>"",INDEX(Рабочий!$AI$3:$AI$303,MATCH(C17,Рабочий!$AH$3:$AH$303,0)),"") | M17: =D17 | N17: =E17
B18: =IF(C18<=Рабочий!AH$1,INDEX(Рабочий!$Z$3:$Z$303,MATCH(C18,Рабочий!$AH$3:$AH$303,0)),0) -> 0 | C18: =C17+1 -> 12 | D18: =IF(C18<=Рабочий!AH$1,INDEX(Рабочий!$AA$3:$AA$303,MATCH(C18,Рабочий!$AH$3:$AH$303,0)),"") | E18: =IF(D18<>"",INDEX(Рабочий!$AI$3:$AI$303,MATCH(C18,Рабочий!$AH$3:$AH$303,0)),"") | M18: =D18 | N18: =E18
B19: =IF(C19<=Рабочий!AH$1,INDEX(Рабочий!$Z$3:$Z$303,MATCH(C19,Рабочий!$AH$3:$AH$303,0)),0) -> 0 | C19: =C18+1 -> 13 | D19: =IF(C19<=Рабочий!AH$1,INDEX(Рабочий!$AA$3:$AA$303,MATCH(C19,Рабочий!$AH$3:$AH$303,0)),"") | E19: =IF(D19<>"",INDEX(Рабочий!$AI$3:$AI$303,MATCH(C19,Рабочий!$AH$3:$AH$303,0)),"") | M19: =D19 | N19: =E19
... B153: =IF(C153<=Рабочий!AH$1,INDEX(Рабочий!$Z$3:$Z$303,MATCH(C153,Рабочий!$AH$3:$AH$303,0)),0) -> 0 | C153: =C152+1 -> 147 | D153: =IF(C153<=Рабочий!AH$1,INDEX(Рабочий!$AA$3:$AA$303,MATCH(C153,Рабочий!$AH$3:$AH$303,0)),"") | E153: =IF(D153<>"",INDEX(Рабочий!$AI$3:$AI$303,MATCH(C153,Рабочий!$AH$3:$AH$303,0)),"") | M153: =D153 | N153: =E153

Sheet Рабочий
